Workbook
Name Laskin: 'PILP-laskin'!$A$12:$E$67
Name Taulu: 'Hki-2012'!$K$107:$Q$133
Name Tulokset: 'Hki-2012'!$A$82:$Q$128

Sheet Ilmanvaihto
A1: Aputaulukot, joilla voidaan laskea lämpöhäviöiden tasauslaskennassa tarvittavat | G1: Rakennuskohde | H1: RET-pientalo
A2: keskimääräiset poistoilmavirrat ja ilmanvaihdon lämmöntalteenoton (LTO) vuosihyötysuhteet, | G2: Rakennuslupatunnus | H2: Esimerkki
A3: kun rakennuksessa on useita ilmanvaihtokoneita ja niillä erilaisia käyttöaikoja. | G3: Rakennustyyppi | H3: 1-kerroksinen pientalo, ikkunapinta-ala 15 % kerrostasoalasta.
G4: Pääsuunnittelija | H4: Nibbe Niilanen
G5: Laskelman tekijä | H5: Lemmi Pumppu
A6: Taulukko 1. Poistoilman lämmöntalteenottovaatimuksen piiriin kuuluvat lämpimien tilojen ilmanvaihtokoneet | G6: Päiväys | H6: 42825
A7: Taulukko 2. Poistoilman lämmöntalteenottovaatimuksen piiriin kuulumattomat lämpimien tilojen ilmanvaihtokoneet
A8: Taulukko 3. Poistoilman lämmöntalteenottovaatimuksen piiriin kuuluvat puolilämpimien tilojen ilmanvaihtokoneet | L8: TASAUSLASKENTA-LOMAKKEESEEN
A9: Taulukko 4. Poistoilman lämmöntalteenottovaatimuksen piiriin kuulumattomat puolilämpimien tilojen ilmanvaihtokoneet
K10: Poistoilmavirta, m³ [qv, p] | L10: Ilmanvaihdon LTO:n vuosihyötysuhde, % [ηa] | M10: Ilmanvaihtojärjestelmän ominaissähköteho, kW/(m³/s) | N10: Ilmanvaihtojärjestelmän sähkönkulutus, kWh/a
A11: Taulukko 1. Lämpimät tilat | K11: =SUM(K15:K39) -> 0.074833333 | L11: =P13/(K11+1E-50) -> 0.6701559 | M11: =N11/8760/(K11+1E-50) -> 1.7884187 | N11: =SUM(N15:N39) -> 1172.38
A12: Poistoilman lämmöntalteenottovaatimuksen | C12: Käyttötapa | D12: Mitoitus- | E12: Mitoitus- | F12: Käyttö- | G12: Käyttöajan | H12: Käyntiaikatekijät | K12: Käyntiajoilla | L12: Ilmanvaihtokoneen | M12: Ilmanvaihtokoneen | N12: Ilmanvaihtokoneen | P12: Apusarake
A13: piiriin kuuluvat ilmanvaihtokoneet | D13: ulkoilmavirta | E13: poistoilmavirta | F13: iImavirta- | G13: keskimääräinen | H13: td | I13: tw | K13: painotettu | L13: LTO:n vuosihyötysuhde, | M13: ominaissähköteho | N13: sähkönkulutus, | P13: =SUM(P15:P39) -> 0.05015
A14: Kone | B14: Palvelualue | D14: m³/s | E14: m³/s | F14: kerroin | G14: poistoilmavirta, m³/s | H14: h/vrk | I14: vrk/vko | K14: poistoilmavirta, m³/s | L14: % [ηa, ivkone] | M14: kW/(m³/s) | N14: kWh/a
A15: PILP | B15: Koko rakennus | C15: Jatk.käyttö | D15: 0.053 | E15: 0.059 | F15: 1 | G15: =F15*E15 -> 0.059 | H15: 24 | I15: 7 | J15: 1 | K15: =G15*H15/24*I15/7*J15 -> 0.059 | L15: 0.85 | M15: 2 | N15: =(D15>E15)*(D15/(E15+1E-50)*M15*K15*8760)+(D15<=E15)*(M15*K15*8760) -> 1033.68 | P15: =K15*L15 -> 0.05015
A16: Huippuimuri | B16: Keittiön liesikupu | C16: Tehostus | E16: 0.08 | F16: 1 | G16: =F16*E16 -> 0.08 | H16: 2 | I16: 7 | J16: 1 | K16: =G16*H16/24*I16/7*J16 -> 0.0066666667 | L16: 0 | M16: 1 | N16: =(D16>E16)*(D16/(E16+1E-50)*M16*K16*8760)+(D16<=E16)*(M16*K16*8760) -> 58.4 | P16: =K16*L16 -> 0
A17: - " - | B17: - " - | C17: Muulloin | E17: 0.01 | F17: 1 | G17: =F17*E17 -> 0.01 | H17: 22 | I17: 7 | J17: 1 | K17: =G17*H17/24*I17/7*J17 -> 0.0091666667 | L17: 0 | M17: 1 | N17: =(D17>E17)*(D17/(E17+1E-50)*M17*K17*8760)+(D17<=E17)*(M17*K17*8760) -> 80.3 | P17: =K17*L17 -> 0
G18: =F18*E18 -> 0 | J18: 1 | K18: =G18*H18/24*I18/7*J18 -> 0 | N18: =(D18>E18)*(D18/(E18+1E-50)*M18*K18*8760)+(D18<=E18)*(M18*K18*8760) -> 0 | P18: =K18*L18 -> 0
G19: =F19*E19 -> 0 | J19: 1 | K19: =G19*H19/24*I19/7*J19 -> 0 | N19: =(D19>E19)*(D19/(E19+1E-50)*M19*K19*8760)+(D19<=E19)*(M19*K19*8760) -> 0 | P19: =K19*L19 -> 0
G20: =F20*E20 -> 0 | J20: 1 | K20: =G20*H20/24*I20/7*J20 -> 0 | N20: =(D20>E20)*(D20/(E20+1E-50)*M20*K20*8760)+(D20<=E20)*(M20*K20*8760) -> 0 | P20: =K20*L20 -> 0
G21: =F21*E21 -> 0 | J21: 1 | K21: =G21*H21/24*I21/7*J21 -> 0 | N21: =(D21>E21)*(D21/(E21+1E-50)*M21*K21*8760)+(D21<=E21)*(M21*K21*8760) -> 0 | P21: =K21*L21 -> 0
G22: =F22*E22 -> 0 | J22: 1 | K22: =G22*H22/24*I22/7*J22 -> 0 | N22: =(D22>E22)*(D22/(E22+1E-50)*M22*K22*8760)+(D22<=E22)*(M22*K22*8760) -> 0 | P22: =K22*L22 -> 0
G23: =F23*E23 -> 0 | J23: 1 | K23: =G23*H23/24*I23/7*J23 -> 0 | N23: =(D23>E23)*(D23/(E23+1E-50)*M23*K23*8760)+(D23<=E23)*(M23*K23*8760) -> 0 | P23: =K23*L23 -> 0
G24: =F24*E24 -> 0 | J24: 1 | K24: =G24*H24/24*I24/7*J24 -> 0 | N24: =(D24>E24)*(D24/(E24+1E-50)*M24*K24*8760)+(D24<=E24)*(M24*K24*8760) -> 0 | P24: =K24*L24 -> 0
G25: =F25*E25 -> 0 | J25: 1 | K25: =G25*H25/24*I25/7*J25 -> 0 | N25: =(D25>E25)*(D25/(E25+1E-50)*M25*K25*8760)+(D25<=E25)*(M25*K25*8760) -> 0 | P25: =K25*L25 -> 0
G26: =F26*E26 -> 0 | J26: 1 | K26: =G26*H26/24*I26/7*J26 -> 0 | N26: =(D26>E26)*(D26/(E26+1E-50)*M26*K26*8760)+(D26<=E26)*(M26*K26*8760) -> 0 | P26: =K26*L26 -> 0
G27: =F27*E27 -> 0 | J27: 1 | K27: =G27*H27/24*I27/7*J27 -> 0 | N27: =(D27>E27)*(D27/(E27+1E-50)*M27*K27*8760)+(D27<=E27)*(M27*K27*8760) -> 0 | P27: =K27*L27 -> 0
G28: =F28*E28 -> 0 | J28: 1 | K28: =G28*H28/24*I28/7*J28 -> 0 | N28: =(D28>E28)*(D28/(E28+1E-50)*M28*K28*8760)+(D28<=E28)*(M28*K28*8760) -> 0 | P28: =K28*L28 -> 0
G29: =F29*E29 -> 0 | J29: 1 | K29: =G29*H29/24*I29/7*J29 -> 0 | N29: =(D29>E29)*(D29/(E29+1E-50)*M29*K29*8760)+(D29<=E29)*(M29*K29*8760) -> 0 | P29: =K29*L29 -> 0
... G39: =F39*E39 -> 0 | J39: 1 | K39: =G39*H39/24*I39/7*J39 -> 0 | N39: =(D39>E39)*(D39/(E39+1E-50)*M39*K39*8760)+(D39<=E39)*(M39*K39*8760) -> 0 | P39: =K39*L39 -> 0
A40: © Ympäristöministeriö, PILP-laskin 2018 (versio maaliskuu 2017)
K42: TASAUSLASKENTA-LOMAKKEESEEN
K44: Poistoilmavirta, m³ [qv, p] | M44: Ilmanvaihtojärjestelmän ominaissähköteho, kW/(m³/s) | N44: Ilmanvaihtojärjestelmän sähkönkulutus, kWh/a
A45: Taulukko 2. Lämpimät tilat | K45: =SUM(K49:K63) -> 0 | M45: =N45/8760/(K45+1E-50) -> 0 | N45: =SUM(N49:N63) -> 0
A46: Poistoilman lämmöntalteenottovaatimuksen | C46: Käyttötapa | D46: Mitoitus- | E46: Mitoitus- | F46: Käyttö- | G46: Käyttöajan | H46: Käyntiaikatekijät | K46: Käyntiajoilla | M46: Ilmanvaihtokoneen | N46: Ilmanvaihtokoneen
A47: piiriin kuulumattomat ilmanvaihtokoneet | D47: ulkoilmavirta | E47: poistoilmavirta | F47: iImavirta- | G47: keskimääräinen | H47: td | I47: tw | K47: painotettu | M47: ominaissähköteho | N47: sähkönkulutus,
A48: Kone | B48: Palvelualue | D48: m³/s | E48: m³/s | F48: kerroin | G48: poistoilmavirta, m³/s | H48: h/vrk | I48: vrk/vko | K48: poistoilmavirta, m³/s | M48: kW/(m³/s) | N48: kWh/a
G49: =F49*E49 -> 0 | J49: 1 | K49: =G49*H49/24*I49/7*J49 -> 0 | N49: =M49*K49*8760 -> 0
G50: =F50*E50 -> 0 | J50: 1 | K50: =G50*H50/24*I50/7*J50 -> 0 | N50: =M50*K50*8760 -> 0
G51: =F51*E51 -> 0 | J51: 1 | K51: =G51*H51/24*I51/7*J51 -> 0 | N51: =M51*K51*8760 -> 0
G52: =F52*E52 -> 0 | J52: 1 | K52: =G52*H52/24*I52/7*J52 -> 0 | N52: =M52*K52*8760 -> 0
G53: =F53*E53 -> 0 | J53: 1 | K53: =G53*H53/24*I53/7*J53 -> 0 | N53: =M53*K53*8760 -> 0
G54: =F54*E54 -> 0 | J54: 1 | K54: =G54*H54/24*I54/7*J54 -> 0 | N54: =M54*K54*8760 -> 0
G55: =F55*E55 -> 0 | J55: 1 | K55: =G55*H55/24*I55/7*J55 -> 0 | N55: =M55*K55*8760 -> 0
G56: =F56*E56 -> 0 | J56: 1 | K56: =G56*H56/24*I56/7*J56 -> 0 | N56: =M56*K56*8760 -> 0
G57: =F57*E57 -> 0 | J57: 1 | K57: =G57*H57/24*I57/7*J57 -> 0 | N57: =M57*K57*8760 -> 0
G58: =F58*E58 -> 0 | J58: 1 | K58: =G58*H58/24*I58/7*J58 -> 0 | N58: =M58*K58*8760 -> 0
G59: =F59*E59 -> 0 | J59: 1 | K59: =G59*H59/24*I59/7*J59 -> 0 | N59: =M59*K59*8760 -> 0
G60: =F60*E60 -> 0 | J60: 1 | K60: =G60*H60/24*I60/7*J60 -> 0 | N60: =M60*K60*8760 -> 0
... G63: =F63*E63 -> 0 | J63: 1 | K63: =G63*H63/24*I63/7*J63 -> 0 | N63: =M63*K63*8760 -> 0
A64: =A$40 -> © Ympäristöministeriö, PILP-laskin 2018 (versio maaliskuu 2017)
L66: TASAUSLASKENTA-LOMAKKEESEEN
K68: Poistoilmavirta, m³ [qv, p] | L68: Ilmanvaihdon LTO:n vuosihyötysuhde, % [ηa] | M68: Ilmanvaihtojärjestelmän ominaissähköteho, kW/(m³/s) | N68: Ilmanvaihtojärjestelmän sähkönkulutus, kWh/a
A69: Taulukko 3. Puolilämpimät tilat | K69: =SUM(K73:K97) -> 0 | L69: =P71/(K69+1E-50) -> 0 | M69: =N69/8760/(K69+1E-50) -> 0 | N69: =SUM(N73:N97) -> 0
A70: Poistoilman lämmöntalteenottovaatimuksen | C70: Käyttötapa | D70: Mitoitus- | E70: Mitoitus- | F70: Käyttö- | G70: Käyttöajan | H70: Käyntiaikatekijät | K70: Käyntiajoilla | L70: Ilmanvaihtokoneen | M70: Ilmanvaihtokoneen | N70: Ilmanvaihtokoneen | P70: Apusarake
A71: piiriin kuuluvat ilmanvaihtokoneet | D71: ulkoilmavirta | E71: poistoilmavirta | F71: iImavirta- | G71: keskimääräinen | H71: td | I71: tw | K71: painotettu | L71: LTO:n vuosihyötysuhde, | M71: ominaissähköteho | N71: sähkönkulutus, | P71: =SUM(P73:P97) -> 0
A72: Kone | B72: Palvelualue | D72: m³/s | E72: m³/s | F72: kerroin | G72: poistoilmavirta, m³/s | H72: h/vrk | I72: vrk/vko | K72: poistoilmavirta, m³/s | L72: % [ηa, ivkone] | M72: kW/(m³/s) | N72: kWh/a
G73: =F73*E73 -> 0 | J73: 1 | K73: =G73*H73/24*I73/7*J73 -> 0 | N73: =M73*K73*8760 -> 0 | P73: =K73*L73 -> 0
G74: =F74*E74 -> 0 | J74: 1 | K74: =G74*H74/24*I74/7*J74 -> 0 | N74: =M74*K74*8760 -> 0 | P74: =K74*L74 -> 0
G75: =F75*E75 -> 0 | J75: 1 | K75: =G75*H75/24*I75/7*J75 -> 0 | N75: =M75*K75*8760 -> 0 | P75: =K75*L75 -> 0
G76: =F76*E76 -> 0 | J76: 1 | K76: =G76*H76/24*I76/7*J76 -> 0 | N76: =M76*K76*8760 -> 0 | P76: =K76*L76 -> 0
G77: =F77*E77 -> 0 | J77: 1 | K77: =G77*H77/24*I77/7*J77 -> 0 | N77: =M77*K77*8760 -> 0 | P77: =K77*L77 -> 0
G78: =F78*E78 -> 0 | J78: 1 | K78: =G78*H78/24*I78/7*J78 -> 0 | N78: =M78*K78*8760 -> 0 | P78: =K78*L78 -> 0
G79: =F79*E79 -> 0 | J79: 1 | K79: =G79*H79/24*I79/7*J79 -> 0 | N79: =M79*K79*8760 -> 0 | P79: =K79*L79 -> 0
G80: =F80*E80 -> 0 | J80: 1 | K80: =G80*H80/24*I80/7*J80 -> 0 | N80: =M80*K80*8760 -> 0 | P80: =K80*L80 -> 0
G81: =F81*E81 -> 0 | J81: 1 | K81: =G81*H81/24*I81/7*J81 -> 0 | N81: =M81*K81*8760 -> 0 | P81: =K81*L81 -> 0
G82: =F82*E82 -> 0 | J82: 1 | K82: =G82*H82/24*I82/7*J82 -> 0 | N82: =M82*K82*8760 -> 0 | P82: =K82*L82 -> 0
G83: =F83*E83 -> 0 | J83: 1 | K83: =G83*H83/24*I83/7*J83 -> 0 | N83: =M83*K83*8760 -> 0 | P83: =K83*L83 -> 0
G84: =F84*E84 -> 0 | J84: 1 | K84: =G84*H84/24*I84/7*J84 -> 0 | N84: =M84*K84*8760 -> 0 | P84: =K84*L84 -> 0
... G97: =F97*E97 -> 0 | J97: 1 | K97: =G97*H97/24*I97/7*J97 -> 0 | N97: =M97*K97*8760 -> 0 | P97: =K97*L97 -> 0
A98: =A$40 -> © Ympäristöministeriö, PILP-laskin 2018 (versio maaliskuu 2017)
K100: TASAUSLASKENTA-LOMAKKEESEEN
K102: Poistoilmavirta, m³ [qv, p] | M102: Ilmanvaihtojärjestelmän ominaissähköteho, kW/(m³/s) | N102: Ilmanvaihtojärjestelmän sähkönkulutus, kWh/a
A103: Taulukko 4. Puolilämpimät tilat | M103: =N103/8760/(K103+1E-50) -> 0 | N103: =SUM(N107:N121) -> 0
A104: Poistoilman lämmöntalteenottovaatimuksen | C104: Käyttötapa | D104: Mitoitus- | E104: Mitoitus- | F104: Käyttö- | G104: Käyttöajan | H104: Käyntiaikatekijät | K104: Käyntiajoilla | M104: Ilmanvaihtokoneen | N104: Ilmanvaihtokoneen
A105: piiriin kuulumattomat ilmanvaihtokoneet | D105: ulkoilmavirta | E105: poistoilmavirta | F105: iImavirta- | G105: keskimääräinen | H105: td | I105: tw | K105: painotettu | M105: ominaissähköteho | N105: sähkönkulutus,
A106: Kone | B106: Palvelualue | D106: m³/s | E106: m³/s | F106: kerroin | G106: poistoilmavirta, m³/s | H106: h/vrk | I106: vrk/vko | K106: poistoilmavirta, m³/s | M106: kW/(m³/s) | N106: kWh/a
G107: =F107*E107 -> 0 | J107: 1 | K107: =G107*H107/24*I107/7*J107 -> 0 | N107: =M107*K107*8760 -> 0
G108: =F108*E108 -> 0 | J108: 1 | K108: =G108*H108/24*I108/7*J108 -> 0 | N108: =M108*K108*8760 -> 0
G109: =F109*E109 -> 0 | J109: 1 | K109: =G109*H109/24*I109/7*J109 -> 0 | N109: =M109*K109*8760 -> 0
G110: =F110*E110 -> 0 | J110: 1 | K110: =G110*H110/24*I110/7*J110 -> 0 | N110: =M110*K110*8760 -> 0
G111: =F111*E111 -> 0 | J111: 1 | K111: =G111*H111/24*I111/7*J111 -> 0 | N111: =M111*K111*8760 -> 0
G112: =F112*E112 -> 0 | J112: 1 | K112: =G112*H112/24*I112/7*J112 -> 0 | N112: =M112*K112*8760 -> 0
G113: =F113*E113 -> 0 | J113: 1 | K113: =G113*H113/24*I113/7*J113 -> 0 | N113: =M113*K113*8760 -> 0
G114: =F114*E114 -> 0 | J114: 1 | K114: =G114*H114/24*I114/7*J114 -> 0 | N114: =M114*K114*8760 -> 0
G115: =F115*E115 -> 0 | J115: 1 | K115: =G115*H115/24*I115/7*J115 -> 0 | N115: =M115*K115*8760 -> 0
G116: =F116*E116 -> 0 | J116: 1 | K116: =G116*H116/24*I116/7*J116 -> 0 | N116: =M116*K116*8760 -> 0
G117: =F117*E117 -> 0 | J117: 1 | K117: =G117*H117/24*I117/7*J117 -> 0 | N117: =M117*K117*8760 -> 0
G118: =F118*E118 -> 0 | J118: 1 | K118: =G118*H118/24*I118/7*J118 -> 0 | N118: =M118*K118*8760 -> 0
... G121: =F121*E121 -> 0 | J121: 1 | K121: =G121*H121/24*I121/7*J121 -> 0 | N121: =M121*K121*8760 -> 0
A122: =A$40 -> © Ympäristöministeriö, PILP-laskin 2018 (versio maaliskuu 2017)

Sheet PILP-laskin
A1: Rakennuskohde | B1: =IF(Ilmanvaihto!H1=0,"",Ilmanvaihto!H1) -> RET-pientalo | AB1: 24 | AC1: =C1 -> 0
A2: Rakennuslupatunnus | B2: =IF(Ilmanvaihto!H2=0,"",Ilmanvaihto!H2) -> Esimerkki | AD2: =INDIRECT("i"&$AB$1) -> 0.6 | AF2: =INDIRECT("k"&$AB$1) -> 0 | AH2: nt | AJ2: =INDIRECT("U"&$AB$1) -> 0 | AL2: =INDIRECT("S"&$AB$1) -> 0
A3: Rakennustyyppi | B3: =IF(Ilmanvaihto!H3=0,"",Ilmanvaihto!H3) -> 1-kerroksinen pientalo, ikkunapinta-ala 15 % kerrostasoalasta. | AC3: =INDIRECT("A"&$AB$1) -> 0 | AE3: =INDIRECT("j"&$AB$1) -> 0 | AF3: + | AG3: =INDIRECT("L"&$AB$1) -> 0 | AH3: =INDIRECT("H"&$AB$1) -> 0 | AI3: =INDIRECT("V"&$AB$1) -> 0 | AJ3: - | AK3: =INDIRECT("T"&$AB$1) -> 0 | AM3: =INDIRECT("R"&$AB$1) -> 0
A4: Pääsuunnittelija | B4: =IF(Ilmanvaihto!H4=0,"",Ilmanvaihto!H4) -> Nibbe Niilanen | AC4: =INDIRECT("E"&$AB$1) -> 0 | AH4: =INDIRECT("ac"&$AB$1) -> 0 | AM4: =INDIRECT("F"&$AB$1) -> 0 | AN4: R
A5: Laskelman tekijä | B5: =IF(Ilmanvaihto!H5=0,"",Ilmanvaihto!H5) -> Lemmi Pumppu | AN5: =AM8/AM4 -> #DIV/0!
A6: Päiväys | B6: =IF(Ilmanvaihto!H6=0,"",Ilmanvaihto!H6) -> 42825 | AD6: =INDIRECT("X"&$AB$1) -> 0 | AF6: =INDIRECT("U"&$AB$1) -> 0 | AJ6: =INDIRECT("N"&$AB$1) -> 0 | AL6: =INDIRECT("P"&$AB$1) -> 0
AC7: =INDIRECT("F"&$AB$1) -> 0 | AF7: - | AH7: LTO | AK7: =INDIRECT("O"&$AB$1) -> 0 | AL7: + | AM7: =INDIRECT("Q"&$AB$1) -> 0
B8: Laskentataulukko, jolla voidaan laskea lämpöhäviöiden tasauslaskentaa varten | AC8: =INDIRECT("Y"&$AB$1) -> 0 | AG8: =INDIRECT("W"&$AB$1) -> 0 | AH8: =(AI3-AG8)/(AI3-AG3) -> #DIV/0! | AI8: =INDIRECT("M"&$AB$1) -> 0 | AM8: =INDIRECT("E"&$AB$1) -> 0
B9: poistoilmalämpöpumpun lämmöntalteenoton vuosihyötysuhde (ηa, PILP). | AH9: np
B10: Tällä voidaan laskea myös PILP:n ja LTO-lämmönsiirtimen yhdistelmä ja | AB10: 24 | AH10: =INDIRECT("AY"&$AB$1) -> 0 | AM10: =INDIRECT("A"&$AB$1) -> 0
B11: pelkkä LTO-lämmönsiirrinratkaisu. | AB11: 57 | AH11: na | AM11: =AM4-AM8 -> 0
D12: Ulkoilmavirta | E12: Poistoilmavirta
A13: Kone | B13: Palvelualue | C13: Käyttötapa | D13: m³/s | E13: m³/s
A14: PILP | B14: Koko rakennus | C14: jatkuva käyttö | D14: 0.053 | E14: 0.059
B16: Rakennuksen tiedot | I16: Oletusarvot
B17: Rakennuksen käyttötarkoitusluokka (1 - 9) | C17: 1
B18: Lämmitetty nettoala | C18: 147 | D18: m²
B19: Ilmanvaihdon käyttöaika vuorokaudessa | C19: 24 | D19: h/vrk | I19: =CHOOSE($C$17,24,24,13,15,24,10,16,24,24) -> 24
B20: Ilmanvaihdon käyttöaika viikossa | C20: 7 | D20: vrk/viikko | I20: =CHOOSE($C$17,7,7,5,6,7,5,7,7,7) -> 7
B21: Rakennuksen vaipan ja vuotoilman ominaislämpöhäviö | C21: 88.2 | D21: W/K | I21: =0.6*C18 -> 88.2
B22: Rakennuksen muu vakiolämmitystarve | C22: 0 | D22: W | I22: 0
B23: Sisäiset lämpökuormat käyttöaikana
B24: Lämpökuorma valaistuksesta | C24: 0.6 | D24: W/m² | I24: =CHOOSE($C$17,0.1*6,0.1*9,0.65*10,19,0.3*11,0.6*14,0.5*10,0.6*7,0.1*9) -> 0.6
B25: Lämpökuorma kuluttajalaitteista | C25: 1.8 | D25: W/m² | I25: =CHOOSE($C$17,0.6*3,0.6*4,0.65*12,1,0.3*4,0.6*8,0.5*0,0.6*9,0.6*4) -> 1.8
B26: Lämpökuorma ihmisistä | C26: 1.2 | D26: W/m² | I26: =CHOOSE($C$17,0.6*2,0.6*3,0.65*5,2,0.3*4,0.6*14,0.5*5,0.6*8,0.6*3) -> 1.2
B27: Sisäiset lämpökuormat yhteensä | C27: =(C24+C25+C26)*C18 -> 529.2 | D27: W
B28: Auringon lämpökuorma
B29: Ikkunoiden tiedot ilmansuunnittain | C29: Pinta-ala, m² | D29: g-arvo | E29: Fläpäisy | J29: g-arvo | K29: Fläpäisy
B30: Pohjoinen | C30: 5 | D30: 0.5 | E30: 0.72 | I30: =INT(0.2*0.15*$C$18/0.9+0.5) -> 5 | J30: 0.5 | K30: 0.72
B31: Koillinen
B32: Itä | C32: 5 | D32: 0.5 | E32: 0.623 | I32: =INT(0.2*0.15*$C$18/0.9+0.5) -> 5 | J32: 0.5 | K32: 0.623
B33: Kaakko
B34: Etelä | C34: 10 | D34: 0.5 | E34: 0.57 | I34: =INT(0.4*0.15*$C$18/0.9+0.5) -> 10 | J34: 0.5 | K34: 0.57
B35: Lounas
B36: Länsi | C36: 5 | D36: 0.5 | E36: 0.623 | I36: =INT(0.2*0.15*$C$18/0.9+0.5) -> 5 | J36: 0.5 | K36: 0.623
B37: Luode
B38: Yhteensä | C38: =SUM(C30:C37) -> 25
B39: Auringon lämpökuorma käyttöaikana keskimäärin | C39: ='Hki-2012'!CN21 -> 340.94749 | D39: W
B41: Poistoilmalämpöpumpun tuottama lämpöä käytetään käyttöveden lämmittämiseen:
B42: Lämpimän käyttöveden vuotuinen lämmitysenergiankulutus | C42: 35 | D42: kWh/m²/a | I42: =CHOOSE(C17,35,35,6,4,40,11,20,30,35) -> 35
B43: Lämpimän käyttöveden vuotuinen lämpöhäviöenergia | C43: 510 | D43: kWh/a | I43: =INT(I42*C18/10/10)*10 -> 510
B45: Poistoilmalämpöpumpun tiedot:
B46: Poistoilmalämpöpumpun lämpökerroin, COP | C46: 2.5 | I46: 2.5
B47: Poistoilmalämpöpumpun kompressorin sähköteho | C47: 350 | D47: W | I47: =INT(1.2*E14*5*100)*10 -> 350
B49: Ulkoilmavirran suhde poistoilmavirtaan PILP:ssa | C49: =D14/E14 -> 0.89830508
B50: LTO-lämmönsiirtimen tiedot:
B51: Tuloilman lämpötilasuhde yhtäsuurilla ilmavirroilla | C51: 0.6 | I51: 0.6
B52: Tuloilman lämpötilasuhde | C52: =MIN(1,(C51>=0)*(C51<=1)*(2/(1+C49)*C51)+(C51>1)*(C51<=100)*(2/(1+C49)*C51/100)+(C51<0)*0+(C51>100)*0) -> 0.63214286
B53: Poistoilman lämpötilasuhde | C53: =MIN(1,C52*C49) -> 0.56785714
B54: Lämpötilat:
B55: Huoneilman eli poistoilman lämpötila | C55: 21 | D55: °C | I55: 21
B56: Poistoilman minimilämpötila LTO:n jäätymissuojauksessa | C56: 0 | D56: °C | I56: 0
B57: Poistoilman minimilämpötila PILP:n jäätymissuojauksessa | C57: 0 | D57: °C | I57: 0
B58: Tuloilman jälkilämmityksen asetuslämpötila | C58: 15 | D58: °C | I58: 15
B59: Tuloilman jälkilämmitys PILP-varaajasta (1 = kyllä, 0 = ei) | C59: 1 | E59: ='Hki-2012'!$BO$14 -> 2 | I59: 1
B61: Poistoilmalämpöpumpun lämmöntalteenoton vuosihyötysuhde (ηa, PILP)
B62: Säävyöhyke
B63: I Helsinki-Vantaa TRY 2012 testivuosi | C63: =IF(NOW()<C69,IF(ABS('Hki-2012'!FT3)<0.002,'Hki-2012'!HB10,"Laske!!!"),"vanhentunut") -> 0.72107451
B65: Poistoilmalämpöpumpun kompressorin sähkönkulutus | C65: =IF(NOW()<43100,IF(ABS('Hki-2012'!FT3)<0.002,'Hki-2012'!HD8,"Laske!!!"),"vanhentunut") -> vanhentunut | D65: kWh/lämmityskausi
B67: =Ilmanvaihto!$A$40 -> © Ympäristöministeriö, PILP-laskin 2018 (versio maaliskuu 2017)
B69: Parasta ennen | C69: 47848

Sheet Hki-2012
A1: Laskentataulukko, älä tuhoa
FS3: iter | FT3: =FX3*GC3+HY3*ID3+KA3*KF3+MC3*MH3 -> -0.0003407332 | FX3: =(GO14=GP14)*(GO18=GP18) -> 0 | GC3: =GA23-HB23+GD3 -> -4.0454324e-09 | GD3: =SUM(HA24:HC57)-SUM(FZ24:GB57) -> -1.0069925e-08 | HY3: =(IQ14=IR14)*(IQ18=IR18) -> 0 | ID3: =IB23-JD23+IE3 -> 0 | IE3: =SUM(JC24:JE57)-SUM(IA24:IC57) -> 0 | KA3: =(KS14=KT14)*(KS18=KT18) -> 0 | KF3: =KD23-LF23+KG3 -> 0 | KG3: =SUM(LE24:LG57)-SUM(KC24:KE57) -> 0 | MC3: =(MT14=MU14)*(MT18=MU18) -> 1 | MH3: =MF23-NG23+MI3 -> -0.0003407332 | MI3: =SUM(NF24:NH57)-SUM(ME24:MG57) -> -0.0013024969
BO5: =IF('Hki-2012'!BO14=2,"Lauhdutin varaajassa!","") -> Lauhdutin varaajassa! | FT5: =FX5*GD5+HY5*IE5+KA5*KG5+MC5*MI5 -> 0
BO6: =IF('Hki-2012'!BO14=1,"Lauhdutin tuloilmassa!","")
FS7: Jakso | FT7: 57
BO8: =BO21 -> 3714.8545 | BP8: =BP21 -> 368.2363 | BQ8: =BQ21 -> 0 | HD8: =HD12+JF12+LH12+NI12 -> 2197.3572 | HE8: =HE12+JG12+LI12+NJ12 -> 3296.0357 | HF8: =HF12+JH12+LJ12+NK12 -> 5493.3929 | HG8: =HG12+JI12+LK12+NL12 -> 83318.045 | HH8: =HH12+JJ12+LL12+NM12 -> 2443.0325 | HI8: =HI12+JK12+LM12+NN12 -> 5473.2518 | HJ8: =HJ12+JL12+LN12+NO12 -> 15331.628 | HK8: =HK12+JM12+LO12+NP12 -> 9838.2351 | ... HR8: =HR12+JT12+LV12+NW12 -> 3053.4385
CA9: Käyttöajat | CB9: td | CC9: tw | FS9: UILP | FT9: 0
CA10: Ilmanvaihto | CB10: =MAX('PILP-laskin'!C19,1) -> 24 | CC10: =MAX('PILP-laskin'!C20,1) -> 7 | HA10: PILP:n LTO:n vuosihyötysuhde | HB10: =(GP14=1)*(GP18=2)*HS19+(GP14=1)*(GP18=1)*JU19+(GP14=2)*(GP18=1)*LW19+(GP14=2)*(GP18=2)*NX19 -> 0.72107451
H11: Nämä sarakkeet ovat vain kuvien piirtämistä varten | CA11: Sisäiset kuormat | CB11: =(CB10>0)*(CB10<3)*(CB10)+(CB10>2)*(CB10<24)*(CB10-2)+(CB10=24)*(CB10) -> 24 | CC11: =CC10 -> 7 | GE11: 1. Höyrystin poistoilmassa ennen LTO:a ja lauhdutin tuloilmassa | IG11: 2. Höyrystin jäteilmassa LTO:n jälkeen ja lauhdutin tuloilmassa | KI11: 3. Höyrystin jäteilmassa LTO:n jälkeen ja lauhdutin varaajassa | MJ11: 4. Höyrystin poistoilmassa ennen LTO:a ja lauhdutin varaajassa
AL12: IV-aikataulu | BP12: ='PILP-laskin'!$C$53 -> 0.56785714 | BU12: 2 | BV12: =SUM(BV13:BV14) -> 2 | CA12: Aurinkokuormat | CB12: =CB10 -> 24 | HD12: =HD21*$FX$3 -> 0 | HE12: =HE21*$FX$3 -> 0 | HF12: =HF21*$FX$3 -> 0 | HG12: =HG21*$FX$3 -> 0 | HH12: =HH21*$FX$3 -> 0 | HI12: =HI21*$FX$3 -> 0 | HJ12: =HJ21*$FX$3 -> 0 | HK12: =HK21*$FX$3 -> 0 | ... HR12: =HR21*$FX$3 -> 0 | JF12: =JF21*$HY$3 -> 0 | JG12: =JG21*$HY$3 -> 0 | JH12: =JH21*$HY$3 -> 0 | JI12: =JI21*$HY$3 -> 0 | JJ12: =JJ21*$HY$3 -> 0 | JK12: =JK21*$HY$3 -> 0 | JL12: =JL21*$HY$3 -> 0 | JM12: =JM21*$HY$3 -> 0 | ... JT12: =JT21*$HY$3 -> 0 | LH12: =LH21*$KA$3 -> 0 | LI12: =LI21*$KA$3 -> 0 | LJ12: =LJ21*$KA$3 -> 0 | LK12: =LK21*$KA$3 -> 0 | LL12: =LL21*$KA$3 -> 0 | LM12: =LM21*$KA$3 -> 0 | LN12: =LN21*$KA$3 -> 0 | LO12: =LO21*$KA$3 -> 0 | ... LV12: =LV21*$KA$3 -> 0 | NI12: =NI21*$MC$3 -> 2197.3572 | NJ12: =NJ21*$MC$3 -> 3296.0357 | NK12: =NK21*$MC$3 -> 5493.3929 | NL12: =NL21*$MC$3 -> 83318.045 | NM12: =NM21*$MC$3 -> 2443.0325 | NN12: =NN21*$MC$3 -> 5473.2518 | NO12: =NO21*$MC$3 -> 15331.628 | NP12: =NP21*$MC$3 -> 9838.2351 | ... NW12: =NW21*$MC$3 -> 3053.4385
BT13: 1. Lauhdutin on tuloilmassa | BU13: 1 | BV13: =BU13*($BU$12=1) -> 0 | GI13: -50 | GJ13: Näistä haetaan rajoitukset ja asetukset | IK13: Näistä haetaan rajoitukset ja asetukset | KM13: Näistä haetaan rajoitukset ja asetukset | MO13: Näistä haetaan rajoitukset ja asetukset
AL14: lkv, D3/2012 | AM14: =AL15*'PILP-laskin'!$C$18/8760*6325 -> 3714.8545 | AN14: LKVvaraaja | AO14: =AN15/8760*6325 -> 368.2363 | BO14: =(BV12=1)*1+(BV12<>1)*2 -> 2 | BP14: Jos 1, niin lauhdutin on tuloilmassa, jos 2, niin lauhdutin on varaajassa | BT14: 2. Lauhdutin on varaajassa | BU14: 2 | BV14: =BU14*($BU$12=2) -> 2 | FY14: poisto | GA14: =MAX('PILP-laskin'!E14*1000,1E-50) -> 59 | GB14: dm³/s | GJ14: turha? | GO14: 1 | GP14: =$BO$14 -> 2 | GQ14: Jos 1, niin lauhdutin on tuloilmassa, jos 2, niin lauhdutin on varaajassa | IK14: turha? | IQ14: 1 | IR14: =$BO$14 -> 2 | IS14: Jos 1, niin lauhdutin on tuloilmassa, jos 2, niin lauhdutin on varaajassa | KM14: turha? | KS14: 2 | KT14: =$BO$14 -> 2 | KU14: Jos 1, niin lauhdutin on tuloilmassa, jos 2, niin lauhdutin on varaajassa | MO14: turha? | MT14: 2 | MU14: =$BO$14 -> 2 | MV14: Jos 1, niin lauhdutin on tuloilmassa, jos 2, niin lauhdutin on varaajassa
AL15: ='PILP-laskin'!C42 -> 35 | AM15: kWh/m², a | AN15: ='PILP-laskin'!C43 -> 510 | AO15: kWh/a | FY15: tulo | GA15: =MAX('PILP-laskin'!D14*1000,1E-50) -> 53 | GB15: dm³/s | GH15: Tx,min | GI15: Tz,min | GJ15: Ty,max | GK15: Tt,max | GL15: Tt2,min | HG15: =(GV15-HC15) -> 0 | II15: Tj,min | IJ15: Tz,min | IK15: Ty,max | IL15: Tt,max | IM15: Tt2,min | KK15: Tj,min | KL15: Tz,min | KM15: Ty,max | KN15: Tt,max | KO15: Tt2,min | KP15: PILP:llä = 0, ei PILP:llä = 1 | KZ15: =MAX(KQ15+KT15+KY15-KX15-KP15,1.2*$GA$15*($KO$17-KJ15)) -> #VALUE! | MM15: Tx,min | MN15: Tz,min | MO15: Ty,max | MP15: Tt,max | MQ15: Tt2,min | MR15: PILP:llä = 0, ei PILP:llä = 1
A16: =Ilmanvaihto!$A$40 -> © Ympäristöministeriö, PILP-laskin 2018 (versio maaliskuu 2017) | AL16: =AL15/8.76 -> 3.9954338 | AM16: W/m² | AN16: =AN17/'PILP-laskin'!$C$18 -> 0.39604883 | AO16: W/m² | BU16: 2 | BV16: =SUM(BV17:BV19) -> 2 | BX16: =(BU16>0)*(BU16<3) -> 1 | GH16: PILP | GI16: LTO | GJ16: LTO | GK16: PILP | GL16: Jälkilämm. | GN16: =1.2*$GA$15*(GJ16-GI16) -> #VALUE! | GV16: =GM16+GP16+GU16-GT16-GL16 -> #VALUE! | HG16: =(GP16+GM16+GU16-GL16-GT16-HC16) -> #VALUE! | HQ16: Höyr | HR16: =HN21 -> 3279.599 | HS16: =HN21/HP21 -> 0.37244583 | II16: PILP | IJ16: LTO | IK16: LTO | IL16: PILP | IM16: Jälkilämm. | IX16: =((IT16-IV16+IP16+IW16)>JO16)*(IT16-IV16+IP16+IW16)+((IT16-IV16+IP16+IW16)<JO16)*JO16 -> 0 | IZ16: =MIN(1.2*$GA$14*(IG16-IM16),HW16) -> #VALUE! | JS16: Höyr | JT16: =JP21 -> 2706.3865 | JU16: =JP21/JR21 -> 0.30734928 | KK16: PILP | KL16: LTO | KM16: LTO | KN16: PILP | KO16: Jälkilämm. | KP16: Jälkilämmityksen energian lähde | KZ16: =((KV16-KX16+KR16+KY16)>LQ16)*(KV16-KX16+KR16+KY16)+((KV16-KX16+KR16+KY16)<LQ16)*LQ16 -> 0 | LA16: =MIN(JZ16,KZ16) -> 0 | LB16: =MIN(1.2*$GA$14*(KI16-KK16),JY16) -> #VALUE! | LK16: =(KT16+KQ16+KY16-KP16-KX16-LG16) -> #VALUE! | LU16: Höyr | LV16: =LR21 -> 2706.3865 | LW16: =LR21/LT21 -> 0.30734928 | MM16: PILP | MN16: LTO | MO16: LTO | MP16: PILP | MQ16: Jälkilämm. | MR16: Jälkilämmityksen energian lähde | NA16: =((MW16-MY16+MS16+MZ16)>NR16)*(MW16-MY16+MS16+MZ16)+((MW16-MY16+MS16+MZ16)<NR16)*NR16 -> 0 | NB16: =MIN(MB16,NA16) -> 0 | NC16: =MIN(1.2*$GA$14*(MI16-MJ16),MA16) -> 0 | NL16: =(MU16+MR16+MZ16-MQ16-MY16-NH16) -> #VALUE! | NV16: Höyr | NW16: =NS21 -> 3296.0357 | NX16: =NS21/NU21 -> 0.37431246
X17: =MAX((Y17-AA17),AB17) -> 1000 | Y17: =1000 -> 1000 | AL17: =AL16*'PILP-laskin'!$C$18 -> 587.32877 | AM17: W | AN17: =AN15/8.76 -> 58.219178 | AO17: W | BT17: 1. Höyrystin poistoilmassa LTO:n jälkeen | BU17: 1 | BV17: =BU17*($BU$16=1) -> 0 | GH17: ='PILP-laskin'!$C$57 -> 0 | GI17: =(GC21>0.00001)*'PILP-laskin'!$C$56+(GC21<=0.00001)*$GI$13 -> 0 | GJ17: 50 | GK17: 50 | GL17: =MIN('PILP-laskin'!$C$58,GD21) -> 15 | GN17: =1.2*$GA$15*(GJ17-GI17)*(GH17<10) -> 3180 | GO17: =GM17-GL17-0*GN17 -> -15 | GV17: =((GR17-GT17+GN17+GU17)>HM17)*(GR17-GT17+GN17+GU17)+((GR17-GT17+GN17+GU17)<HM17)*HM17 -> 3180 | GX17: =MIN(1.2*$GA$14*(GD17-GE17),FV17) -> 0 | HC17: =GE21 -> Höyrystin poistoilmassa ennen LTO:a ja lauhdutin tuloilmassa | HM17: =MAX(1.2*$GA$15*($GL$17-GG17)-GL17,0) -> 939 | HQ17: LTO+maa | HR17: =HP21-HQ21 -> 3062.7723 | HS17: =(HP21-HQ21)/HP21 -> 0.34782203 | II17: ='PILP-laskin'!$C$57 -> 0 | IJ17: =(ID21>0.00001)*'PILP-laskin'!$C$56+(ID21<=0.00001)*$GI$13 -> 0 | IK17: =$GJ$17 -> 50 | IL17: =$GK$17 -> 50 | IM17: =MIN('PILP-laskin'!$C$58,IE21) -> 15 | JE17: =IG21 -> Höyrystin poistoilmassa LTO:n jälkeen ja lauhdutin tuloilmassa | JS17: LTO+maa | JT17: =JR21-JS21 -> 4991.7649 | JU17: =(JR21-JS21)/JR21 -> 0.566887 | KK17: ='PILP-laskin'!$C$57 -> 0 | KL17: =(KF21>0.00001)*'PILP-laskin'!$C$56+(KF21<=0.00001)*$GI$13 -> 0 | KM17: =$GJ$17 -> 50 | KN17: =$GK$17 -> 50 | KO17: =MIN('PILP-laskin'!$C$58,KG21) -> 15 | KP17: =('PILP-laskin'!$C$59=0)*1 -> 0 | KZ17: =MAX(KQ17+KT17+KY17-KX17-KP17-$KP$17*KR17,1.2*$GA$15*($KO$17-KJ17)) -> 954 | LA17: =MIN(JZ17,KZ17-$KP$17*KR17) -> 954 | LG17: =KI21 -> Höyrystin poistoilmassa LTO:n jälkeen ja lauhdutin varaajassa | LU17: LTO+maa | LV17: =LT21-LU21 -> 4991.7649 | LW17: =(LT21-LU21)/LT21 -> 0.566887 | MM17: ='PILP-laskin'!$C$57 -> 0 | MN17: =(MH21>0.00001)*'PILP-laskin'!$C$56+(MH21<=0.00001)*$GI$13 -> 0 | MO17: =$GJ$17 -> 50 | MP17: =$GK$17 -> 50 | MQ17: =MIN('PILP-laskin'!$C$58,MI21) -> 15 | MR17: =('PILP-laskin'!$C$59=0)*1 -> 0 | NB17: =MIN(MB17,NA17-$MR$17*MS17) -> 0 | NH17: =MJ21 -> Höyrystin poistoilmassa ennen LTO:a ja lauhdutin varaajassa | NV17: LTO+maa | NW17: =NU21-NV21 -> 3053.4385 | NX17: =(NU21-NV21)/NU21 -> 0.34676204
B18: Helsinki TRY 2012 testivuosi | Q18: =O18-AE18*1000/(1.2*$GA$15) -> 0 | X18: =AB18 -> 0 | AL18: =AL17/($CB$10/24*$CC$10/7) -> 587.32877 | AM18: W | AN18: =AN17 -> 58.219178 | AO18: W | BO18: =(BV16=1)*1+(BV16<>1)*2 -> 2 | BP18: Jos 1, niin LTO on ennen höyrystintä, jos 2 tai muu, niin sen jälkeen | BT18: 2. Höyrystin poistoilmassa ennen LTO:a tai ilman LTO:a | BU18: 2 | BV18: =BU18*($BU$16=2) -> 2 | GJ18: =MAX(GI18,$GL$17*(GG18<10)) -> 15 | GO18: 2 | GP18: =$BO$18 -> 2 | GQ18: Jos 1, niin LTO on ennen höyrystintä, jos 2 tai muu, niin sen jälkeen | IQ18: 1 | IR18: =$BO$18 -> 2 | IS18: Jos 1, niin LTO on ennen höyrystintä, jos 2 tai muu, niin sen jälkeen | KQ18: =1.2*$GA$14*(KG18-B18)-$KP$17*KR18 -> #VALUE! | KS18: 1 | KT18: =$BO$18 -> 2 | KU18: Jos 1, niin LTO on ennen höyrystintä, jos 2 tai muu, niin sen jälkeen | MM18: ='PILP-laskin'!$C$57 -> 0 | MN18: ='PILP-laskin'!$C$56 -> 0 | MT18: 2 | MU18: =$BO$18 -> 2 | MV18: Jos 1, niin LTO on ennen höyrystintä, jos 2 tai muu, niin sen jälkeen
C19: =5.3-3 -> 2.3 | X19: =Y19-AA19 -> 0 | AN19: ='PILP-laskin'!C22 -> 0 | AO19: W | BO19: ="BO"&$FT$7 -> BO57 | BP19: ="BP"&$FT$7 -> BP57 | BQ19: ="BQ"&$FT$7 -> BQ57 | CA19: Lämpökuormien laskenta | CN19: ="CN"&$FT$7 -> CN57 | FT19: Lähtötiedot | FZ19: Laskentatiedot | GO19: =GM19-GL19-GN19 -> 0 | GP19: ok | GQ19: ok | GU19: ok | GV19: ="GV"&$FT$7 -> GV57 | HD19: ="HD"&$FT$7 -> HD57 | HE19: ="HE"&$FT$7 -> HE57 | HF19: ="HF"&$FT$7 -> HF57 | HG19: ="HG"&$FT$7 -> HG57 | HH19: ="HH"&$FT$7 -> HH57 | HI19: ="HI"&$FT$7 -> HI57 | HJ19: ="HJ"&$FT$7 -> HJ57 | HK19: ="HK"&$FT$7 -> HK57 | HL19: ="HL"&$FT$7 -> HL57 | HM19: ="HM"&$FT$7 -> HM57 | HN19: ="HN"&$FT$7 -> HN57 | HO19: ="HO"&$FT$7 -> HO57 | HP19: ="HP"&$FT$7 -> HP57 | HQ19: ="HQ"&$FT$7 -> HQ57 | HR19: ="HR"&$FT$7 -> HR57 | HS19: =(HN21+HP21-HQ21)/HP21 -> 0.72026786 | HU19: Lähtötiedot | IA19: Laskentatiedot | IX19: ="IX"&$FT$7 -> IX57 | JF19: ="JF"&$FT$7 -> JF57 | JG19: ="JG"&$FT$7 -> JG57 | JH19: ="JH"&$FT$7 -> JH57 | JI19: ="JI"&$FT$7 -> JI57 | JJ19: ="JJ"&$FT$7 -> JJ57 | JK19: ="JK"&$FT$7 -> JK57 | JL19: ="JL"&$FT$7 -> JL57 | JM19: ="JM"&$FT$7 -> JM57 | JN19: ="JN"&$FT$7 -> JN57 | JO19: ="JO"&$FT$7 -> JO57 | JP19: ="JP"&$FT$7 -> JP57 | JQ19: ="JQ"&$FT$7 -> JQ57 | JR19: ="JR"&$FT$7 -> JR57 | JS19: ="JS"&$FT$7 -> JS57 | JT19: ="JT"&$FT$7 -> JT57 | JU19: =(JP21+JR21-JS21)/JR21 -> 0.87423628 | JW19: Lähtötiedot | KC19: Laskentatiedot | KK19: =MAX(KH24,KK17) -> 0 | KQ19: =1.2*$GA$14*(KG19-B19) -> 0 | KZ19: ="KZ"&$FT$7 -> KZ57 | LH19: ="LH"&$FT$7 -> LH57 | LI19: ="LI"&$FT$7 -> LI57 | LJ19: ="LJ"&$FT$7 -> LJ57 | LK19: ="LK"&$FT$7 -> LK57 | LL19: ="LL"&$FT$7 -> LL57 | LM19: ="LM"&$FT$7 -> LM57 | LN19: ="LN"&$FT$7 -> LN57 | LO19: ="LO"&$FT$7 -> LO57 | LP19: ="LP"&$FT$7 -> LP57 | LQ19: ="LQ"&$FT$7 -> LQ57 | LR19: ="LR"&$FT$7 -> LR57 | LS19: ="LS"&$FT$7 -> LS57 | LT19: ="LT"&$FT$7 -> LT57 | LU19: ="LU"&$FT$7 -> LU57 | LV19: ="LV"&$FT$7 -> LV57 | LW19: =(LR21+LT21-LU21)/LT21 -> 0.87423628 | LY19: Lähtötiedot | LZ19: ="LZ"&$FT$7 -> LZ57 | ME19: Laskentatiedot | NA19: ="NA"&$FT$7 -> NA57 | NI19: ="NI"&$FT$7 -> NI57 | NJ19: ="NJ"&$FT$7 -> NJ57 | NK19: ="NK"&$FT$7 -> NK57 | NL19: ="NL"&$FT$7 -> NL57 | NM19: ="NM"&$FT$7 -> NM57 | NN19: ="NN"&$FT$7 -> NN57 | NO19: ="NO"&$FT$7 -> NO57 | NP19: ="NP"&$FT$7 -> NP57 | NQ19: ="NQ"&$FT$7 -> NQ57 | NR19: ="NR"&$FT$7 -> NR57 | NS19: ="NS"&$FT$7 -> NS57 | NT19: ="NT"&$FT$7 -> NT57 | NU19: ="NU"&$FT$7 -> NU57 | NV19: ="NV"&$FT$7 -> NV57 | NW19: ="NW"&$FT$7 -> NW57 | NX19: =(NS21+NU21-NV21)/NU21 -> 0.72107451
F20: Vaipan ominais-lämpöhäviö Hvaippa+vuotoilma, W | H20: Vaipan ominais-lämpöhäviö Hvaippa+vuotoilma, W | J20: Tp on poistoilman lämpötila | K20: Tx on poistoilman lämpötila PILP:n höyrystimen jälkeen | L20: Tz on poistoilman lämpötila LTO:n jälkeen | M20: Tu on ulkoilman lämpötila ennen LTO:a | N20: Ty on tuloilman lämpötila LTO:n jälkeen | O20: Tt on tuloilman lämpötila PILP:n lauhduttimen jälkeen | P20: Tt2 on tuloilman lämpötila jälkilämmityksen jälkeen | Q20: Ttkompr on tuloilman lämpötila PILP:n lauhduttimen jälkeen | R20: Lauhduttimen tod. energia | S20: Netto-lämmön-tarve | T20: Tuloilman lämpötila bruttolämmöntarpeen mukaan | U20: Tuloilman lämpötila nettolämmöntarpeen mukaan | V20: Tuloilman jälkilämmitysteho | W20: Muu lämmitys | X20: Netto-lämmön-tarve | Y20: Brutto-lämmön-tarve | Z20: IV-brutto | AA20: hyödynnetyt lämpökuormat | AB20: Qlämmitys, koko lämmönatarve - hyödynnetyt lämpökuormat, joka voidaan kattaa PILP:llä | AC20: Muu lämmitys (LKV, varaaja, muu vakio-lämmön-tarve | AD20: Kompr. tod. teho | AE20: Höyrystimen tod. teho | AF20: Lauhduttimen tod. teho | AG20: LTO:n teho, kW | AH20: PILP:n lauhduttimen ja LTO:n teho, kW | AI20: Käyttöveden lämmitysteho, kW | AJ20: Varaajan lämpöhäviöteho, kW | AK20: Muu lämpöhäviöteho, kW | AL20: Qlkv, käyttöveden lämmityksen nettotehon-tarve | AM20: LKV-varaajan häviöt | AN20: Vakioteho ympäri vuoden, esimerkiksi järjestelmän lämpöhäviö ympäristöön | AP20: Käyttövesi ja sen lämpöhäviö, kW | AQ20: Käyttövesi, sen lämpöhäviö ja muu lämpöhäviö, kW | AR20: PILP:n lauhduttimen, LTO:n ja tuloilman jälkilämmityksen teho, kW | BO20: Qlkv, käyttöveden lämmityksen energia | BP20: LKV-varaajan häviöenergia | BQ20: Vakioenergia ympäri vuoden, esimerkiksi järjestelmän lämpöhäviö ympäristöön | CA20: Läpäisykerroin (g x Fläpäisy) | CB20: ='PILP-laskin'!$D$30*'PILP-laskin'!$E$30 -> 0.36 | CC20: ='PILP-laskin'!$D$31*'PILP-laskin'!$E$31 -> 0 | CD20: ='PILP-laskin'!$D$32*'PILP-laskin'!$E$32 -> 0.3115 | CE20: ='PILP-laskin'!$D$33*'PILP-laskin'!$E$33 -> 0 | CF20: ='PILP-laskin'!$D$34*'PILP-laskin'!$E$34 -> 0.285 | CG20: ='PILP-laskin'!$D$35*'PILP-laskin'!$E$35 -> 0 | CH20: ='PILP-laskin'!$D$36*'PILP-laskin'!$E$36 -> 0.3115 | CI20: ='PILP-laskin'!$D$37*'PILP-laskin'!$E$37 -> 0 | CN20: Aur.kuorma keskimäärin, W | CO20: Lämpö-kuormat yhteensä | FT20: Poistoilma-lämpöpumpun lämpökerroin | FU20: Kompr. maksimiteho, W | FV20: Höyrystimen maksimiteho, W | FW20: Lauhduttimen maksimiteho, W | FY20: Poistoilma-lämpöpumpun lämpökerroin | FZ20: Kompr. teho, W | GA20: Höyrystimen teho, W | GB20: Lauhduttimen teho, W | GC20: Annettu lämpötilahyötysuhde | GD20: Tp on poistoilman lämpötila | GE20: Tx on poistoilman lämpötila PILP:n höyrystimen jälkeen | GF20: Tz on poistoilman lämpötila LTO:n jälkeen | GG20: Tu on ulkoilman lämpötila ennen LTO:a | GH20: Ty on tuloilman lämpötila LTO:n jälkeen | GI20: Tt on tuloilman lämpötila PILP:n lauhduttimen jälkeen | GJ20: Tt2 on tuloilman lämpötila jälkilämmityksen jälkeen | GK20: Tx,min rajoittaa PILP:n höyrystimen jälkeistä lämpötilaa rajoitusarvon ja ulkolämpötilan mukaan. Rajoitusarvo riippuu laitteen ominaisuuksista ja jäätymissuojauksesta. Ulkolämpötilan alle ei voi tasauslaskennassa jäähdyttää, koska ulkoilmalämpöpumpun tuottoa ei lasketa mukaan. Päivitetty TF9=1, niin saa jäähdyttää alle ulkoilman lämpötilan. | GL20: LTO:n teho | GM20: IV:n teho brutto | GN20: Tuloilman jälkilämmitysteho | GO20: IV:n teho netto tiloissa | GP20: Vaipan ominais-lämpöhäviö Hvaippa+vuotoilma, W | GQ20: lämpökuormat | GR20: Lämpöhäviöteho huoneessa (vaippa + ilmanvaihto huoneessa = rakennusosat + vuotoilma + tuloilma tilassa + korvausilma) | GS20: Lämpö-kuormien lämpö-energian hyödyntä-misaste, ηlämpö, kaava (8.13 tai 8.14) | GT20: hyödynnetyt lämpökuormat | GU20: =($AN$21=1)*AN24+($AL$21=1)*AL24+($AM$21=1)*AM24 | GV20: Qlämmitys | GW20: Lauhduttimen lämmön tarpeella rajoitettu teho, W | GX20: Höyrystimen lämmön tarpeella rajoitettu teho, W | GY20: Kompr. raj teho, lauhdutintehon mukaan W | GZ20: Kompr. raj. teho, höyrystintehon mukaan W | HA20: Kompr. tod. teho, W | HB20: Höyrystimen tod. teho, W | HC20: Lauhduttimen tod. teho, W | HD20: Qkompr. | HE20: Qhöyryst. | HF20: Qlauhd. | HG20: Muu kuin PILP-lämmitys | HH20: Tuloilman jälkilämmitys | HI20: hyödynnetyt lämpökuormat | HJ20: Qlämmitys | HK20: Muu kuin PILP-lämmitys | HL20: Brutto-lämmön-tarve | HM20: Tuloilman lämpeneminen LTO:n jälkeen | HN20: Qhöyrystin, jossa ei ole ulkoilmasta otettu lämpöä | HP20: Qilman-vaihto, brutto, lämmön-tarve yhteensä | HQ20: Qilman-vaihto, netto, LTO ja maalämpö vähennetty | HR20: LTO | HU20: Poistoilma-lämpöpumpun lämpökerroin | HV20: Kompr. maksimiteho, W | HW20: Höyrystimen maksimiteho, W | HX20: Lauhduttimen maksimiteho, W | HZ20: Poistoilma-lämpöpumpun lämpökerroin | IA20: Kompr. maksimiteho, W | IB20: Höyrystimen maksimiteho, W | IC20: Lauhduttimen maksimiteho, W | ID20: Annettu lämpötilahyötysuhde | IE20: Tp om poistoilman lämpötila | IF20: Tu on ulkoilman lämpötila ennen LTO:a | IG20: Tz on poistoilman lämpötila LTO:n jälkeen | IH20: Ty on tuloilman lämpötila LTO:n jälkeen | II20: Tj on jäteilman lämpötila PILP:n höyrystimen jälkeen | IJ20: Tt on tuloilman lämpötila PILP:n lauhduttimen jälkeen | IK20: Tt2 on tuloilman lämpötila jälkilämmityksen jälkeen | IN20: LTO:n teho | IO20: IV:n teho brutto | IP20: Tuloilman jälkilämmitysteho | IQ20: IV:n teho netto tiloissa | IR20: Vaipan ominais-lämpöhäviö Hvaippa+vuotoilma, W | IS20: lämpökuormat | IT20: Lämpöhäviöteho huoneessa (vaippa + ilmanvaihto huoneessa = rakennusosat + vuotoilma + tuloilma tilassa + korvausilma) | IU20: Lämpö-kuormien lämpö-energian hyödyntä-misaste, ηlämpö, kaava (8.13 tai 8.14) | IV20: hyödynnetyt lämpökuormat | IW20: =($AN$21=1)*AN24+($AL$21=1)*AL24+($AM$21=1)*AM24 | IX20: Qlämmitys | IY20: Lauhduttimen lämmön tarpeella rajoitettu teho, W | IZ20: Höyrystimen lämmön tarpeella rajoitettu teho, W | JA20: Kompr. raj teho, lauhdutintehon mukaan W | JB20: Kompr. raj. teho, höyrystintehon mukaan W | JC20: Kompr. tod. teho, W | JD20: Höyrystimen tod. teho, W | JE20: Lauhduttimen tod. teho, W | JF20: Qkompr. | JG20: Qhöyryst. | JH20: Qlauhd. | JI20: Muu kuin PILP-lämmitys | JJ20: Tuloilman jälkilämmitys | JK20: hyödynnetyt lämpökuormat | JL20: Qlämmitys | JM20: Muu kuin PILP-lämmitys | JN20: Brutto-lämmön-tarve | JO20: Tuloilman lämpeneminen LTO:n jälkeen | JP20: Qhöyrystin, jossa ei ole ulkoilmasta otettu lämpöä | JR20: Qilman-vaihto, brutto, lämmön-tarve yhteensä | JS20: Qilman-vaihto, netto, LTO ja maalämpö vähennetty | JT20: LTO | JW20: Poistoilma-lämpöpumpun lämpökerroin | JX20: Kompr. maksimiteho, W | JY20: Höyrystimen maksimiteho, W | JZ20: Lauhduttimen maksimiteho, W | KB20: Poistoilma-lämpöpumpun lämpökerroin | KC20: Kompr. maksimiteho, W | KD20: Höyrystimen maksimiteho, W | KE20: Lauhduttimen maksimiteho, W | KF20: Annettu lämpötilahyötysuhde | KG20: Tp om poistoilman lämpötila | KH20: Tu on ulkoilman lämpötila ennen LTO:a | KI20: Tz on poistoilman lämpötila LTO:n jälkeen | KJ20: Ty on tuloilman lämpötila LTO:n jälkeen | KK20: Tj on jäteilman lämpötila PILP:n höyrystimen jälkeen | KL20: Tt on tuloilman lämpötila PILP:n lauhduttimen jälkeen | KM20: Tt2 on tuloilman lämpötila jälkilämmityksen jälkeen | KP20: LTO:n teho | KQ20: IV:n teho brutto | KR20: Tuloilman jälkilämmitysteho | KS20: IV:n teho netto tiloissa | KT20: Vaipan ominais-lämpöhäviö Hvaippa+vuotoilma, W | KU20: lämpökuormat | KV20: Lämpöhäviöteho huoneessa (vaippa + ilmanvaihto huoneessa = rakennusosat + vuotoilma + tuloilma tilassa + korvausilma) | KW20: Lämpö-kuormien lämpö-energian hyödyntä-misaste, ηlämpö, kaava (8.13 tai 8.14) | KX20: hyödynnetyt lämpökuormat | KY20: =($AN$21=1)*AN24+($AL$21=1)*AL24+($AM$21=1)*AM24 | KZ20: Qlämmitys | LA20: Lauhduttimen lämmön tarpeella rajoitettu teho, W | LB20: Höyrystimen lämmön tarpeella rajoitettu teho, W | LC20: Kompr. raj teho, lauhdutintehon mukaan W | LD20: Kompr. raj. teho, höyrystintehon mukaan W | LE20: Kompr. tod. teho, W | LF20: Höyrystimen tod. teho, W | LG20: Lauhduttimen tod. teho, W | LH20: Qkompr. | LI20: Qhöyryst. | LJ20: Qlauhd. | LK20: Muu kuin PILP-lämmitys | LL20: Tuloilman jälkilämmitys | LM20: hyödynnetyt lämpökuormat | LN20: Qlämmitys | LO20: Muu kuin PILP-lämmitys | LP20: Brutto-lämmön-tarve | LQ20: Tuloilman lämpeneminen LTO:n jälkeen | LR20: Qhöyrystin, jossa ei ole ulkoilmasta otettu lämpöä | LT20: Qilman-vaihto, brutto, lämmön-tarve yhteensä | LU20: Qilman-vaihto, netto, LTO ja maalämpö vähennetty | LV20: LTO | LY20: Poistoilma-lämpöpumpun lämpökerroin | LZ20: Kompr. maksimiteho, W | MA20: Höyrystimen maksimiteho, W | MB20: Lauhduttimen maksimiteho, W | MD20: Poistoilma-lämpöpumpun lämpökerroin | ME20: Kompr. maksimiteho, W | MF20: Höyrystimen maksimiteho, W | MG20: Lauhduttimen maksimiteho, W | MH20: Annettu lämpötilahyötysuhde | MI20: Tp om poistoilman lämpötila | MJ20: Tx on poistoilman lämpötila PILP:n höyrystimen jälkeen | MK20: Tz on poistoilman lämpötila LTO:n jälkeen | ML20: Tu on ulkoilman lämpötila ennen LTO:a | MM20: Ty on tuloilman lämpötila LTO:n jälkeen | MN20: Tt on tuloilman lämpötila PILP:n lauhduttimen jälkeen | MO20: Tt2 on tuloilman lämpötila jälkilämmityksen jälkeen | MP20: Tx,min rajoittaa PILP:n höyrystimen jälkeistä lämpötilaa rajoitusarvon ja ulkolämpötilan mukaan. Rajoitusarvo riippuu laitteen ominaisuuksista ja jäätymissuojauksesta. Ulkolämpötilan alle ei voi tasauslaskennassa jäähdyttää, koska ulkoilmalämpöpumpun tuottoa ei lasketa mukaan. | MQ20: LTO:n teho | MR20: IV:n teho brutto | MS20: Tuloilman jälkilämmitysteho | MT20: IV:n teho netto tiloissa | MU20: Vaipan ominais-lämpöhäviö Hvaippa+vuotoilma, W | MV20: lämpökuormat | MW20: Lämpöhäviöteho huoneessa (vaippa + ilmanvaihto huoneessa = rakennusosat + vuotoilma + tuloilma tilassa + korvausilma) | MX20: Lämpö-kuormien lämpö-energian hyödyntä-misaste, ηlämpö, kaava (8.13 tai 8.14) | MY20: hyödynnetyt lämpökuormat | MZ20: =($AN$21=1)*AN24+($AL$21=1)*AL24+($AM$21=1)*AM24 | NA20: Qlämmitys | NB20: Lauhduttimen lämmön tarpeella rajoitettu teho, W | NC20: Höyrystimen lämmön tarpeella rajoitettu teho, W | ND20: Kompr. raj teho, lauhdutintehon mukaan W | NE20: Kompr. raj. teho, höyrystintehon mukaan W | NF20: Kompr. tod. teho, W | NG20: Höyrystimen tod. teho, W | NH20: Lauhduttimen tod. teho, W | NI20: Qkompr. | NJ20: Qhöyryst. | NK20: Qlauhd. | NL20: Muu kuin PILP-lämmitys | NM20: Tuloilman jälkilämmitys | NN20: hyödynnetyt lämpökuormat | NO20: Qlämmitys | NP20: Muu kuin PILP-lämmitys | NQ20: Brutto-lämmön-tarve | NR20: Tuloilman lämpeneminen LTO:n jälkeen | NS20: Qhöyrystin, jossa ei ole ulkoilmasta otettu lämpöä | NT20: Brutto-lämmön-tarve | NU20: Qilman-vaihto, brutto, lämmön-tarve yhteensä | NV20: Qilman-vaihto, netto, LTO ja maalämpö vähennetty | NW20: LTO
C21: =0*0.2 -> 0 | F21: ='PILP-laskin'!C21 -> 88.2 | J21: ='PILP-laskin'!$C$55 -> 21 | K21: =IF(($FX$3=1),GE21,IF(($HY$3=1),IG21,IF(($KA$3=1),KI21,IF(($MC$3=1),MJ21,"Ei järjestelmää")))) -> Höyrystin poistoilmassa ennen LTO:a ja lauhdutin varaajassa | AL21: =1*('PILP-laskin'!C42>0)*(BO14=2) -> 1 | AM21: =1*('PILP-laskin'!C43>0)*(BO14=2) -> 1 | AN21: =1*('PILP-laskin'!C22>0) -> 0 | BO21: =SUM(BO24:INDIRECT(BO19))*AL21 -> 3714.8545 | BP21: =SUM(BP24:INDIRECT(BP19))*AM21 -> 368.2363 | BQ21: =SUM(BQ24:INDIRECT(BQ19))*AN21 -> 0 | CA21: Ikkunapinta-ala, m² | CB21: ='PILP-laskin'!$C$30 -> 5 | CC21: ='PILP-laskin'!$C$31 -> 0 | CD21: ='PILP-laskin'!$C$32 -> 5 | CE21: ='PILP-laskin'!$C$33 -> 0 | CF21: ='PILP-laskin'!$C$34 -> 10 | CG21: ='PILP-laskin'!$C$35 -> 0 | CH21: ='PILP-laskin'!$C$36 -> 5 | CI21: ='PILP-laskin'!$C$37 -> 0 | CL21: Lämpökuormat | CN21: =CN22/($A$80*(MAX($CB$12,10))/24)*1000 -> 340.94749 | CO21: Qlämpökuorma | FT21: =MAX('PILP-laskin'!$C$46,1E-50) -> 2.5 | FU21: ='PILP-laskin'!$C$47 -> 350 | GC21: ='PILP-laskin'!$C$53 -> 0.56785714 | GD21: ='PILP-laskin'!$C$55 -> 21 | GE21: =IF(GC21>0,"Höyrystin poistoilmassa ennen LTO:a ja lauhdutin tuloilmassa","Höyrystin poistoilmassa ja lauhdutin tuloilmassa") -> Höyrystin poistoilmassa ennen LTO:a ja lauhdutin tuloilmassa | GM21: =1.2*$GA$14*(GD21-GG21) -> 1486.8 | GN21: =1.2*$GA$15*(GJ21-GI21) -> 0 | GR21: Qlämpöhäviö | GU21: Qmuu lämmitys | GV21: =SUM(GV24:INDIRECT(GV19)) -> 112838.59 | GX21: Tp-Tx | HA21: iter | HB21: iter | HC21: iter | HD21: =SUM(HD24:INDIRECT(HD19)) -> 2186.3993 | HE21: =SUM(HE24:INDIRECT(HE19)) -> 3279.599 | HF21: =SUM(HF24:INDIRECT(HF19)) -> 5465.9983 | HG21: =SUM(HG24:INDIRECT(HG19)) -> 83318.045 | HH21: =SUM(HH24:INDIRECT(HH19)) -> 36.692 | HI21: =SUM(HI24:INDIRECT(HI19)) -> 5491.3126 | HJ21: =SUM(HJ24:INDIRECT(HJ19)) -> 15304.233 | HK21: =SUM(HK24:INDIRECT(HK19)) -> 9838.2351 | ... HN21: =SUM(HN24:INDIRECT(HN19)) -> 3279.599 | HO21: =HP21-HR17-HR16 -> 2463.2018 | HP21: =SUM(HP24:INDIRECT(HP19)) -> 8805.573 | HQ21: =SUM(HQ24:INDIRECT(HQ19)) -> 5742.8007 | HR21: =HP21-HQ21 -> 3062.7723 | HU21: =MAX('PILP-laskin'!$C$46,1E-50) -> 2.5 | HV21: ='PILP-laskin'!$C$47 -> 350 | ID21: ='PILP-laskin'!$C$53 -> 0.56785714 | IE21: ='PILP-laskin'!$C$55 -> 21 | IG21: =IF(ID21>0,"Höyrystin poistoilmassa LTO:n jälkeen ja lauhdutin tuloilmassa","Höyrystin poistoilmassa ja lauhdutin tuloilmassa") -> Höyrystin poistoilmassa LTO:n jälkeen ja lauhdutin tuloilmassa | IO21: =1.2*$GA$14*(IE21-IF21) -> 1486.8 | IP21: =MAX(1.2*$GA$15*($IM$17-IJ21),0) -> 954 | IQ21: =IO21-IN21-IP21 -> 532.8 | IT21: Qlämpöhäviö | IW21: Qmuu lämmitys | IX21: =SUM(IX24:INDIRECT(IX19)) -> 101004.16 | IZ21: Tp-Tx | JC21: iter | JD21: iter | JE21: iter | JF21: =SUM(JF24:INDIRECT(JF19)) -> 1804.2577 | JG21: =SUM(JG24:INDIRECT(JG19)) -> 2706.3865 | JH21: =SUM(JH24:INDIRECT(JH19)) -> 4510.6441 | JI21: =SUM(JI24:INDIRECT(JI19)) -> 83930.237 | JJ21: =SUM(JJ24:INDIRECT(JJ19)) -> 151.2521 | JK21: =SUM(JK24:INDIRECT(JK19)) -> 5423.7609 | JL21: =SUM(JL24:INDIRECT(JL19)) -> 13442.793 | JM21: =SUM(JM24:INDIRECT(JM19)) -> 8932.1484 | ... JP21: =SUM(JP24:INDIRECT(JP19)) -> 2706.3865 | JQ21: =JR21-JT17-JT16 -> 1107.4216 | JR21: =SUM(JR24:INDIRECT(JR19)) -> 8805.573 | JS21: =SUM(JS24:INDIRECT(JS19)) -> 3813.8081 | JT21: =JR21-JS21 -> 4991.7649 | JW21: =MAX('PILP-laskin'!$C$46,1E-50) -> 2.5 | JX21: ='PILP-laskin'!$C$47 -> 350 | KF21: ='PILP-laskin'!$C$53 -> 0.56785714 | KG21: ='PILP-laskin'!$C$55 -> 21 | KI21: =IF(KF21>0,"Höyrystin poistoilmassa LTO:n jälkeen ja lauhdutin varaajassa","Höyrystin poistoilmassa ja lauhdutin varaajassa") -> Höyrystin poistoilmassa LTO:n jälkeen ja lauhdutin varaajassa | KQ21: =1.2*$GA$14*(KG21-KH21) -> 1486.8 | KV21: Qlämpöhäviö | KY21: Qmuu lämmitys | KZ21: =SUM(KZ24:INDIRECT(KZ19)) -> 101004.16 | LB21: Tp-Tx | LE21: iter | LF21: iter | LG21: iter | LH21: =SUM(LH24:INDIRECT(LH19)) -> 1804.2577 | LI21: =SUM(LI24:INDIRECT(LI19)) -> 2706.3865 | LJ21: =SUM(LJ24:INDIRECT(LJ19)) -> 4510.6441 | LK21: =SUM(LK24:INDIRECT(LK19)) -> 83930.237 | LL21: =SUM(LL24:INDIRECT(LL19)) -> 685.6588 | LM21: =SUM(LM24:INDIRECT(LM19)) -> 5423.7609 | LN21: =SUM(LN24:INDIRECT(LN19)) -> 13442.793 | LO21: =SUM(LO24:INDIRECT(LO19)) -> 8932.1484 | ... LR21: =SUM(LR24:INDIRECT(LR19)) -> 2706.3865 | LS21: =LT21-LV17-LV16 -> 1107.4216 | LT21: =SUM(LT24:INDIRECT(LT19)) -> 8805.573 | LU21: =SUM(LU24:INDIRECT(LU19)) -> 3813.8081 | LV21: =LT21-LU21 -> 4991.7649 | LY21: =MAX('PILP-laskin'!$C$46,1E-50) -> 2.5 | LZ21: ='PILP-laskin'!$C$47 -> 350 | MH21: ='PILP-laskin'!$C$53 -> 0.56785714 | MI21: ='PILP-laskin'!$C$55 -> 21 | MJ21: =IF(MH21>0,"Höyrystin poistoilmassa ennen LTO:a ja lauhdutin varaajassa","Höyrystin poistoilmassa ja lauhdutin varaajassa") -> Höyrystin poistoilmassa ennen LTO:a ja lauhdutin varaajassa | MR21: =1.2*$GA$14*(MI21-ML21) -> 1486.8 | MW21: Qlämpöhäviö | MZ21: Qmuu lämmitys | NA21: =SUM(NA24:INDIRECT(NA19)) -> 112930.52 | NC21: Tp-Tx | NF21: iter | NG21: iter | NH21: iter | NI21: =SUM(NI24:INDIRECT(NI19)) -> 2197.3572 | NJ21: =SUM(NJ24:INDIRECT(NJ19)) -> 3296.0357 | NK21: =SUM(NK24:INDIRECT(NK19)) -> 5493.3929 | NL21: =SUM(NL24:INDIRECT(NL19)) -> 83318.045 | NM21: =SUM(NM24:INDIRECT(NM19)) -> 2443.0325 | NN21: =SUM(NN24:INDIRECT(NN19)) -> 5473.2518 | NO21: =SUM(NO24:INDIRECT(NO19)) -> 15331.628 | NP21: =SUM(NP24:INDIRECT(NP19)) -> 9838.2351 | ... NS21: =SUM(NS24:INDIRECT(NS19)) -> 3296.0357 | NT21: =NU21-NW17-NW16 -> 2456.0988 | NU21: =SUM(NU24:INDIRECT(NU19)) -> 8805.573 | NV21: =SUM(NV24:INDIRECT(NV19)) -> 5752.1345 | NW21: =NU21-NV21 -> 3053.4385
A22: Pysyvyys | B22: Ulkolämpötila | C22: Ulkoilman lämpötila esilämmityksen jälkeen | D22: Qaur, Wh/m² | E22: Qaur, W/m² | F22: H, W | G22: Jakso | H22: H, kW | J22: Poistoilman lämpötila | K22: Poistoilman lämpötila PILP:n höyrystimen jälkeen | L22: Poistoilman lämpötila LTO:n jälkeen | M22: Ulkoilman lämpötila | N22: Tuloilman lämpötila LTO:n jälkeen | O22: Tuloilman lämpötila PILP:n lauhduttimen jälkeen | P22: Tuloilman lämpötila jälkilämmityksen jälkeen | Q22: Tuloilman lämpötila PILP:n kompressorin jälkeen | R22: PILP:n lauhduttimen teho, kW | S22: Nettolämmöntarve (hyödynnetyt lämpökuormat vähennetty), kW | T22: Tuloilman lämpötila bruttolämmöntarpeen mukaan | U22: Tuloilman lämpötila nettolämmöntarpeen mukaan | V22: Tuloilman jälkilämmitysteho, kW | W22: Muu lämmitys, kW | X22: Nettolämmöntarve (hyödynnetyt lämpökuormat vähennetty), kW | Y22: Bruttolämmöntarve, kW | AC22: Muu lämmitys | AD22: PILP:n kompressorin sähköteho, kW | AE22: PILP:n höyrystimen teho, kW | AF22: PILP:n lauhduttimen teho, kW | AG22: LTO:n teho, kW | AH22: PILP:n lauhduttimen ja LTO:n teho, kW | AI22: Käyttöveden lämmitysteho, kW | AJ22: Varaajan lämpöhäviöteho, kW | AK22: Muu lämpöhäviöteho, kW | AL22: Käyttöveden lämmityksen nettotehontarve, W | AM22: Varaajan lämpöhäviöteho, W | AN22: Muu lämpöhäviöteho (vakioteho koko vuoden), W | AP22: Käyttövesi ja sen lämpöhäviö, kW | AQ22: Käyttövesi, sen lämpöhäviö ja muu lämpöhäviö, kW | AR22: PILP:n lauhduttimen, LTO:n ja tuloilman jälkilämmityksen teho, kW | BO22: Qlkv | BP22: Qjärjestelmä | BQ22: Qvakioenergia | CA22: Auringon lämpökuormat ikkunoiden läpi, W | CB22: P | CC22: Ko | CD22: I | CE22: Ka | CF22: E | CG22: Lo | CH22: L | CI22: Lu | CJ22: Aur.kuorma | CL22: Muu kuorma | CM22: Yhteensä | CN22: =SUM(CN24:INDIRECT(CN19)) -> 2156.4929 | FX22: Jakso | FZ22: paste | GA22: paste | GB22: paste | GC22: ηp | GD22: Tp | GE22: Tx | GF22: Tz | GG22: Tu | GH22: Ty | GI22: Tt | GJ22: Tt2 | GK22: Tx,min | GP22: =$F22 | GQ22: =$CO22 | GU22: =$AO24-$AJ24-$AK24 | GV22: =GR22-GT22+GN22+GU22 -> #VALUE! | HA22: 0.9 | HG22: =(GP22+GU22+GM22-GL22-GT22-HC22-GN22) -> #VALUE! | HM22: =MAX(1.2*$GA$15*($IM$17-GD22)-GL22-GA22,0) -> #VALUE! | HN22: Qhöyrystin4 | HO22: B | HP22: Qilmanvaihto, tarve yhteensä | HQ22: Qilmanvaihto, netto | HR22: Qlämmitys, lisäteho | HU22: ='PILP-laskin'!$C$46+0*(0.0419*EW22+ 2.1194) -> 2.5 | HY22: Jakso | IA22: paste | IB22: paste | IC22: paste | ID22: ηp | IE22: Tp | IF22: Tu | IG22: Tz | IH22: Ty | II22: Tj | IJ22: Tt | IK22: Tt2 | IL22: Tz,min | IM22: Tj,min | IN22: =IJ57-IH57 -> 7.6168576 | IP22: =MAX(1.2*$GA$15*($IM$17-IF22)-IN22-IC22,0) -> #VALUE! | IQ22: =IO22-IN22 -> -7.6168576 | IR22: =F22 | IS22: =CO22 | IW22: =$AO24-$AJ24-$AK24 | IX22: =IT22-IV22+IP22+IW22 -> #VALUE! | IY22: =MIN(HX22,IX22) -> #VALUE! | IZ22: =MIN(1.2*$GA$14*(IG22-II22),HW22) -> #VALUE! | JA22: =IY22/HZ22 -> #VALUE! | JB22: =IZ22/(HZ22-1) -> #VALUE! | JC22: 1 | JI22: =(IR22+IW22+IO22-IN22-IV22-JE22-IP22) -> #VALUE! | JM22: =JI22/1000*$FX22 -> #VALUE! | JO22: =MAX(1.2*$GA$15*($IM$17-IF22)-IN22-IC22,0) -> #VALUE! | JP22: Qhöyrystin4 | JQ22: B | JR22: Qilmanvaihto, tarve yhteensä | JS22: Qilmanvaihto, netto | JT22: Qlämmitys, lisäteho | JW22: ='PILP-laskin'!$C$46+0*(0.0419*GY22+ 2.1194) -> 2.5 | KA22: Jakso | KC22: paste | KD22: paste | KE22: paste | KF22: ηp | KG22: Tp | KH22: Tu | KI22: Tz | KJ22: Ty | KK22: Tj | KL22: Tt | KM22: Tt2 | KN22: Tz,min | KO22: Tj,min | KT22: =F22 | KU22: =CO22 | KY22: =$AO24-$AJ24-$AK24 | KZ22: =KV22-KX22+KR22+KY22 -> #VALUE! | LE22: 1 | LK22: =(KT22+KY22+KQ22-KP22-KX22-LG22-KR22) -> #VALUE! | LN22: =KZ22/1000*$KA22 -> #VALUE! | LO22: =LK22/1000*$FX22 -> #VALUE! | LQ22: =MAX(1.2*$GA$15*($IM$17-KH22)-KP22-KE22,0) -> #VALUE! | LR22: Qhöyrystin4 | LS22: B | LT22: Qilmanvaihto, tarve yhteensä | LU22: Qilmanvaihto, netto | LV22: Qlämmitys, lisäteho | LY22: ='PILP-laskin'!$C$46+0*(0.0419*JB22+ 2.1194) -> #VALUE! | MC22: Jakso | ME22: paste | MF22: paste | MG22: paste | MH22: ηp | MI22: Tp | MJ22: Tx | MK22: Tz | ML22: Tu | MM22: Ty | MN22: Tt | MO22: Tt2 | MP22: Tx,min | MU22: =$F22 | MV22: =$CO22 | MZ22: =$AO24-$AJ24-$AK24 | NA22: =MW22-MY22+MS22+MZ22 -> #VALUE! | NF22: 1 | NL22: =(MU22+MZ22+MR22-MQ22-MY22-NH22-MS22) -> #VALUE! | NP22: =NL22/1000*$FX22 -> #VALUE! | NR22: =MAX(1.2*$GA$15*($IM$17-MI22)-MQ22-MF22,0) -> #VALUE! | NS22: Qhöyrystin4 | NT22: B | NU22: Qilmanvaihto, tarve yhteensä | NV22: Qilmanvaihto, netto | NW22: Qlämmitys, lisäteho
G23: h | I23: °Ch | K23: Tx, Tj, PILP | L23: Tz, LTO | M23: Ulkoilman lämpötila | N23: Ty, LTO | O23: Tt, PILP | P23: Tt2, LÄM | Q23: Tt, Kompr | R23: kWh | S23: kWh | T23: Tt,brutto | U23: Tt, netto | V23: kW | W23: kW | X23: kW | Y23: kW | Z23: kW | AA23: kW | AB23: kW | AC23: kW | AD23: kW | AE23: kW | AF23: kW | AG23: kW | AH23: kW | AI23: kW | AJ23: kW | AK23: kW | AL23: W | AM23: W | AN23: W | AP23: kW | AQ23: kW | AR23: kW | BO23: kWh | BP23: kWh | BQ23: kWh | CA23: Suuntauksen muuntokerroin (talvikuukaudet) | CB23: 0.50944528 | CC23: 0.52383808 | CD23: 0.68815592 | CE23: 1.0482759 | CF23: 1.2509745 | CG23: 1.0488756 | CH23: 0.68905547 | CI23: 0.52473763 | CJ23: W | CK23: W (käyttöaika) | CM23: W (käyttöaika) | CN23: kWh | CO23: W | FU23: W | FV23: 0 | FW23: W | FX23: h | FZ23: W | GA23: 122735.99 | GB23: W | GE23: PILP | GF23: LTO | GG23: =$C23 | GH23: LTO | GI23: PILP | GJ23: LÄM | GK23: PILP | GL23: W | GM23: W | GN23: W | GO23: W | GP23: W | GQ23: W | GR23: W | GT23: W | GU23: W | GV23: W | GW23: W | GX23: W | GY23: W | GZ23: W | HA23: W | HB23: =HN21+HQ21+GV21+FT21*FU21+GH17*GI17 -> 122735.99 | HC23: W | HD23: kWh | HE23: kWh | HF23: kWh | HG23: W | HH23: kWh | HI23: kWh | HJ23: kWh | HK23: kWh | HL23: kWh | HM23: W | HN23: kWh | HP23: kWh | HQ23: kWh | HR23: kWh | HV23: W | HW23: 0 | HX23: W | HY23: h | IA23: W | IB23: 108399.36 | IC23: W | IF23: =C23 | IG23: LTO | IH23: LTO | II23: PILP | IJ23: PILP | IK23: LÄM | IL23: LTO | IM23: PILP | IN23: W | IO23: W | IP23: W | IQ23: W | IR23: W | IS23: W | IT23: W | IV23: W | IW23: W | IX23: W | IY23: W | IZ23: W | JA23: W | JB23: W | JC23: W | JD23: =JP21+JS21+IX21+HU21*HV21+II17*IJ17 -> 108399.36 | JE23: W | JF23: kWh | JG23: kWh | JH23: kWh | JI23: W | JJ23: kWh | JK23: kWh | JL23: kWh | JM23: kWh | JN23: kWh | JO23: W | JP23: kWh | JR23: kWh | JS23: kWh | JT23: kWh | JX23: W | JY23: 0 | JZ23: W | KA23: h | KC23: W | KD23: 108399.36 | KE23: W | KH23: =C23 | KI23: LTO | KJ23: LTO | KK23: PILP | KL23: PILP | KM23: LÄM | KN23: LTO | KO23: PILP | KP23: W | KQ23: W | KR23: W | KS23: W | KT23: W | KU23: W | KV23: W | KX23: W | KY23: W | KZ23: W | LA23: W | LB23: W | LC23: W | LD23: W | LE23: W | LF23: =LR21+LU21+KZ21+JW21*JX21+KK17*KL17 -> 108399.36 | LG23: W | LH23: kWh | LI23: kWh | LJ23: kWh | LK23: W | LL23: kWh | LM23: kWh | LN23: kWh | LO23: kWh | LP23: kWh | LQ23: W | LR23: kWh | LT23: kWh | LU23: kWh | LV23: kWh | LZ23: W | MA23: 0 | MB23: W | MC23: h | ME23: W | MF23: 122853.69 | MG23: W | MJ23: PILP | MK23: LTO | ML23: =$C23 | MM23: LTO | MN23: PILP | MO23: LÄM | MP23: PILP | MQ23: W | MR23: W | MS23: W | MT23: W | MU23: W | MV23: W | MW23: W | MY23: W | MZ23: W | NA23: W | NB23: W | NC23: W | ND23: W | NE23: W | NF23: W | NG23: =NS21+NV21+NA21+LY21*LZ21+MM17*MN17 -> 122853.69 | NH23: W | NI23: kWh | NJ23: kWh | NK23: kWh | NL23: W | NM23: kWh | NN23: kWh | NO23: kWh | NP23: kWh | NQ23: kWh | NR23: W | NS23: kWh | NT23: W | NU23: kWh | NV23: kWh | NW23: kWh
A24: 0 | B24: =B25 -> -20.5 | C24: =MAX($C$21*($C$19-B24)+B24,B24) -> -20.5 | F24: =$F$21*(J24-B24) -> 3660.3 | G24: =(A24-A23)/100*8760 -> 0 | H24: =F24/1000 -> 3.6603 | I24: =G24*(J24-B24) -> 0 | J24: =$FX$3*GD24+$HY$3*IE24+$KA$3*KG24+$MC$3*MI24 -> 21 | K24: =$FX$3*GE24+$HY$3*II24+$KA$3*KK24+$MC$3*MJ24 -> 13.584746 | L24: =$FX$3*GF24+$HY$3*IG24+$KA$3*KI24+$MC$3*MK24 -> 0 | M24: =$FX$3*GG24+$HY$3*IF24+$KA$3*KH24+$MC$3*ML24 -> -20.5 | N24: =$FX$3*GH24+$HY$3*IH24+$KA$3*KJ24+$MC$3*MM24 -> -5.3773585 | O24: =$FX$3*GI24+$HY$3*IJ24+$KA$3*KL24+$MC$3*MN24 -> -5.3773585 | P24: =$FX$3*GJ24+$HY$3*IK24+$KA$3*KM24+$MC$3*MO24 -> 15 | Q24: =N24+AD24*1000/(1.2*$GA$15) -> 0.12578616 | R24: =AF24*G24 -> 0 | S24: =X24*G24 -> 0 | T24: =M24+Y24*1000/(1.2*$GA$15) -> 93.400125 | U24: =M24+X24*1000/(1.2*$GA$15) -> 85.07937 | V24: =($FX$3*GN24+$HY$3*IP24+$KA$3*KR24+$MC$3*MS24)/(1000) -> 1.296 | W24: =Y24-AG24-AA24-AF24 -> 4.8780479 | X24: =MAX((Y24-AA24),AB24) -> 6.7148479 | Y24: =H24+Z24+AC24 -> 7.2440479 | Z24: =($FX$3*GM24+$HY$3*IO24+$KA$3*KQ24+$MC$3*MR24)/(1000) -> 2.9382 | AA24: =($FX$3*GT24+$HY$3*IV24+$KA$3*KX24+$MC$3*MY24)/(1000) -> 0.5292 | AB24: =($FX$3*GV24+$HY$3*IX24+$KA$3*KZ24+$MC$3*NA24)/(1000) -> 5.7530479 | AC24: =($FX$3*GU24+$HY$3*IW24+$KA$3*KY24+$MC$3*MZ24)/(1000) -> 0.64554795 | AD24: =($FX$3*HA24+$HY$3*JC24+$KA$3*LE24+$MC$3*NF24)/(1000) -> 0.35 | AE24: =($FX$3*HB24+$HY$3*JD24+$KA$3*LF24+$MC$3*NG24)/(1000) -> 0.525 | AF24: =($FX$3*HC24+$HY$3*JE24+$KA$3*LG24+$MC$3*NH24)/(1000) -> 0.875 | AG24: =($FX$3*GL24+$HY$3*IN24+$KA$3*KP24+$MC$3*MQ24)/(1000) -> 0.9618 | AH24: =AG24+AF24 -> 1.8368 | AI24: =AL24/1000*$AL$21 -> 0.58732877 | AJ24: =AM24/1000*$AM$21 -> 0.058219178 | AK24: =AN24/1000*$AN$21 -> 0 | AL24: =$AL$18 -> 587.32877 | AM24: =$AN$18 -> 58.219178 | AN24: =$AN$19 -> 0 | AP24: =AI24+AJ24 -> 0.64554795 | AQ24: =AP24+AK24 -> 0.64554795 | AR24: =AH24+V24 -> 3.1328 | BO24: =AL24/1000*$G24 -> 0 | BP24: =AM24/1000*$G24 -> 0 | BQ24: =AN24/1000*$G24 -> 0 | CB24: =CB$23*$E24*CB$21*CB$20 -> 0 | CC24: =CC$23*$E24*CC$21*CC$20 -> 0 | CD24: =CD$23*$E24*CD$21*CD$20 -> 0 | CE24: =CE$23*$E24*CE$21*CE$20 -> 0 | CF24: =CF$23*$E24*CF$21*CF$20 -> 0 | CG24: =CG$23*$E24*CG$21*CG$20 -> 0 | CH24: =CH$23*$E24*CH$21*CH$20 -> 0 | CI24: =CI$23*$E24*CI$21*CI$20 -> 0 | CJ24: =SUM(CB24:CI24) -> 0 | CK24: =CJ24*24/(MAX($CB$12,10)) -> 0 | CL24: ='PILP-laskin'!C27*$CB$11/$CB$10 -> 529.2 | CM24: =CK24+CL24 -> 529.2 | CN24: =CJ24*G24/1000 -> 0 | CO24: =CM24 -> 529.2 | FT24: =FT21 -> 2.5 | FU24: =FU21 -> 350 | FV24: =FU24*(FT24-1+1E-50) -> 525 | FW24: =FT24*FU24 -> 875 | FX24: 0 | FY24: =FT24 -> 2.5 | FZ24: 350 | GA24: 525 | GB24: 875 | GC24: =$GC$21 -> 0.56785714 | GD24: =MAX($GD$21,GG24) -> 21 | GE24: =MAX(GD24-GA24/(1.2*$GA$14),GK24) -> 13.584746 | GF24: =MAX(GE24-GC24*(GE24-GG24),$GI$17) -> 0 | GG24: =$C24 -> -20.5 | GH24: =MIN(GG24+$GA$14/$GA$15*(GE24-GF24),$GJ$17) -> -5.3773585 | GI24: =GH24+GB24/(1.2*$GA$15) -> 8.3805031 | GJ24: =MAX(GI24,$GL$17) -> 15 | GK24: =($FT$9=1)*$GH$17+($FT$9=0)*MAX($GH$17,GG24) -> 0 | GL24: =1.2*$GA$14*(GE24-GF24) -> 961.8 | GM24: =1.2*$GA$14*(GD24-B24) -> 2938.2 | GN24: =1.2*$GA$15*(GJ24-GI24) -> 421 | GO24: =GM24-GL24-GN24 -> 1555.4 | GP24: =$F24 -> 3660.3 | GQ24: =$CO24 -> 529.2 | GR24: =GP24+GO24 -> 5215.7 | GS24: =MIN(1/(GQ24/(GR24+1E-50)+1E-50),1) -> 1 | GT24: =GS24*GQ24 -> 529.2 | GU24: =($AN$21=1)*AN24+($AL$21=1)*AL24+($AM$21=1)*AM24 -> 645.54795 | GV24: =MAX(GM24+GP24+GU24-GT24-GL24,1.2*$GA$15*($GL$17-GH24)) -> 5753.0479 | GW24: =MIN(FW24,GV24) -> 875 | GX24: =MIN(1.2*$GA$14*(GD24-GK24),FV24) -> 525 | GY24: =GW24/FY24 -> 350 | GZ24: =GX24/(FY24-1+1E-50) -> 350 | HA24: =HA$22*MIN(GY24:GZ24)+(1-HA$22)*FZ24 -> 350 | HB24: =HA24*(FY24-1) -> 525 | HC24: =HA24*FY24 -> 875 | HD24: =HA24/1000*$FX24 -> 0 | HE24: =HB24/1000*$FX24 -> 0 | HF24: =HC24/1000*$FX24 -> 0 | HG24: =(GV24-HC24) -> 4878.0479 | HH24: =GN24/1000*$FX24 -> 0 | HI24: =GT24/1000*$FX24 -> 0 | HJ24: =GV24/1000*$FX24 -> 0 | HK24: =(HG24>0)*HG24/1000*$FX24 -> 0 | HL24: =(GP24+GM24+GU24)/1000*$FX24 -> 0 | HM24: =MAX(1.2*$GA$15*(GJ24-GG24)-GL24,0) -> 1296 | HN24: =HB24/1000*$FX24 -> 0 | HP24: =GM24/1000*$FX24 -> 0 | HQ24: =(GM24-GL24)/1000*$FX24 -> 0 | HU24: =$HU$21 -> 2.5 | HV24: =$HV$21 -> 350 | HW24: =HV24*(HU24-1+1E-50) -> 525 | HX24: =HU24*HV24 -> 875 | HY24: 0 | HZ24: =HU24 -> 2.5 | IA24: 0 | IB24: 0 | IC24: 0 | ID24: =$ID$21 -> 0.56785714 | IE24: =MAX($IE$21,IF24) -> 21 | IF24: =$C24 -> -20.5 | IG24: =MAX(IE24-ID24*(IE24-IF24),IL24) -> 0 | IH24: =IF24+$GA$14/$GA$15*(IE24-IG24) -> 2.8773585 | II24: =MAX(IG24-IA24*(HZ24-1)/(1.2*$GA$14),IM24) -> 0 | IJ24: =IH24+HZ24*IA24/(1.2*$GA$15) -> 2.8773585 | IK24: =MAX(IJ24,$IM$17) -> 15 | IL24: =$IJ$17 -> 0 | IM24: =($FT$9=1)*$II$17+($FT$9=0)*MAX($II$17,IF24) -> 0 | IN24: =1.2*$GA$14*(IE24-IG24) -> 1486.8 | IO24: =1.2*$GA$14*(IE24-B24) -> 2938.2 | IP24: =MAX(1.2*$GA$15*($IM$17-IJ24),0) -> 771 | IQ24: =IO24-IN24-IP24 -> 680.4 | IR24: =$F24 -> 3660.3 | IS24: =$CO24 -> 529.2 | IT24: =IR24+IQ24 -> 4340.7 | IU24: =MIN(1/(IS24/(IT24+1E-50)+1E-50),1) -> 1 | IV24: =IU24*IS24 -> 529.2 | IW24: =($AN$21=1)*AN24+($AL$21=1)*AL24+($AM$21=1)*AM24 -> 645.54795 | IX24: =MAX(IO24+IR24+IW24-IV24-IN24,1.2*$GA$15*($IM$17-IH24)) -> 5228.0479 | IY24: =MIN(HX24,IX24) -> 875 | IZ24: =MIN(1.2*$GA$14*(IG24-IM24),HW24) -> 0 | JA24: =IY24/HZ24 -> 350 | JB24: =IZ24/(HZ24-1+1E-50) -> 0 | JC24: =JC$22*MIN(JA24:JB24)+(1-JC$22)*IA24 -> 0 | JD24: =JC24*(HZ24-1) -> 0 | JE24: =JC24*HZ24 -> 0 | JF24: =JC24/1000*$HY24 -> 0 | JG24: =JD24/1000*$HY24 -> 0 | JH24: =JE24/1000*$HY24 -> 0 | JI24: =(IX24-JE24) -> 5228.0479 | JJ24: =IP24/1000*$HY24 -> 0 | JK24: =IV24/1000*$HY24 -> 0 | JL24: =IX24/1000*$HY24 -> 0 | JM24: =(JI24>0)*JI24/1000*$HY24 -> 0 | JN24: =(IR24+IO24+IW24)/1000*$HY24 -> 0 | JO24: =MAX(1.2*$GA$15*($IM$17-IF24)-IN24,0) -> 771 | JP24: =JD24/1000*$HY24 -> 0 | JR24: =IO24/1000*$HY24 -> 0 | JS24: =(IO24-IN24)/1000*$HY24 -> 0 | JW24: =$HU$21 -> 2.5 | JX24: =$HV$21 -> 350 | JY24: =JX24*(JW24-1+1E-50) -> 525 | JZ24: =JW24*JX24 -> 875 | KA24: 0 | KB24: =JW24 -> 2.5 | KC24: 0 | KD24: 0 | KE24: 0 | KF24: =$ID$21 -> 0.56785714 | KG24: =MAX($KG$21,KH24) -> 21 | KH24: =$C24 -> -20.5 | KI24: =MAX(KG24-KF24*(KG24-KH24),KN24) -> 0 | KJ24: =KH24+$GA$14/$GA$15*(KG24-KI24) -> 2.8773585 | KK24: =MAX(KI24-KC24*(KB24-1)/(1.2*$GA$14),KO24) -> 0 | KL24: =KJ24+0*(KJ24+KB24*KC24/(1.2*$GA$15)) -> 2.8773585 | KM24: =MAX(KL24,$IM$17) -> 15 | KN24: =$IJ$17 -> 0 | KO24: =($FT$9=1)*$KK$17+($FT$9=0)*MAX($KK$17,KH24) -> 0 | KP24: =1.2*$GA$14*(KG24-KI24) -> 1486.8 | KQ24: =1.2*$GA$14*(KG24-B24) -> 2938.2 | KR24: =1.2*$GA$15*(KM24-KL24) -> 771 | KS24: =KQ24-KP24-KR24 -> 680.4 | KT24: =$F24 -> 3660.3 | KU24: =$CO24 -> 529.2 | KV24: =KT24+KS24 -> 4340.7 | KW24: =MIN(1/(KU24/(KV24+1E-50)+1E-50),1) -> 1 | KX24: =KW24*KU24 -> 529.2 | KY24: =($AN$21=1)*AN24+($AL$21=1)*AL24+($AM$21=1)*AM24 -> 645.54795 | KZ24: =MAX(KQ24+KT24+KY24-KX24-KP24,1.2*$GA$15*($KO$17-KJ24)) -> 5228.0479 | LA24: =MIN(JZ24,KZ24-$KP$17*KR24) -> 875 | LB24: =MIN(1.2*$GA$14*(KI24-KO24),JY24) -> 0 | LC24: =LA24/KB24 -> 350 | LD24: =LB24/(KB24-1+1E-50) -> 0 | LE24: =LE$22*MIN(LC24:LD24)+(1-LE$22)*KC24 -> 0 | LF24: =LE24*(KB24-1) -> 0 | LG24: =LE24*KB24 -> 0 | LH24: =LE24/1000*$KA24 -> 0 | LI24: =LF24/1000*$KA24 -> 0 | LJ24: =LG24/1000*$KA24 -> 0 | LK24: =(KZ24-LG24) -> 5228.0479 | LL24: =KR24/1000*$KA24 -> 0 | LM24: =KX24/1000*$KA24 -> 0 | LN24: =KZ24/1000*$KA24 -> 0 | LO24: =(LK24>0)*LK24/1000*$KA24 -> 0 | LP24: =(KT24+KQ24+KY24)/1000*$KA24 -> 0 | LQ24: =MAX(1.2*$GA$15*($KO$17-KH24)-KP24,0) -> 771 | LR24: =LF24/1000*$KA24 -> 0 | LT24: =KQ24/1000*$KA24 -> 0 | LU24: =(KQ24-KP24)/1000*$KA24 -> 0 | LY24: =$LY$21 -> 2.5 | LZ24: =$LZ$21 -> 350 | MA24: =LZ24*(LY24-1+1E-50) -> 525 | MB24: =LY24*LZ24 -> 875 | MC24: 0 | MD24: =LY24 -> 2.5 | ME24: 350 | MF24: 525 | MG24: 875 | MH24: =$MH$21 -> 0.56785714 | MI24: =MAX($MI$21,ML24) -> 21 | MJ24: =MAX(MI24-MF24/(1.2*$GA$14),MP24) -> 13.584746 | MK24: =MAX(MJ24-MH24*(MJ24-ML24),$MN$17) -> 0 | ML24: =$C24 -> -20.5 | MM24: =MIN(ML24+$GA$14/$GA$15*(MJ24-MK24),$MO$17) -> -5.3773585 | MN24: =MM24+0*(MM24+MG24/(1.2*$GA$15)) -> -5.3773585 | MO24: =MAX(MN24,$MQ$17) -> 15 | MP24: =($FT$9=1)*$MM$17+($FT$9=0)*MAX($MM$17,ML24) -> 0 | MQ24: =1.2*$GA$14*(MJ24-MK24) -> 961.8 | MR24: =1.2*$GA$14*(MI24-B24) -> 2938.2 | MS24: =1.2*$GA$15*(MO24-MN24) -> 1296 | MT24: =MR24-MQ24-MS24 -> 680.4 | MU24: =$F24 -> 3660.3 | MV24: =$CO24 -> 529.2 | MW24: =MU24+MT24 -> 4340.7 | MX24: =MIN(1/(MV24/(MW24+1E-50)+1E-50),1) -> 1 | MY24: =MX24*MV24 -> 529.2 | MZ24: =($AN$21=1)*AN24+($AL$21=1)*AL24+($AM$21=1)*AM24 -> 645.54795 | NA24: =MAX(MR24+MU24+MZ24-MY24-MQ24,1.2*$GA$15*($MQ$17-MM24)) -> 5753.0479 | NB24: =MIN(MB24,NA24-$MR$17*MS24) -> 875 | NC24: =MIN(1.2*$GA$14*(MI24-MP24),MA24) -> 525 | ND24: =NB24/MD24 -> 350 | NE24: =NC24/(MD24-1+1E-50) -> 350 | NF24: =NF$22*MIN(ND24:NE24)+(1-NF$22)*ME24 -> 350 | NG24: =NF24*(MD24-1) -> 525 | NH24: =NF24*MD24 -> 875 | NI24: =NF24/1000*$MC24 -> 0 | NJ24: =NG24/1000*$MC24 -> 0 | NK24: =NH24/1000*$MC24 -> 0 | NL24: =(NA24-NH24) -> 4878.0479 | NM24: =MS24/1000*$MC24 -> 0 | NN24: =MY24/1000*$MC24 -> 0 | NO24: =NA24/1000*$MC24 -> 0 | NP24: =(NL24>0)*NL24/1000*$MC24 -> 0 | NQ24: =(MU24+MR24+MZ24)/1000*$MC24 -> 0 | NR24: =MAX(1.2*$GA$15*($MQ$17-ML24)-MQ24,0) -> 1296 | NS24: =NG24/1000*$MC24 -> 0 | NT24: =(MU24+MR24+MZ24) -> 7244.0479 | NU24: =MR24/1000*$MC24 -> 0 | NV24: =(MR24-MQ24)/1000*$MC24 -> 0
A25: 0.079908676 | B25: -20.5 | C25: =MAX($C$21*($C$19-B25)+B25,B25) -> -20.5 | F25: =$F$21*(J25-B25) -> 3660.3 | G25: =(A25-A24)/100*8760 -> 7 | H25: =F25/1000 -> 3.6603 | I25: =G25*(J25-B25) -> 290.5 | J25: =$FX$3*GD25+$HY$3*IE25+$KA$3*KG25+$MC$3*MI25 -> 21 | K25: =$FX$3*GE25+$HY$3*II25+$KA$3*KK25+$MC$3*MJ25 -> 13.584746 | L25: =$FX$3*GF25+$HY$3*IG25+$KA$3*KI25+$MC$3*MK25 -> 0 | M25: =$FX$3*GG25+$HY$3*IF25+$KA$3*KH25+$MC$3*ML25 -> -20.5 | N25: =$FX$3*GH25+$HY$3*IH25+$KA$3*KJ25+$MC$3*MM25 -> -5.3773585 | O25: =$FX$3*GI25+$HY$3*IJ25+$KA$3*KL25+$MC$3*MN25 -> -5.3773585 | P25: =$FX$3*GJ25+$HY$3*IK25+$KA$3*KM25+$MC$3*MO25 -> 15 | Q25: =N25+AD25*1000/(1.2*$GA$15) -> 0.12578616 | R25: =AF25*G25 -> 6.125 | S25: =X25*G25 -> 47.003936 | T25: =M25+Y25*1000/(1.2*$GA$15) -> 93.400125 | U25: =M25+X25*1000/(1.2*$GA$15) -> 85.07937 | V25: =($FX$3*GN25+$HY$3*IP25+$KA$3*KR25+$MC$3*MS25)/(1000) -> 1.296 | W25: =Y25-AG25-AA25-AF25 -> 4.8780479 | X25: =MAX((Y25-AA25),AB25) -> 6.7148479 | Y25: =H25+Z25+AC25 -> 7.2440479 | Z25: =($FX$3*GM25+$HY$3*IO25+$KA$3*KQ25+$MC$3*MR25)/(1000) -> 2.9382 | AA25: =($FX$3*GT25+$HY$3*IV25+$KA$3*KX25+$MC$3*MY25)/(1000) -> 0.5292 | AB25: =($FX$3*GV25+$HY$3*IX25+$KA$3*KZ25+$MC$3*NA25)/(1000) -> 5.7530479 | AC25: =($FX$3*GU25+$HY$3*IW25+$KA$3*KY25+$MC$3*MZ25)/(1000) -> 0.64554795 | AD25: =($FX$3*HA25+$HY$3*JC25+$KA$3*LE25+$MC$3*NF25)/(1000) -> 0.35 | AE25: =($FX$3*HB25+$HY$3*JD25+$KA$3*LF25+$MC$3*NG25)/(1000) -> 0.525 | AF25: =($FX$3*HC25+$HY$3*JE25+$KA$3*LG25+$MC$3*NH25)/(1000) -> 0.875 | AG25: =($FX$3*GL25+$HY$3*IN25+$KA$3*KP25+$MC$3*MQ25)/(1000) -> 0.9618 | AH25: =AG25+AF25 -> 1.8368 | AI25: =AL25/1000*$AL$21 -> 0.58732877 | AJ25: =AM25/1000*$AM$21 -> 0.058219178 | AK25: =AN25/1000*$AN$21 -> 0 | AL25: =$AL$18 -> 587.32877 | AM25: =$AN$18 -> 58.219178 | AN25: =$AN$19 -> 0 | AP25: =AI25+AJ25 -> 0.64554795 | AQ25: =AP25+AK25 -> 0.64554795 | AR25: =AH25+V25 -> 3.1328 | BO25: =AL25/1000*$G25 -> 4.1113014 | BP25: =AM25/1000*$G25 -> 0.40753425 | BQ25: =AN25/1000*$G25 -> 0 | CB25: =CB$23*$E25*CB$21*CB$20 -> 0 | CC25: =CC$23*$E25*CC$21*CC$20 -> 0 | CD25: =CD$23*$E25*CD$21*CD$20 -> 0 | CE25: =CE$23*$E25*CE$21*CE$20 -> 0 | CF25: =CF$23*$E25*CF$21*CF$20 -> 0 | CG25: =CG$23*$E25*CG$21*CG$20 -> 0 | CH25: =CH$23*$E25*CH$21*CH$20 -> 0 | CI25: =CI$23*$E25*CI$21*CI$20 -> 0 | CJ25: =SUM(CB25:CI25) -> 0 | CK25: =CJ25*24/(MAX($CB$12,10)) -> 0 | CL25: =CL24 -> 529.2 | CM25: =CK25+CL25 -> 529.2 | CN25: =CJ25*G25/1000 -> 0 | CO25: =CM25 -> 529.2 | FT25: =FT24 -> 2.5 | FU25: =FU24 -> 350 | FV25: =FU25*(FT25-1+1E-50) -> 525 | FW25: =FT25*FU25 -> 875 | FX25: 7 | FY25: =FT25 -> 2.5 | FZ25: 350 | GA25: 525 | GB25: 875 | GC25: =GC24 -> 0.56785714 | GD25: =MAX($GD$21,GG25) -> 21 | GE25: =MAX(GD25-GA25/(1.2*$GA$14),GK25) -> 13.584746 | GF25: =MAX(GE25-GC25*(GE25-GG25),$GI$17) -> 0 | GG25: =$C25 -> -20.5 | GH25: =MIN(GG25+$GA$14/$GA$15*(GE25-GF25),$GJ$17) -> -5.3773585 | GI25: =GH25+GB25/(1.2*$GA$15) -> 8.3805031 | GJ25: =MAX(GI25,$GL$17) -> 15 | GK25: =($FT$9=1)*$GH$17+($FT$9=0)*MAX($GH$17,GG25) -> 0 | GL25: =1.2*$GA$14*(GE25-GF25) -> 961.8 | GM25: =1.2*$GA$14*(GD25-B25) -> 2938.2 | GN25: =1.2*$GA$15*(GJ25-GI25) -> 421 | GO25: =GM25-GL25-GN25 -> 1555.4 | GP25: =$F25 -> 3660.3 | GQ25: =$CO25 -> 529.2 | GR25: =GP25+GO25 -> 5215.7 | GS25: =MIN(1/(GQ25/(GR25+1E-50)+1E-50),1) -> 1 | GT25: =GS25*GQ25 -> 529.2 | GU25: =($AN$21=1)*AN25+($AL$21=1)*AL25+($AM$21=1)*AM25 -> 645.54795 | GV25: =MAX(GM25+GP25+GU25-GT25-GL25,1.2*$GA$15*($GL$17-GH25)) -> 5753.0479 | GW25: =MIN(FW25,GV25) -> 875 | GX25: =MIN(1.2*$GA$14*(GD25-GK25),FV25) -> 525 | GY25: =GW25/FY25 -> 350 | GZ25: =GX25/(FY25-1+1E-50) -> 350 | HA25: =HA$22*MIN(GY25:GZ25)+(1-HA$22)*FZ25 -> 350 | HB25: =HA25*(FY25-1) -> 525 | HC25: =HA25*FY25 -> 875 | HD25: =HA25/1000*$FX25 -> 2.45 | HE25: =HB25/1000*$FX25 -> 3.675 | HF25: =HC25/1000*$FX25 -> 6.125 | HG25: =(GV25-HC25) -> 4878.0479 | HH25: =GN25/1000*$FX25 -> 2.947 | HI25: =GT25/1000*$FX25 -> 3.7044 | HJ25: =GV25/1000*$FX25 -> 40.271336 | HK25: =(HG25>0)*HG25/1000*$FX25 -> 34.146336 | HL25: =(GP25+GM25+GU25)/1000*$FX25 -> 50.708336 | HM25: =MAX(1.2*$GA$15*(GJ25-GG25)-GL25,0) -> 1296 | HN25: =HB25/1000*$FX25 -> 3.675 | HP25: =GM25/1000*$FX25 -> 20.5674 | HQ25: =(GM25-GL25)/1000*$FX25 -> 13.8348 | HU25: =HU24 -> 2.5 | HV25: =HV24 -> 350 | HW25: =HV25*(HU25-1+1E-50) -> 525 | HX25: =HU25*HV25 -> 875 | HY25: 7 | HZ25: =HU25 -> 2.5 | IA25: 0 | IB25: 0 | IC25: 0 | ID25: =ID24 -> 0.56785714 | IE25: =MAX($IE$21,IF25) -> 21 | IF25: =$C25 -> -20.5 | IG25: =MAX(IE25-ID25*(IE25-IF25),IL25) -> 0 | IH25: =IF25+$GA$14/$GA$15*(IE25-IG25) -> 2.8773585 | II25: =MAX(IG25-IA25*(HZ25-1)/(1.2*$GA$14),IM25) -> 0 | IJ25: =IH25+HZ25*IA25/(1.2*$GA$15) -> 2.8773585 | IK25: =MAX(IJ25,$IM$17) -> 15 | IL25: =IL24 -> 0 | IM25: =($FT$9=1)*$II$17+($FT$9=0)*MAX($II$17,IF25) -> 0 | IN25: =1.2*$GA$14*(IE25-IG25) -> 1486.8 | IO25: =1.2*$GA$14*(IE25-B25) -> 2938.2 | IP25: =MAX(1.2*$GA$15*($IM$17-IJ25),0) -> 771 | IQ25: =IO25-IN25-IP25 -> 680.4 | IR25: =$F25 -> 3660.3 | IS25: =$CO25 -> 529.2 | IT25: =IR25+IQ25 -> 4340.7 | IU25: =MIN(1/(IS25/(IT25+1E-50)+1E-50),1) -> 1 | IV25: =IU25*IS25 -> 529.2 | IW25: =($AN$21=1)*AN25+($AL$21=1)*AL25+($AM$21=1)*AM25 -> 645.54795 | IX25: =MAX(IO25+IR25+IW25-IV25-IN25,1.2*$GA$15*($IM$17-IH25)) -> 5228.0479 | IY25: =MIN(HX25,IX25) -> 875 | IZ25: =MIN(1.2*$GA$14*(IG25-IM25),HW25) -> 0 | JA25: =IY25/HZ25 -> 350 | JB25: =IZ25/(HZ25-1+1E-50) -> 0 | JC25: =JC$22*MIN(JA25:JB25)+(1-JC$22)*IA25 -> 0 | JD25: =JC25*(HZ25-1) -> 0 | JE25: =JC25*HZ25 -> 0 | JF25: =JC25/1000*$HY25 -> 0 | JG25: =JD25/1000*$HY25 -> 0 | JH25: =JE25/1000*$HY25 -> 0 | JI25: =(IX25-JE25) -> 5228.0479 | JJ25: =IP25/1000*$HY25 -> 5.397 | JK25: =IV25/1000*$HY25 -> 3.7044 | JL25: =IX25/1000*$HY25 -> 36.596336 | JM25: =(JI25>0)*JI25/1000*$HY25 -> 36.596336 | JN25: =(IR25+IO25+IW25)/1000*$HY25 -> 50.708336 | JO25: =MAX(1.2*$GA$15*($IM$17-IF25)-IN25,0) -> 771 | JP25: =JD25/1000*$HY25 -> 0 | JR25: =IO25/1000*$HY25 -> 20.5674 | JS25: =(IO25-IN25)/1000*$HY25 -> 10.1598 | JW25: =JW24 -> 2.5 | JX25: =JX24 -> 350 | JY25: =JX25*(JW25-1+1E-50) -> 525 | JZ25: =JW25*JX25 -> 875 | KA25: 7 | KB25: =JW25 -> 2.5 | KC25: 0 | KD25: 0 | KE25: 0 | KF25: =KF24 -> 0.56785714 | KG25: =MAX($KG$21,KH25) -> 21 | KH25: =$C25 -> -20.5 | KI25: =MAX(KG25-KF25*(KG25-KH25),KN25) -> 0 | KJ25: =KH25+$GA$14/$GA$15*(KG25-KI25) -> 2.8773585 | KK25: =MAX(KI25-KC25*(KB25-1)/(1.2*$GA$14),KO25) -> 0 | KL25: =KJ25+0*(KJ25+KB25*KC25/(1.2*$GA$15)) -> 2.8773585 | KM25: =MAX(KL25,$IM$17) -> 15 | KN25: =KN24 -> 0 | KO25: =($FT$9=1)*$KK$17+($FT$9=0)*MAX($KK$17,KH25) -> 0 | KP25: =1.2*$GA$14*(KG25-KI25) -> 1486.8 | KQ25: =1.2*$GA$14*(KG25-B25) -> 2938.2 | KR25: =1.2*$GA$15*(KM25-KL25) -> 771 | KS25: =KQ25-KP25-KR25 -> 680.4 | KT25: =$F25 -> 3660.3 | KU25: =$CO25 -> 529.2 | KV25: =KT25+KS25 -> 4340.7 | KW25: =MIN(1/(KU25/(KV25+1E-50)+1E-50),1) -> 1 | KX25: =KW25*KU25 -> 529.2 | KY25: =($AN$21=1)*AN25+($AL$21=1)*AL25+($AM$21=1)*AM25 -> 645.54795 | KZ25: =MAX(KQ25+KT25+KY25-KX25-KP25,1.2*$GA$15*($KO$17-KJ25)) -> 5228.0479 | LA25: =MIN(JZ25,KZ25-$KP$17*KR25) -> 875 | LB25: =MIN(1.2*$GA$14*(KI25-KO25),JY25) -> 0 | LC25: =LA25/KB25 -> 350 | LD25: =LB25/(KB25-1+1E-50) -> 0 | LE25: =LE$22*MIN(LC25:LD25)+(1-LE$22)*KC25 -> 0 | LF25: =LE25*(KB25-1) -> 0 | LG25: =LE25*KB25 -> 0 | LH25: =LE25/1000*$KA25 -> 0 | LI25: =LF25/1000*$KA25 -> 0 | LJ25: =LG25/1000*$KA25 -> 0 | LK25: =(KZ25-LG25) -> 5228.0479 | LL25: =KR25/1000*$KA25 -> 5.397 | LM25: =KX25/1000*$KA25 -> 3.7044 | LN25: =KZ25/1000*$KA25 -> 36.596336 | LO25: =(LK25>0)*LK25/1000*$KA25 -> 36.596336 | LP25: =(KT25+KQ25+KY25)/1000*$KA25 -> 50.708336 | LQ25: =MAX(1.2*$GA$15*($KO$17-KH25)-KP25,0) -> 771 | LR25: =LF25/1000*$KA25 -> 0 | LT25: =KQ25/1000*$KA25 -> 20.5674 | LU25: =(KQ25-KP25)/1000*$KA25 -> 10.1598 | LY25: =LY24 -> 2.5 | LZ25: =LZ24 -> 350 | MA25: =LZ25*(LY25-1+1E-50) -> 525 | MB25: =LY25*LZ25 -> 875 | MC25: 7 | MD25: =LY25 -> 2.5 | ME25: 350 | MF25: 525 | MG25: 875 | MH25: =MH24 -> 0.56785714 | MI25: =MAX($MI$21,ML25) -> 21 | MJ25: =MAX(MI25-MF25/(1.2*$GA$14),MP25) -> 13.584746 | MK25: =MAX(MJ25-MH25*(MJ25-ML25),$MN$17) -> 0 | ML25: =$C25 -> -20.5 | MM25: =MIN(ML25+$GA$14/$GA$15*(MJ25-MK25),$MO$17) -> -5.3773585 | MN25: =MM25+0*(MM25+MG25/(1.2*$GA$15)) -> -5.3773585 | MO25: =MAX(MN25,$MQ$17) -> 15 | MP25: =($FT$9=1)*$MM$17+($FT$9=0)*MAX($MM$17,ML25) -> 0 | MQ25: =1.2*$GA$14*(MJ25-MK25) -> 961.8 | MR25: =1.2*$GA$14*(MI25-B25) -> 2938.2 | MS25: =1.2*$GA$15*(MO25-MN25) -> 1296 | MT25: =MR25-MQ25-MS25 -> 680.4 | MU25: =$F25 -> 3660.3 | MV25: =$CO25 -> 529.2 | MW25: =MU25+MT25 -> 4340.7 | MX25: =MIN(1/(MV25/(MW25+1E-50)+1E-50),1) -> 1 | MY25: =MX25*MV25 -> 529.2 | MZ25: =($AN$21=1)*AN25+($AL$21=1)*AL25+($AM$21=1)*AM25 -> 645.54795 | NA25: =MAX(MR25+MU25+MZ25-MY25-MQ25,1.2*$GA$15*($MQ$17-MM25)) -> 5753.0479 | NB25: =MIN(MB25,NA25-$MR$17*MS25) -> 875 | NC25: =MIN(1.2*$GA$14*(MI25-MP25),MA25) -> 525 | ND25: =NB25/MD25 -> 350 | NE25: =NC25/(MD25-1+1E-50) -> 350 | NF25: =NF$22*MIN(ND25:NE25)+(1-NF$22)*ME25 -> 350 | NG25: =NF25*(MD25-1) -> 525 | NH25: =NF25*MD25 -> 875 | NI25: =NF25/1000*$MC25 -> 2.45 | NJ25: =NG25/1000*$MC25 -> 3.675 | NK25: =NH25/1000*$MC25 -> 6.125 | NL25: =(NA25-NH25) -> 4878.0479 | NM25: =MS25/1000*$MC25 -> 9.072 | NN25: =MY25/1000*$MC25 -> 3.7044 | NO25: =NA25/1000*$MC25 -> 40.271336 | NP25: =(NL25>0)*NL25/1000*$MC25 -> 34.146336 | NQ25: =(MU25+MR25+MZ25)/1000*$MC25 -> 50.708336 | NR25: =MAX(1.2*$GA$15*($MQ$17-ML25)-MQ25,0) -> 1296 | NS25: =NG25/1000*$MC25 -> 3.675 | NT25: =(MU25+MR25+MZ25) -> 7244.0479 | NU25: =MR25/1000*$MC25 -> 20.5674 | NV25: =(MR25-MQ25)/1000*$MC25 -> 13.8348
A26: 0.33105023 | B26: -19.5 | C26: =MAX($C$21*($C$19-B26)+B26,B26) -> -19.5 | D26: 16.6 | E26: =D26/((A26-A25)/100*8760) -> 0.75454545 | F26: =$F$21*(J26-B26) -> 3572.1 | G26: =(A26-A25)/100*8760 -> 22 | H26: =F26/1000 -> 3.5721 | I26: =G26*(J26-B26) -> 891 | J26: =$FX$3*GD26+$HY$3*IE26+$KA$3*KG26+$MC$3*MI26 -> 21 | K26: =$FX$3*GE26+$HY$3*II26+$KA$3*KK26+$MC$3*MJ26 -> 13.584746 | L26: =$FX$3*GF26+$HY$3*IG26+$KA$3*KI26+$MC$3*MK26 -> 0 | M26: =$FX$3*GG26+$HY$3*IF26+$KA$3*KH26+$MC$3*ML26 -> -19.5 | N26: =$FX$3*GH26+$HY$3*IH26+$KA$3*KJ26+$MC$3*MM26 -> -4.3773585 | O26: =$FX$3*GI26+$HY$3*IJ26+$KA$3*KL26+$MC$3*MN26 -> -4.3773585 | P26: =$FX$3*GJ26+$HY$3*IK26+$KA$3*KM26+$MC$3*MO26 -> 15 | Q26: =N26+AD26*1000/(1.2*$GA$15) -> 1.1257862 | R26: =AF26*G26 -> 19.25 | S26: =X26*G26 -> 144.11864 | T26: =M26+Y26*1000/(1.2*$GA$15) -> 91.900125 | U26: =M26+X26*1000/(1.2*$GA$15) -> 83.500745 | V26: =($FX$3*GN26+$HY$3*IP26+$KA$3*KR26+$MC$3*MS26)/(1000) -> 1.2324 | W26: =Y26-AG26-AA26-AF26 -> 4.7140474 | X26: =MAX((Y26-AA26),AB26) -> 6.5508474 | Y26: =H26+Z26+AC26 -> 7.0850479 | Z26: =($FX$3*GM26+$HY$3*IO26+$KA$3*KQ26+$MC$3*MR26)/(1000) -> 2.8674 | AA26: =($FX$3*GT26+$HY$3*IV26+$KA$3*KX26+$MC$3*MY26)/(1000) -> 0.53420059 | AB26: =($FX$3*GV26+$HY$3*IX26+$KA$3*KZ26+$MC$3*NA26)/(1000) -> 5.5890474 | AC26: =($FX$3*GU26+$HY$3*IW26+$KA$3*KY26+$MC$3*MZ26)/(1000) -> 0.64554795 | AD26: =($FX$3*HA26+$HY$3*JC26+$KA$3*LE26+$MC$3*NF26)/(1000) -> 0.35 | AE26: =($FX$3*HB26+$HY$3*JD26+$KA$3*LF26+$MC$3*NG26)/(1000) -> 0.525 | AF26: =($FX$3*HC26+$HY$3*JE26+$KA$3*LG26+$MC$3*NH26)/(1000) -> 0.875 | AG26: =($FX$3*GL26+$HY$3*IN26+$KA$3*KP26+$MC$3*MQ26)/(1000) -> 0.9618 | AH26: =AG26+AF26 -> 1.8368 | AI26: =AL26/1000*$AL$21 -> 0.58732877 | AJ26: =AM26/1000*$AM$21 -> 0.058219178 | AK26: =AN26/1000*$AN$21 -> 0 | AL26: =$AL$18 -> 587.32877 | AM26: =$AN$18 -> 58.219178 | AN26: =$AN$19 -> 0 | AP26: =AI26+AJ26 -> 0.64554795 | AQ26: =AP26+AK26 -> 0.64554795 | AR26: =AH26+V26 -> 3.0692 | BO26: =AL26/1000*$G26 -> 12.921233 | BP26: =AM26/1000*$G26 -> 1.2808219 | BQ26: =AN26/1000*$G26 -> 0 | CB26: =CB$23*$E26*CB$21*CB$20 -> 0.69191931 | CC26: =CC$23*$E26*CC$21*CC$20 -> 0 | CD26: =CD$23*$E26*CD$21*CD$20 -> 0.80872397 | CE26: =CE$23*$E26*CE$21*CE$20 -> 0 | CF26: =CF$23*$E26*CF$21*CF$20 -> 2.6901638 | CG26: =CG$23*$E26*CG$21*CG$20 -> 0 | CH26: =CH$23*$E26*CH$21*CH$20 -> 0.80978112 | CI26: =CI$23*$E26*CI$21*CI$20 -> 0 | CJ26: =SUM(CB26:CI26) -> 5.0005882 | CK26: =CJ26*24/(MAX($CB$12,10)) -> 5.0005882 | CL26: =CL25 -> 529.2 | CM26: =CK26+CL26 -> 534.20059 | CN26: =CJ26*G26/1000 -> 0.11001294 | CO26: =CM26 -> 534.20059 | FT26: =FT25 -> 2.5 | FU26: =FU25 -> 350 | FV26: =FU26*(FT26-1+1E-50) -> 525 | FW26: =FT26*FU26 -> 875 | FX26: 22 | FY26: =FT26 -> 2.5 | FZ26: 350 | GA26: 525 | GB26: 875 | GC26: =GC25 -> 0.56785714 | GD26: =MAX($GD$21,GG26) -> 21 | GE26: =MAX(GD26-GA26/(1.2*$GA$14),GK26) -> 13.584746 | GF26: =MAX(GE26-GC26*(GE26-GG26),$GI$17) -> 0 | GG26: =$C26 -> -19.5 | GH26: =MIN(GG26+$GA$14/$GA$15*(GE26-GF26),$GJ$17) -> -4.3773585 | GI26: =GH26+GB26/(1.2*$GA$15) -> 9.3805031 | GJ26: =MAX(GI26,$GL$17) -> 15 | GK26: =($FT$9=1)*$GH$17+($FT$9=0)*MAX($GH$17,GG26) -> 0 | GL26: =1.2*$GA$14*(GE26-GF26) -> 961.8 | GM26: =1.2*$GA$14*(GD26-B26) -> 2867.4 | GN26: =1.2*$GA$15*(GJ26-GI26) -> 357.4 | GO26: =GM26-GL26-GN26 -> 1548.2 | GP26: =$F26 -> 3572.1 | GQ26: =$CO26 -> 534.20059 | GR26: =GP26+GO26 -> 5120.3 | GS26: =MIN(1/(GQ26/(GR26+1E-50)+1E-50),1) -> 1 | GT26: =GS26*GQ26 -> 534.20059 | GU26: =($AN$21=1)*AN26+($AL$21=1)*AL26+($AM$21=1)*AM26 -> 645.54795 | GV26: =MAX(GM26+GP26+GU26-GT26-GL26,1.2*$GA$15*($GL$17-GH26)) -> 5589.0474 | GW26: =MIN(FW26,GV26) -> 875 | GX26: =MIN(1.2*$GA$14*(GD26-GK26),FV26) -> 525 | GY26: =GW26/FY26 -> 350 | GZ26: =GX26/(FY26-1+1E-50) -> 350 | HA26: =HA$22*MIN(GY26:GZ26)+(1-HA$22)*FZ26 -> 350 | HB26: =HA26*(FY26-1) -> 525 | HC26: =HA26*FY26 -> 875 | HD26: =HA26/1000*$FX26 -> 7.7 | HE26: =HB26/1000*$FX26 -> 11.55 | HF26: =HC26/1000*$FX26 -> 19.25 | HG26: =(GV26-HC26) -> 4714.0474 | HH26: =GN26/1000*$FX26 -> 7.8628 | HI26: =GT26/1000*$FX26 -> 11.752413 | HJ26: =GV26/1000*$FX26 -> 122.95904 | HK26: =(HG26>0)*HG26/1000*$FX26 -> 103.70904 | HL26: =(GP26+GM26+GU26)/1000*$FX26 -> 155.87105 | HM26: =MAX(1.2*$GA$15*(GJ26-GG26)-GL26,0) -> 1232.4 | HN26: =HB26/1000*$FX26 -> 11.55 | HP26: =GM26/1000*$FX26 -> 63.0828 | HQ26: =(GM26-GL26)/1000*$FX26 -> 41.9232 | HU26: =HU25 -> 2.5 | HV26: =HV25 -> 350 | HW26: =HV26*(HU26-1+1E-50) -> 525 | HX26: =HU26*HV26 -> 875 | HY26: 22 | HZ26: =HU26 -> 2.5 | IA26: 0 | IB26: 0 | IC26: 0 | ID26: =ID25 -> 0.56785714 | IE26: =MAX($IE$21,IF26) -> 21 | IF26: =$C26 -> -19.5 | IG26: =MAX(IE26-ID26*(IE26-IF26),IL26) -> 0 | IH26: =IF26+$GA$14/$GA$15*(IE26-IG26) -> 3.8773585 | II26: =MAX(IG26-IA26*(HZ26-1)/(1.2*$GA$14),IM26) -> 0 | IJ26: =IH26+HZ26*IA26/(1.2*$GA$15) -> 3.8773585 | IK26: =MAX(IJ26,$IM$17) -> 15 | IL26: =IL25 -> 0 | IM26: =($FT$9=1)*$II$17+($FT$9=0)*MAX($II$17,IF26) -> 0 | IN26: =1.2*$GA$14*(IE26-IG26) -> 1486.8 | IO26: =1.2*$GA$14*(IE26-B26) -> 2867.4 | IP26: =MAX(1.2*$GA$15*($IM$17-IJ26),0) -> 707.4 | IQ26: =IO26-IN26-IP26 -> 673.2 | IR26: =$F26 -> 3572.1 | IS26: =$CO26 -> 534.20059 | IT26: =IR26+IQ26 -> 4245.3 | IU26: =MIN(1/(IS26/(IT26+1E-50)+1E-50),1) -> 1 | IV26: =IU26*IS26 -> 534.20059 | IW26: =($AN$21=1)*AN26+($AL$21=1)*AL26+($AM$21=1)*AM26 -> 645.54795 | IX26: =MAX(IO26+IR26+IW26-IV26-IN26,1.2*$GA$15*($IM$17-IH26)) -> 5064.0474 | IY26: =MIN(HX26,IX26) -> 875 | IZ26: =MIN(1.2*$GA$14*(IG26-IM26),HW26) -> 0 | JA26: =IY26/HZ26 -> 350 | JB26: =IZ26/(HZ26-1+1E-50) -> 0 | JC26: =JC$22*MIN(JA26:JB26)+(1-JC$22)*IA26 -> 0 | JD26: =JC26*(HZ26-1) -> 0 | JE26: =JC26*HZ26 -> 0 | JF26: =JC26/1000*$HY26 -> 0 | JG26: =JD26/1000*$HY26 -> 0 | JH26: =JE26/1000*$HY26 -> 0 | JI26: =(IX26-JE26) -> 5064.0474 | JJ26: =IP26/1000*$HY26 -> 15.5628 | JK26: =IV26/1000*$HY26 -> 11.752413 | JL26: =IX26/1000*$HY26 -> 111.40904 | JM26: =(JI26>0)*JI26/1000*$HY26 -> 111.40904 | JN26: =(IR26+IO26+IW26)/1000*$HY26 -> 155.87105 | JO26: =MAX(1.2*$GA$15*($IM$17-IF26)-IN26,0) -> 707.4 | JP26: =JD26/1000*$HY26 -> 0 | JR26: =IO26/1000*$HY26 -> 63.0828 | JS26: =(IO26-IN26)/1000*$HY26 -> 30.3732 | JW26: =JW25 -> 2.5 | JX26: =JX25 -> 350 | JY26: =JX26*(JW26-1+1E-50) -> 525 | JZ26: =JW26*JX26 -> 875 | KA26: 22 | KB26: =JW26 -> 2.5 | KC26: 0 | KD26: 0 | KE26: 0 | KF26: =KF25 -> 0.56785714 | KG26: =MAX($KG$21,KH26) -> 21 | KH26: =$C26 -> -19.5 | KI26: =MAX(KG26-KF26*(KG26-KH26),KN26) -> 0 | KJ26: =KH26+$GA$14/$GA$15*(KG26-KI26) -> 3.8773585 | KK26: =MAX(KI26-KC26*(KB26-1)/(1.2*$GA$14),KO26) -> 0 | KL26: =KJ26+0*(KJ26+KB26*KC26/(1.2*$GA$15)) -> 3.8773585 | KM26: =MAX(KL26,$IM$17) -> 15 | KN26: =KN25 -> 0 | KO26: =($FT$9=1)*$KK$17+($FT$9=0)*MAX($KK$17,KH26) -> 0 | KP26: =1.2*$GA$14*(KG26-KI26) -> 1486.8 | KQ26: =1.2*$GA$14*(KG26-B26) -> 2867.4 | KR26: =1.2*$GA$15*(KM26-KL26) -> 707.4 | KS26: =KQ26-KP26-KR26 -> 673.2 | KT26: =$F26 -> 3572.1 | KU26: =$CO26 -> 534.20059 | KV26: =KT26+KS26 -> 4245.3 | KW26: =MIN(1/(KU26/(KV26+1E-50)+1E-50),1) -> 1 | KX26: =KW26*KU26 -> 534.20059 | KY26: =($AN$21=1)*AN26+($AL$21=1)*AL26+($AM$21=1)*AM26 -> 645.54795 | KZ26: =MAX(KQ26+KT26+KY26-KX26-KP26,1.2*$GA$15*($KO$17-KJ26)) -> 5064.0474 | LA26: =MIN(JZ26,KZ26-$KP$17*KR26) -> 875 | LB26: =MIN(1.2*$GA$14*(KI26-KO26),JY26) -> 0 | LC26: =LA26/KB26 -> 350 | LD26: =LB26/(KB26-1+1E-50) -> 0 | LE26: =LE$22*MIN(LC26:LD26)+(1-LE$22)*KC26 -> 0 | LF26: =LE26*(KB26-1) -> 0 | LG26: =LE26*KB26 -> 0 | LH26: =LE26/1000*$KA26 -> 0 | LI26: =LF26/1000*$KA26 -> 0 | LJ26: =LG26/1000*$KA26 -> 0 | LK26: =(KZ26-LG26) -> 5064.0474 | LL26: =KR26/1000*$KA26 -> 15.5628 | LM26: =KX26/1000*$KA26 -> 11.752413 | LN26: =KZ26/1000*$KA26 -> 111.40904 | LO26: =(LK26>0)*LK26/1000*$KA26 -> 111.40904 | LP26: =(KT26+KQ26+KY26)/1000*$KA26 -> 155.87105 | LQ26: =MAX(1.2*$GA$15*($KO$17-KH26)-KP26,0) -> 707.4 | LR26: =LF26/1000*$KA26 -> 0 | LT26: =KQ26/1000*$KA26 -> 63.0828 | LU26: =(KQ26-KP26)/1000*$KA26 -> 30.3732 | LY26: =LY25 -> 2.5 | LZ26: =LZ25 -> 350 | MA26: =LZ26*(LY26-1+1E-50) -> 525 | MB26: =LY26*LZ26 -> 875 | MC26: 22 | MD26: =LY26 -> 2.5 | ME26: 350 | MF26: 525 | MG26: 875 | MH26: =MH25 -> 0.56785714 | MI26: =MAX($MI$21,ML26) -> 21 | MJ26: =MAX(MI26-MF26/(1.2*$GA$14),MP26) -> 13.584746 | MK26: =MAX(MJ26-MH26*(MJ26-ML26),$MN$17) -> 0 | ML26: =$C26 -> -19.5 | MM26: =MIN(ML26+$GA$14/$GA$15*(MJ26-MK26),$MO$17) -> -4.3773585 | MN26: =MM26+0*(MM26+MG26/(1.2*$GA$15)) -> -4.3773585 | MO26: =MAX(MN26,$MQ$17) -> 15 | MP26: =($FT$9=1)*$MM$17+($FT$9=0)*MAX($MM$17,ML26) -> 0 | MQ26: =1.2*$GA$14*(MJ26-MK26) -> 961.8 | MR26: =1.2*$GA$14*(MI26-B26) -> 2867.4 | MS26: =1.2*$GA$15*(MO26-MN26) -> 1232.4 | MT26: =MR26-MQ26-MS26 -> 673.2 | MU26: =$F26 -> 3572.1 | MV26: =$CO26 -> 534.20059 | MW26: =MU26+MT26 -> 4245.3 | MX26: =MIN(1/(MV26/(MW26+1E-50)+1E-50),1) -> 1 | MY26: =MX26*MV26 -> 534.20059 | MZ26: =($AN$21=1)*AN26+($AL$21=1)*AL26+($AM$21=1)*AM26 -> 645.54795 | NA26: =MAX(MR26+MU26+MZ26-MY26-MQ26,1.2*$GA$15*($MQ$17-MM26)) -> 5589.0474 | NB26: =MIN(MB26,NA26-$MR$17*MS26) -> 875 | NC26: =MIN(1.2*$GA$14*(MI26-MP26),MA26) -> 525 | ND26: =NB26/MD26 -> 350 | NE26: =NC26/(MD26-1+1E-50) -> 350 | NF26: =NF$22*MIN(ND26:NE26)+(1-NF$22)*ME26 -> 350 | NG26: =NF26*(MD26-1) -> 525 | NH26: =NF26*MD26 -> 875 | NI26: =NF26/1000*$MC26 -> 7.7 | NJ26: =NG26/1000*$MC26 -> 11.55 | NK26: =NH26/1000*$MC26 -> 19.25 | NL26: =(NA26-NH26) -> 4714.0474 | NM26: =MS26/1000*$MC26 -> 27.1128 | NN26: =MY26/1000*$MC26 -> 11.752413 | NO26: =NA26/1000*$MC26 -> 122.95904 | NP26: =(NL26>0)*NL26/1000*$MC26 -> 103.70904 | NQ26: =(MU26+MR26+MZ26)/1000*$MC26 -> 155.87105 | NR26: =MAX(1.2*$GA$15*($MQ$17-ML26)-MQ26,0) -> 1232.4 | NS26: =NG26/1000*$MC26 -> 11.55 | NT26: =(MU26+MR26+MZ26) -> 7085.0479 | NU26: =MR26/1000*$MC26 -> 63.0828 | NV26: =(MR26-MQ26)/1000*$MC26 -> 41.9232
A27: 0.55936073 | B27: -18.5 | C27: =MAX($C$21*($C$19-B27)+B27,B27) -> -18.5 | D27: 233.6 | E27: =D27/((A27-A26)/100*8760) -> 11.68 | F27: =$F$21*(J27-B27) -> 3483.9 | G27: =(A27-A26)/100*8760 -> 20 | H27: =F27/1000 -> 3.4839 | I27: =G27*(J27-B27) -> 790 | J27: =$FX$3*GD27+$HY$3*IE27+$KA$3*KG27+$MC$3*MI27 -> 21 | K27: =$FX$3*GE27+$HY$3*II27+$KA$3*KK27+$MC$3*MJ27 -> 13.584746 | L27: =$FX$3*GF27+$HY$3*IG27+$KA$3*KI27+$MC$3*MK27 -> 0 | M27: =$FX$3*GG27+$HY$3*IF27+$KA$3*KH27+$MC$3*ML27 -> -18.5 | N27: =$FX$3*GH27+$HY$3*IH27+$KA$3*KJ27+$MC$3*MM27 -> -3.3773585 | O27: =$FX$3*GI27+$HY$3*IJ27+$KA$3*KL27+$MC$3*MN27 -> -3.3773585 | P27: =$FX$3*GJ27+$HY$3*IK27+$KA$3*KM27+$MC$3*MO27 -> 15 | Q27: =N27+AD27*1000/(1.2*$GA$15) -> 2.1257862 | R27: =AF27*G27 -> 17.5 | S27: =X27*G27 -> 126.38882 | T27: =M27+Y27*1000/(1.2*$GA$15) -> 90.400125 | U27: =M27+X27*1000/(1.2*$GA$15) -> 80.862284 | V27: =($FX$3*GN27+$HY$3*IP27+$KA$3*KR27+$MC$3*MS27)/(1000) -> 1.1688 | W27: =Y27-AG27-AA27-AF27 -> 4.4826412 | X27: =MAX((Y27-AA27),AB27) -> 6.3194412 | Y27: =H27+Z27+AC27 -> 6.9260479 | Z27: =($FX$3*GM27+$HY$3*IO27+$KA$3*KQ27+$MC$3*MR27)/(1000) -> 2.7966 | AA27: =($FX$3*GT27+$HY$3*IV27+$KA$3*KX27+$MC$3*MY27)/(1000) -> 0.6066067 | AB27: =($FX$3*GV27+$HY$3*IX27+$KA$3*KZ27+$MC$3*NA27)/(1000) -> 5.3576412 | AC27: =($FX$3*GU27+$HY$3*IW27+$KA$3*KY27+$MC$3*MZ27)/(1000) -> 0.64554795 | AD27: =($FX$3*HA27+$HY$3*JC27+$KA$3*LE27+$MC$3*NF27)/(1000) -> 0.35 | AE27: =($FX$3*HB27+$HY$3*JD27+$KA$3*LF27+$MC$3*NG27)/(1000) -> 0.525 | AF27: =($FX$3*HC27+$HY$3*JE27+$KA$3*LG27+$MC$3*NH27)/(1000) -> 0.875 | AG27: =($FX$3*GL27+$HY$3*IN27+$KA$3*KP27+$MC$3*MQ27)/(1000) -> 0.9618 | AH27: =AG27+AF27 -> 1.8368 | AI27: =AL27/1000*$AL$21 -> 0.58732877 | AJ27: =AM27/1000*$AM$21 -> 0.058219178 | AK27: =AN27/1000*$AN$21 -> 0 | AL27: =$AL$18 -> 587.32877 | AM27: =$AN$18 -> 58.219178 | AN27: =$AN$19 -> 0 | AP27: =AI27+AJ27 -> 0.64554795 | AQ27: =AP27+AK27 -> 0.64554795 | AR27: =AH27+V27 -> 3.0056 | BO27: =AL27/1000*$G27 -> 11.746575 | BP27: =AM27/1000*$G27 -> 1.1643836 | BQ27: =AN27/1000*$G27 -> 0 | CB27: =CB$23*$E27*CB$21*CB$20 -> 10.710578 | CC27: =CC$23*$E27*CC$21*CC$20 -> 0 | CD27: =CD$23*$E27*CD$21*CD$20 -> 12.518657 | CE27: =CE$23*$E27*CE$21*CE$20 -> 0 | CF27: =CF$23*$E27*CF$21*CF$20 -> 41.64244 | CG27: =CG$23*$E27*CG$21*CG$20 -> 0 | CH27: =CH$23*$E27*CH$21*CH$20 -> 12.535022 | CI27: =CI$23*$E27*CI$21*CI$20 -> 0 | CJ27: =SUM(CB27:CI27) -> 77.406696 | CK27: =CJ27*24/(MAX($CB$12,10)) -> 77.406696 | CL27: =CL26 -> 529.2 | CM27: =CK27+CL27 -> 606.6067 | CN27: =CJ27*G27/1000 -> 1.5481339 | CO27: =CM27 -> 606.6067 | FT27: =FT26 -> 2.5 | FU27: =FU26 -> 350 | FV27: =FU27*(FT27-1+1E-50) -> 525 | FW27: =FT27*FU27 -> 875 | FX27: 20 | FY27: =FT27 -> 2.5 | FZ27: 350 | GA27: 525 | GB27: 875 | GC27: =GC26 -> 0.56785714 | GD27: =MAX($GD$21,GG27) -> 21 | GE27: =MAX(GD27-GA27/(1.2*$GA$14),GK27) -> 13.584746 | GF27: =MAX(GE27-GC27*(GE27-GG27),$GI$17) -> 0 | GG27: =$C27 -> -18.5 | GH27: =MIN(GG27+$GA$14/$GA$15*(GE27-GF27),$GJ$17) -> -3.3773585 | GI27: =GH27+GB27/(1.2*$GA$15) -> 10.380503 | GJ27: =MAX(GI27,$GL$17) -> 15 | GK27: =($FT$9=1)*$GH$17+($FT$9=0)*MAX($GH$17,GG27) -> 0 | GL27: =1.2*$GA$14*(GE27-GF27) -> 961.8 | GM27: =1.2*$GA$14*(GD27-B27) -> 2796.6 | GN27: =1.2*$GA$15*(GJ27-GI27) -> 293.8 | GO27: =GM27-GL27-GN27 -> 1541 | GP27: =$F27 -> 3483.9 | GQ27: =$CO27 -> 606.6067 | GR27: =GP27+GO27 -> 5024.9 | GS27: =MIN(1/(GQ27/(GR27+1E-50)+1E-50),1) -> 1 | GT27: =GS27*GQ27 -> 606.6067 | GU27: =($AN$21=1)*AN27+($AL$21=1)*AL27+($AM$21=1)*AM27 -> 645.54795 | GV27: =MAX(GM27+GP27+GU27-GT27-GL27,1.2*$GA$15*($GL$17-GH27)) -> 5357.6412 | GW27: =MIN(FW27,GV27) -> 875 | GX27: =MIN(1.2*$GA$14*(GD27-GK27),FV27) -> 525 | GY27: =GW27/FY27 -> 350 | GZ27: =GX27/(FY27-1+1E-50) -> 350 | HA27: =HA$22*MIN(GY27:GZ27)+(1-HA$22)*FZ27 -> 350 | HB27: =HA27*(FY27-1) -> 525 | HC27: =HA27*FY27 -> 875 | HD27: =HA27/1000*$FX27 -> 7 | HE27: =HB27/1000*$FX27 -> 10.5 | HF27: =HC27/1000*$FX27 -> 17.5 | HG27: =(GV27-HC27) -> 4482.6412 | HH27: =GN27/1000*$FX27 -> 5.876 | HI27: =GT27/1000*$FX27 -> 12.132134 | HJ27: =GV27/1000*$FX27 -> 107.15282 | HK27: =(HG27>0)*HG27/1000*$FX27 -> 89.652825 | HL27: =(GP27+GM27+GU27)/1000*$FX27 -> 138.52096 | HM27: =MAX(1.2*$GA$15*(GJ27-GG27)-GL27,0) -> 1168.8 | HN27: =HB27/1000*$FX27 -> 10.5 | HP27: =GM27/1000*$FX27 -> 55.932 | HQ27: =(GM27-GL27)/1000*$FX27 -> 36.696 | HU27: =HU26 -> 2.5 | HV27: =HV26 -> 350 | HW27: =HV27*(HU27-1+1E-50) -> 525 | HX27: =HU27*HV27 -> 875 | HY27: 20 | HZ27: =HU27 -> 2.5 | IA27: 0 | IB27: 0 | IC27: 0 | ID27: =ID26 -> 0.56785714 | IE27: =MAX($IE$21,IF27) -> 21 | IF27: =$C27 -> -18.5 | IG27: =MAX(IE27-ID27*(IE27-IF27),IL27) -> 0 | IH27: =IF27+$GA$14/$GA$15*(IE27-IG27) -> 4.8773585 | II27: =MAX(IG27-IA27*(HZ27-1)/(1.2*$GA$14),IM27) -> 0 | IJ27: =IH27+HZ27*IA27/(1.2*$GA$15) -> 4.8773585 | IK27: =MAX(IJ27,$IM$17) -> 15 | IL27: =IL26 -> 0 | IM27: =($FT$9=1)*$II$17+($FT$9=0)*MAX($II$17,IF27) -> 0 | IN27: =1.2*$GA$14*(IE27-IG27) -> 1486.8 | IO27: =1.2*$GA$14*(IE27-B27) -> 2796.6 | IP27: =MAX(1.2*$GA$15*($IM$17-IJ27),0) -> 643.8 | IQ27: =IO27-IN27-IP27 -> 666 | IR27: =$F27 -> 3483.9 | IS27: =$CO27 -> 606.6067 | IT27: =IR27+IQ27 -> 4149.9 | IU27: =MIN(1/(IS27/(IT27+1E-50)+1E-50),1) -> 1 | IV27: =IU27*IS27 -> 606.6067 | IW27: =($AN$21=1)*AN27+($AL$21=1)*AL27+($AM$21=1)*AM27 -> 645.54795 | IX27: =MAX(IO27+IR27+IW27-IV27-IN27,1.2*$GA$15*($IM$17-IH27)) -> 4832.6412 | IY27: =MIN(HX27,IX27) -> 875 | IZ27: =MIN(1.2*$GA$14*(IG27-IM27),HW27) -> 0 | JA27: =IY27/HZ27 -> 350 | JB27: =IZ27/(HZ27-1+1E-50) -> 0 | JC27: =JC$22*MIN(JA27:JB27)+(1-JC$22)*IA27 -> 0 | JD27: =JC27*(HZ27-1) -> 0 | JE27: =JC27*HZ27 -> 0 | JF27: =JC27/1000*$HY27 -> 0 | JG27: =JD27/1000*$HY27 -> 0 | JH27: =JE27/1000*$HY27 -> 0 | JI27: =(IX27-JE27) -> 4832.6412 | JJ27: =IP27/1000*$HY27 -> 12.876 | JK27: =IV27/1000*$HY27 -> 12.132134 | JL27: =IX27/1000*$HY27 -> 96.652825 | JM27: =(JI27>0)*JI27/1000*$HY27 -> 96.652825 | JN27: =(IR27+IO27+IW27)/1000*$HY27 -> 138.52096 | JO27: =MAX(1.2*$GA$15*($IM$17-IF27)-IN27,0) -> 643.8 | JP27: =JD27/1000*$HY27 -> 0 | JR27: =IO27/1000*$HY27 -> 55.932 | JS27: =(IO27-IN27)/1000*$HY27 -> 26.196 | JW27: =JW26 -> 2.5 | JX27: =JX26 -> 350 | JY27: =JX27*(JW27-1+1E-50) -> 525 | JZ27: =JW27*JX27 -> 875 | KA27: 20 | KB27: =JW27 -> 2.5 | KC27: 0 | KD27: 0 | KE27: 0 | KF27: =KF26 -> 0.56785714 | KG27: =MAX($KG$21,KH27) -> 21 | KH27: =$C27 -> -18.5 | KI27: =MAX(KG27-KF27*(KG27-KH27),KN27) -> 0 | KJ27: =KH27+$GA$14/$GA$15*(KG27-KI27) -> 4.8773585 | KK27: =MAX(KI27-KC27*(KB27-1)/(1.2*$GA$14),KO27) -> 0 | KL27: =KJ27+0*(KJ27+KB27*KC27/(1.2*$GA$15)) -> 4.8773585 | KM27: =MAX(KL27,$IM$17) -> 15 | KN27: =KN26 -> 0 | KO27: =($FT$9=1)*$KK$17+($FT$9=0)*MAX($KK$17,KH27) -> 0 | KP27: =1.2*$GA$14*(KG27-KI27) -> 1486.8 | KQ27: =1.2*$GA$14*(KG27-B27) -> 2796.6 | KR27: =1.2*$GA$15*(KM27-KL27) -> 643.8 | KS27: =KQ27-KP27-KR27 -> 666 | KT27: =$F27 -> 3483.9 | KU27: =$CO27 -> 606.6067 | KV27: =KT27+KS27 -> 4149.9 | KW27: =MIN(1/(KU27/(KV27+1E-50)+1E-50),1) -> 1 | KX27: =KW27*KU27 -> 606.6067 | KY27: =($AN$21=1)*AN27+($AL$21=1)*AL27+($AM$21=1)*AM27 -> 645.54795 | KZ27: =MAX(KQ27+KT27+KY27-KX27-KP27,1.2*$GA$15*($KO$17-KJ27)) -> 4832.6412 | LA27: =MIN(JZ27,KZ27-$KP$17*KR27) -> 875 | LB27: =MIN(1.2*$GA$14*(KI27-KO27),JY27) -> 0 | LC27: =LA27/KB27 -> 350 | LD27: =LB27/(KB27-1+1E-50) -> 0 | LE27: =LE$22*MIN(LC27:LD27)+(1-LE$22)*KC27 -> 0 | LF27: =LE27*(KB27-1) -> 0 | LG27: =LE27*KB27 -> 0 | LH27: =LE27/1000*$KA27 -> 0 | LI27: =LF27/1000*$KA27 -> 0 | LJ27: =LG27/1000*$KA27 -> 0 | LK27: =(KZ27-LG27) -> 4832.6412 | LL27: =KR27/1000*$KA27 -> 12.876 | LM27: =KX27/1000*$KA27 -> 12.132134 | LN27: =KZ27/1000*$KA27 -> 96.652825 | LO27: =(LK27>0)*LK27/1000*$KA27 -> 96.652825 | LP27: =(KT27+KQ27+KY27)/1000*$KA27 -> 138.52096 | LQ27: =MAX(1.2*$GA$15*($KO$17-KH27)-KP27,0) -> 643.8 | LR27: =LF27/1000*$KA27 -> 0 | LT27: =KQ27/1000*$KA27 -> 55.932 | LU27: =(KQ27-KP27)/1000*$KA27 -> 26.196 | LY27: =LY26 -> 2.5 | LZ27: =LZ26 -> 350 | MA27: =LZ27*(LY27-1+1E-50) -> 525 | MB27: =LY27*LZ27 -> 875 | MC27: 20 | MD27: =LY27 -> 2.5 | ME27: 350 | MF27: 525 | MG27: 875 | MH27: =MH26 -> 0.56785714 | MI27: =MAX($MI$21,ML27) -> 21 | MJ27: =MAX(MI27-MF27/(1.2*$GA$14),MP27) -> 13.584746 | MK27: =MAX(MJ27-MH27*(MJ27-ML27),$MN$17) -> 0 | ML27: =$C27 -> -18.5 | MM27: =MIN(ML27+$GA$14/$GA$15*(MJ27-MK27),$MO$17) -> -3.3773585 | MN27: =MM27+0*(MM27+MG27/(1.2*$GA$15)) -> -3.3773585 | MO27: =MAX(MN27,$MQ$17) -> 15 | MP27: =($FT$9=1)*$MM$17+($FT$9=0)*MAX($MM$17,ML27) -> 0 | MQ27: =1.2*$GA$14*(MJ27-MK27) -> 961.8 | MR27: =1.2*$GA$14*(MI27-B27) -> 2796.6 | MS27: =1.2*$GA$15*(MO27-MN27) -> 1168.8 | MT27: =MR27-MQ27-MS27 -> 666 | MU27: =$F27 -> 3483.9 | MV27: =$CO27 -> 606.6067 | MW27: =MU27+MT27 -> 4149.9 | MX27: =MIN(1/(MV27/(MW27+1E-50)+1E-50),1) -> 1 | MY27: =MX27*MV27 -> 606.6067 | MZ27: =($AN$21=1)*AN27+($AL$21=1)*AL27+($AM$21=1)*AM27 -> 645.54795 | NA27: =MAX(MR27+MU27+MZ27-MY27-MQ27,1.2*$GA$15*($MQ$17-MM27)) -> 5357.6412 | NB27: =MIN(MB27,NA27-$MR$17*MS27) -> 875 | NC27: =MIN(1.2*$GA$14*(MI27-MP27),MA27) -> 525 | ND27: =NB27/MD27 -> 350 | NE27: =NC27/(MD27-1+1E-50) -> 350 | NF27: =NF$22*MIN(ND27:NE27)+(1-NF$22)*ME27 -> 350 | NG27: =NF27*(MD27-1) -> 525 | NH27: =NF27*MD27 -> 875 | NI27: =NF27/1000*$MC27 -> 7 | NJ27: =NG27/1000*$MC27 -> 10.5 | NK27: =NH27/1000*$MC27 -> 17.5 | NL27: =(NA27-NH27) -> 4482.6412 | NM27: =MS27/1000*$MC27 -> 23.376 | NN27: =MY27/1000*$MC27 -> 12.132134 | NO27: =NA27/1000*$MC27 -> 107.15282 | NP27: =(NL27>0)*NL27/1000*$MC27 -> 89.652825 | NQ27: =(MU27+MR27+MZ27)/1000*$MC27 -> 138.52096 | NR27: =MAX(1.2*$GA$15*($MQ$17-ML27)-MQ27,0) -> 1168.8 | NS27: =NG27/1000*$MC27 -> 10.5 | NT27: =(MU27+MR27+MZ27) -> 6926.0479 | NU27: =MR27/1000*$MC27 -> 55.932 | NV27: =(MR27-MQ27)/1000*$MC27 -> 36.696
A28: 0.83333333 | B28: -17.5 | C28: =MAX($C$21*($C$19-B28)+B28,B28) -> -17.5 | D28: 606.2 | E28: =D28/((A28-A27)/100*8760) -> 25.258333 | F28: =$F$21*(J28-B28) -> 3395.7 | G28: =(A28-A27)/100*8760 -> 24 | H28: =F28/1000 -> 3.3957 | I28: =G28*(J28-B28) -> 924 | J28: =$FX$3*GD28+$HY$3*IE28+$KA$3*KG28+$MC$3*MI28 -> 21 | K28: =$FX$3*GE28+$HY$3*II28+$KA$3*KK28+$MC$3*MJ28 -> 13.584746 | L28: =$FX$3*GF28+$HY$3*IG28+$KA$3*KI28+$MC$3*MK28 -> 0 | M28: =$FX$3*GG28+$HY$3*IF28+$KA$3*KH28+$MC$3*ML28 -> -17.5 | N28: =$FX$3*GH28+$HY$3*IH28+$KA$3*KJ28+$MC$3*MM28 -> -2.3773585 | O28: =$FX$3*GI28+$HY$3*IJ28+$KA$3*KL28+$MC$3*MN28 -> -2.3773585 | P28: =$FX$3*GJ28+$HY$3*IK28+$KA$3*KM28+$MC$3*MO28 -> 15 | Q28: =N28+AD28*1000/(1.2*$GA$15) -> 3.1257862 | R28: =AF28*G28 -> 21 | S28: =X28*G28 -> 145.69089 | T28: =M28+Y28*1000/(1.2*$GA$15) -> 88.900125 | U28: =M28+X28*1000/(1.2*$GA$15) -> 77.947386 | V28: =($FX$3*GN28+$HY$3*IP28+$KA$3*KR28+$MC$3*MS28)/(1000) -> 1.1052 | W28: =Y28-AG28-AA28-AF28 -> 4.2336538 | X28: =MAX((Y28-AA28),AB28) -> 6.0704538 | Y28: =H28+Z28+AC28 -> 6.7670479 | Z28: =($FX$3*GM28+$HY$3*IO28+$KA$3*KQ28+$MC$3*MR28)/(1000) -> 2.7258 | AA28: =($FX$3*GT28+$HY$3*IV28+$KA$3*KX28+$MC$3*MY28)/(1000) -> 0.69659419 | AB28: =($FX$3*GV28+$HY$3*IX28+$KA$3*KZ28+$MC$3*NA28)/(1000) -> 5.1086538 | AC28: =($FX$3*GU28+$HY$3*IW28+$KA$3*KY28+$MC$3*MZ28)/(1000) -> 0.64554795 | AD28: =($FX$3*HA28+$HY$3*JC28+$KA$3*LE28+$MC$3*NF28)/(1000) -> 0.35 | AE28: =($FX$3*HB28+$HY$3*JD28+$KA$3*LF28+$MC$3*NG28)/(1000) -> 0.525 | AF28: =($FX$3*HC28+$HY$3*JE28+$KA$3*LG28+$MC$3*NH28)/(1000) -> 0.875 | AG28: =($FX$3*GL28+$HY$3*IN28+$KA$3*KP28+$MC$3*MQ28)/(1000) -> 0.9618 | AH28: =AG28+AF28 -> 1.8368 | AI28: =AL28/1000*$AL$21 -> 0.58732877 | AJ28: =AM28/1000*$AM$21 -> 0.058219178 | AK28: =AN28/1000*$AN$21 -> 0 | AL28: =$AL$18 -> 587.32877 | AM28: =$AN$18 -> 58.219178 | AN28: =$AN$19 -> 0 | AP28: =AI28+AJ28 -> 0.64554795 | AQ28: =AP28+AK28 -> 0.64554795 | AR28: =AH28+V28 -> 2.942 | BO28: =AL28/1000*$G28 -> 14.09589 | BP28: =AM28/1000*$G28 -> 1.3972603 | BQ28: =AN28/1000*$G28 -> 0 | CB28: =CB$23*$E28*CB$21*CB$20 -> 23.16193 | CC28: =CC$23*$E28*CC$21*CC$20 -> 0 | CD28: =CD$23*$E28*CD$21*CD$20 -> 27.071954 | CE28: =CE$23*$E28*CE$21*CE$20 -> 0 | CF28: =CF$23*$E28*CF$21*CF$20 -> 90.052964 | CG28: =CG$23*$E28*CG$21*CG$20 -> 0 | CH28: =CH$23*$E28*CH$21*CH$20 -> 27.107342 | CI28: =CI$23*$E28*CI$21*CI$20 -> 0 | CJ28: =SUM(CB28:CI28) -> 167.39419 | CK28: =CJ28*24/(MAX($CB$12,10)) -> 167.39419 | CL28: =CL27 -> 529.2 | CM28: =CK28+CL28 -> 696.59419 | CN28: =CJ28*G28/1000 -> 4.0174605 | CO28: =CM28 -> 696.59419 | FT28: =FT27 -> 2.5 | FU28: =FU27 -> 350 | FV28: =FU28*(FT28-1+1E-50) -> 525 | FW28: =FT28*FU28 -> 875 | FX28: 24 | FY28: =FT28 -> 2.5 | FZ28: 350 | GA28: 525 | GB28: 875 | GC28: =GC27 -> 0.56785714 | GD28: =MAX($GD$21,GG28) -> 21 | GE28: =MAX(GD28-GA28/(1.2*$GA$14),GK28) -> 13.584746 | GF28: =MAX(GE28-GC28*(GE28-GG28),$GI$17) -> 0 | GG28: =$C28 -> -17.5 | GH28: =MIN(GG28+$GA$14/$GA$15*(GE28-GF28),$GJ$17) -> -2.3773585 | GI28: =GH28+GB28/(1.2*$GA$15) -> 11.380503 | GJ28: =MAX(GI28,$GL$17) -> 15 | GK28: =($FT$9=1)*$GH$17+($FT$9=0)*MAX($GH$17,GG28) -> 0 | GL28: =1.2*$GA$14*(GE28-GF28) -> 961.8 | GM28: =1.2*$GA$14*(GD28-B28) -> 2725.8 | GN28: =1.2*$GA$15*(GJ28-GI28) -> 230.2 | GO28: =GM28-GL28-GN28 -> 1533.8 | GP28: =$F28 -> 3395.7 | GQ28: =$CO28 -> 696.59419 | GR28: =GP28+GO28 -> 4929.5 | GS28: =MIN(1/(GQ28/(GR28+1E-50)+1E-50),1) -> 1 | GT28: =GS28*GQ28 -> 696.59419 | GU28: =($AN$21=1)*AN28+($AL$21=1)*AL28+($AM$21=1)*AM28 -> 645.54795 | GV28: =MAX(GM28+GP28+GU28-GT28-GL28,1.2*$GA$15*($GL$17-GH28)) -> 5108.6538 | GW28: =MIN(FW28,GV28) -> 875 | GX28: =MIN(1.2*$GA$14*(GD28-GK28),FV28) -> 525 | GY28: =GW28/FY28 -> 350 | GZ28: =GX28/(FY28-1+1E-50) -> 350 | HA28: =HA$22*MIN(GY28:GZ28)+(1-HA$22)*FZ28 -> 350 | HB28: =HA28*(FY28-1) -> 525 | HC28: =HA28*FY28 -> 875 | HD28: =HA28/1000*$FX28 -> 8.4 | HE28: =HB28/1000*$FX28 -> 12.6 | HF28: =HC28/1000*$FX28 -> 21 | HG28: =(GV28-HC28) -> 4233.6538 | HH28: =GN28/1000*$FX28 -> 5.5248 | HI28: =GT28/1000*$FX28 -> 16.718261 | HJ28: =GV28/1000*$FX28 -> 122.60769 | HK28: =(HG28>0)*HG28/1000*$FX28 -> 101.60769 | HL28: =(GP28+GM28+GU28)/1000*$FX28 -> 162.40915 | HM28: =MAX(1.2*$GA$15*(GJ28-GG28)-GL28,0) -> 1105.2 | HN28: =HB28/1000*$FX28 -> 12.6 | HP28: =GM28/1000*$FX28 -> 65.4192 | HQ28: =(GM28-GL28)/1000*$FX28 -> 42.336 | HU28: =HU27 -> 2.5 | HV28: =HV27 -> 350 | HW28: =HV28*(HU28-1+1E-50) -> 525 | HX28: =HU28*HV28 -> 875 | HY28: 24 | HZ28: =HU28 -> 2.5 | IA28: 0 | IB28: 0 | IC28: 0 | ID28: =ID27 -> 0.56785714 | IE28: =MAX($IE$21,IF28) -> 21 | IF28: =$C28 -> -17.5 | IG28: =MAX(IE28-ID28*(IE28-IF28),IL28) -> 0 | IH28: =IF28+$GA$14/$GA$15*(IE28-IG28) -> 5.8773585 | II28: =MAX(IG28-IA28*(HZ28-1)/(1.2*$GA$14),IM28) -> 0 | IJ28: =IH28+HZ28*IA28/(1.2*$GA$15) -> 5.8773585 | IK28: =MAX(IJ28,$IM$17) -> 15 | IL28: =IL27 -> 0 | IM28: =($FT$9=1)*$II$17+($FT$9=0)*MAX($II$17,IF28) -> 0 | IN28: =1.2*$GA$14*(IE28-IG28) -> 1486.8 | IO28: =1.2*$GA$14*(IE28-B28) -> 2725.8 | IP28: =MAX(1.2*$GA$15*($IM$17-IJ28),0) -> 580.2 | IQ28: =IO28-IN28-IP28 -> 658.8 | IR28: =$F28 -> 3395.7 | IS28: =$CO28 -> 696.59419 | IT28: =IR28+IQ28 -> 4054.5 | IU28: =MIN(1/(IS28/(IT28+1E-50)+1E-50),1) -> 1 | IV28: =IU28*IS28 -> 696.59419 | IW28: =($AN$21=1)*AN28+($AL$21=1)*AL28+($AM$21=1)*AM28 -> 645.54795 | IX28: =MAX(IO28+IR28+IW28-IV28-IN28,1.2*$GA$15*($IM$17-IH28)) -> 4583.6538 | IY28: =MIN(HX28,IX28) -> 875 | IZ28: =MIN(1.2*$GA$14*(IG28-IM28),HW28) -> 0 | JA28: =IY28/HZ28 -> 350 | JB28: =IZ28/(HZ28-1+1E-50) -> 0 | JC28: =JC$22*MIN(JA28:JB28)+(1-JC$22)*IA28 -> 0 | JD28: =JC28*(HZ28-1) -> 0 | JE28: =JC28*HZ28 -> 0 | JF28: =JC28/1000*$HY28 -> 0 | JG28: =JD28/1000*$HY28 -> 0 | JH28: =JE28/1000*$HY28 -> 0 | JI28: =(IX28-JE28) -> 4583.6538 | JJ28: =IP28/1000*$HY28 -> 13.9248 | JK28: =IV28/1000*$HY28 -> 16.718261 | JL28: =IX28/1000*$HY28 -> 110.00769 | JM28: =(JI28>0)*JI28/1000*$HY28 -> 110.00769 | JN28: =(IR28+IO28+IW28)/1000*$HY28 -> 162.40915 | JO28: =MAX(1.2*$GA$15*($IM$17-IF28)-IN28,0) -> 580.2 | JP28: =JD28/1000*$HY28 -> 0 | JR28: =IO28/1000*$HY28 -> 65.4192 | JS28: =(IO28-IN28)/1000*$HY28 -> 29.736 | JW28: =JW27 -> 2.5 | JX28: =JX27 -> 350 | JY28: =JX28*(JW28-1+1E-50) -> 525 | JZ28: =JW28*JX28 -> 875 | KA28: 24 | KB28: =JW28 -> 2.5 | KC28: 0 | KD28: 0 | KE28: 0 | KF28: =KF27 -> 0.56785714 | KG28: =MAX($KG$21,KH28) -> 21 | KH28: =$C28 -> -17.5 | KI28: =MAX(KG28-KF28*(KG28-KH28),KN28) -> 0 | KJ28: =KH28+$GA$14/$GA$15*(KG28-KI28) -> 5.8773585 | KK28: =MAX(KI28-KC28*(KB28-1)/(1.2*$GA$14),KO28) -> 0 | KL28: =KJ28+0*(KJ28+KB28*KC28/(1.2*$GA$15)) -> 5.8773585 | KM28: =MAX(KL28,$IM$17) -> 15 | KN28: =KN27 -> 0 | KO28: =($FT$9=1)*$KK$17+($FT$9=0)*MAX($KK$17,KH28) -> 0 | KP28: =1.2*$GA$14*(KG28-KI28) -> 1486.8 | KQ28: =1.2*$GA$14*(KG28-B28) -> 2725.8 | KR28: =1.2*$GA$15*(KM28-KL28) -> 580.2 | KS28: =KQ28-KP28-KR28 -> 658.8 | KT28: =$F28 -> 3395.7 | KU28: =$CO28 -> 696.59419 | KV28: =KT28+KS28 -> 4054.5 | KW28: =MIN(1/(KU28/(KV28+1E-50)+1E-50),1) -> 1 | KX28: =KW28*KU28 -> 696.59419 | KY28: =($AN$21=1)*AN28+($AL$21=1)*AL28+($AM$21=1)*AM28 -> 645.54795 | KZ28: =MAX(KQ28+KT28+KY28-KX28-KP28,1.2*$GA$15*($KO$17-KJ28)) -> 4583.6538 | LA28: =MIN(JZ28,KZ28-$KP$17*KR28) -> 875 | LB28: =MIN(1.2*$GA$14*(KI28-KO28),JY28) -> 0 | LC28: =LA28/KB28 -> 350 | LD28: =LB28/(KB28-1+1E-50) -> 0 | LE28: =LE$22*MIN(LC28:LD28)+(1-LE$22)*KC28 -> 0 | LF28: =LE28*(KB28-1) -> 0 | LG28: =LE28*KB28 -> 0 | LH28: =LE28/1000*$KA28 -> 0 | LI28: =LF28/1000*$KA28 -> 0 | LJ28: =LG28/1000*$KA28 -> 0 | LK28: =(KZ28-LG28) -> 4583.6538 | LL28: =KR28/1000*$KA28 -> 13.9248 | LM28: =KX28/1000*$KA28 -> 16.718261 | LN28: =KZ28/1000*$KA28 -> 110.00769 | LO28: =(LK28>0)*LK28/1000*$KA28 -> 110.00769 | LP28: =(KT28+KQ28+KY28)/1000*$KA28 -> 162.40915 | LQ28: =MAX(1.2*$GA$15*($KO$17-KH28)-KP28,0) -> 580.2 | LR28: =LF28/1000*$KA28 -> 0 | LT28: =KQ28/1000*$KA28 -> 65.4192 | LU28: =(KQ28-KP28)/1000*$KA28 -> 29.736 | LY28: =LY27 -> 2.5 | LZ28: =LZ27 -> 350 | MA28: =LZ28*(LY28-1+1E-50) -> 525 | MB28: =LY28*LZ28 -> 875 | MC28: 24 | MD28: =LY28 -> 2.5 | ME28: 350 | MF28: 525 | MG28: 875 | MH28: =MH27 -> 0.56785714 | MI28: =MAX($MI$21,ML28) -> 21 | MJ28: =MAX(MI28-MF28/(1.2*$GA$14),MP28) -> 13.584746 | MK28: =MAX(MJ28-MH28*(MJ28-ML28),$MN$17) -> 0 | ML28: =$C28 -> -17.5 | MM28: =MIN(ML28+$GA$14/$GA$15*(MJ28-MK28),$MO$17) -> -2.3773585 | MN28: =MM28+0*(MM28+MG28/(1.2*$GA$15)) -> -2.3773585 | MO28: =MAX(MN28,$MQ$17) -> 15 | MP28: =($FT$9=1)*$MM$17+($FT$9=0)*MAX($MM$17,ML28) -> 0 | MQ28: =1.2*$GA$14*(MJ28-MK28) -> 961.8 | MR28: =1.2*$GA$14*(MI28-B28) -> 2725.8 | MS28: =1.2*$GA$15*(MO28-MN28) -> 1105.2 | MT28: =MR28-MQ28-MS28 -> 658.8 | MU28: =$F28 -> 3395.7 | MV28: =$CO28 -> 696.59419 | MW28: =MU28+MT28 -> 4054.5 | MX28: =MIN(1/(MV28/(MW28+1E-50)+1E-50),1) -> 1 | MY28: =MX28*MV28 -> 696.59419 | MZ28: =($AN$21=1)*AN28+($AL$21=1)*AL28+($AM$21=1)*AM28 -> 645.54795 | NA28: =MAX(MR28+MU28+MZ28-MY28-MQ28,1.2*$GA$15*($MQ$17-MM28)) -> 5108.6538 | NB28: =MIN(MB28,NA28-$MR$17*MS28) -> 875 | NC28: =MIN(1.2*$GA$14*(MI28-MP28),MA28) -> 525 | ND28: =NB28/MD28 -> 350 | NE28: =NC28/(MD28-1+1E-50) -> 350 | NF28: =NF$22*MIN(ND28:NE28)+(1-NF$22)*ME28 -> 350 | NG28: =NF28*(MD28-1) -> 525 | NH28: =NF28*MD28 -> 875 | NI28: =NF28/1000*$MC28 -> 8.4 | NJ28: =NG28/1000*$MC28 -> 12.6 | NK28: =NH28/1000*$MC28 -> 21 | NL28: =(NA28-NH28) -> 4233.6538 | NM28: =MS28/1000*$MC28 -> 26.5248 | NN28: =MY28/1000*$MC28 -> 16.718261 | NO28: =NA28/1000*$MC28 -> 122.60769 | NP28: =(NL28>0)*NL28/1000*$MC28 -> 101.60769 | NQ28: =(MU28+MR28+MZ28)/1000*$MC28 -> 162.40915 | NR28: =MAX(1.2*$GA$15*($MQ$17-ML28)-MQ28,0) -> 1105.2 | NS28: =NG28/1000*$MC28 -> 12.6 | NT28: =(MU28+MR28+MZ28) -> 6767.0479 | NU28: =MR28/1000*$MC28 -> 65.4192 | NV28: =(MR28-MQ28)/1000*$MC28 -> 42.336
A29: 1.1986301 | B29: -16.5 | C29: =MAX($C$21*($C$19-B29)+B29,B29) -> -16.5 | D29: 1735 | E29: =D29/((A29-A28)/100*8760) -> 54.21875 | F29: =$F$21*(J29-B29) -> 3307.5 | G29: =(A29-A28)/100*8760 -> 32 | H29: =F29/1000 -> 3.3075 | I29: =G29*(J29-B29) -> 1200 | J29: =$FX$3*GD29+$HY$3*IE29+$KA$3*KG29+$MC$3*MI29 -> 21 | K29: =$FX$3*GE29+$HY$3*II29+$KA$3*KK29+$MC$3*MJ29 -> 13.584746 | L29: =$FX$3*GF29+$HY$3*IG29+$KA$3*KI29+$MC$3*MK29 -> 0 | M29: =$FX$3*GG29+$HY$3*IF29+$KA$3*KH29+$MC$3*ML29 -> -16.5 | N29: =$FX$3*GH29+$HY$3*IH29+$KA$3*KJ29+$MC$3*MM29 -> -1.3773585 | O29: =$FX$3*GI29+$HY$3*IJ29+$KA$3*KL29+$MC$3*MN29 -> -1.3773585 | P29: =$FX$3*GJ29+$HY$3*IK29+$KA$3*KM29+$MC$3*MO29 -> 15 | Q29: =N29+AD29*1000/(1.2*$GA$15) -> 4.1257862 | R29: =AF29*G29 -> 28 | S29: =X29*G29 -> 183.02479 | T29: =M29+Y29*1000/(1.2*$GA$15) -> 87.400125 | U29: =M29+X29*1000/(1.2*$GA$15) -> 73.429635 | V29: =($FX$3*GN29+$HY$3*IP29+$KA$3*KR29+$MC$3*MS29)/(1000) -> 1.0416 | W29: =Y29-AG29-AA29-AF29 -> 3.8827248 | X29: =MAX((Y29-AA29),AB29) -> 5.7195248 | Y29: =H29+Z29+AC29 -> 6.6080479 | Z29: =($FX$3*GM29+$HY$3*IO29+$KA$3*KQ29+$MC$3*MR29)/(1000) -> 2.655 | AA29: =($FX$3*GT29+$HY$3*IV29+$KA$3*KX29+$MC$3*MY29)/(1000) -> 0.88852314 | AB29: =($FX$3*GV29+$HY$3*IX29+$KA$3*KZ29+$MC$3*NA29)/(1000) -> 4.7577248 | AC29: =($FX$3*GU29+$HY$3*IW29+$KA$3*KY29+$MC$3*MZ29)/(1000) -> 0.64554795 | AD29: =($FX$3*HA29+$HY$3*JC29+$KA$3*LE29+$MC$3*NF29)/(1000) -> 0.35 | AE29: =($FX$3*HB29+$HY$3*JD29+$KA$3*LF29+$MC$3*NG29)/(1000) -> 0.525 | AF29: =($FX$3*HC29+$HY$3*JE29+$KA$3*LG29+$MC$3*NH29)/(1000) -> 0.875 | AG29: =($FX$3*GL29+$HY$3*IN29+$KA$3*KP29+$MC$3*MQ29)/(1000) -> 0.9618 | AH29: =AG29+AF29 -> 1.8368 | AI29: =AL29/1000*$AL$21 -> 0.58732877 | AJ29: =AM29/1000*$AM$21 -> 0.058219178 | AK29: =AN29/1000*$AN$21 -> 0 | AL29: =$AL$18 -> 587.32877 | AM29: =$AN$18 -> 58.219178 | AN29: =$AN$19 -> 0 | AP29: =AI29+AJ29 -> 0.64554795 | AQ29: =AP29+AK29 -> 0.64554795 | AR29: =AH29+V29 -> 2.8784 | BO29: =AL29/1000*$G29 -> 18.794521 | BP29: =AM29/1000*$G29 -> 1.8630137 | BQ29: =AN29/1000*$G29 -> 0 | CB29: =CB$23*$E29*CB$21*CB$20 -> 49.718675 | CC29: =CC$23*$E29*CC$21*CC$20 -> 0 | CD29: =CD$23*$E29*CD$21*CD$20 -> 58.111811 | CE29: =CE$23*$E29*CE$21*CE$20 -> 0 | CF29: =CF$23*$E29*CF$21*CF$20 -> 193.30488 | CG29: =CG$23*$E29*CG$21*CG$20 -> 0 | CH29: =CH$23*$E29*CH$21*CH$20 -> 58.187774 | CI29: =CI$23*$E29*CI$21*CI$20 -> 0 | CJ29: =SUM(CB29:CI29) -> 359.32314 | CK29: =CJ29*24/(MAX($CB$12,10)) -> 359.32314 | CL29: =CL28 -> 529.2 | CM29: =CK29+CL29 -> 888.52314 | CN29: =CJ29*G29/1000 -> 11.498341 | CO29: =CM29 -> 888.52314 | FT29: =FT28 -> 2.5 | FU29: =FU28 -> 350 | FV29: =FU29*(FT29-1+1E-50) -> 525 | FW29: =FT29*FU29 -> 875 | FX29: 32 | FY29: =FT29 -> 2.5 | FZ29: 350 | GA29: 525 | GB29: 875 | GC29: =GC28 -> 0.56785714 | GD29: =MAX($GD$21,GG29) -> 21 | GE29: =MAX(GD29-GA29/(1.2*$GA$14),GK29) -> 13.584746 | GF29: =MAX(GE29-GC29*(GE29-GG29),$GI$17) -> 0 | GG29: =$C29 -> -16.5 | GH29: =MIN(GG29+$GA$14/$GA$15*(GE29-GF29),$GJ$17) -> -1.3773585 | GI29: =GH29+GB29/(1.2*$GA$15) -> 12.380503 | GJ29: =MAX(GI29,$GL$17) -> 15 | GK29: =($FT$9=1)*$GH$17+($FT$9=0)*MAX($GH$17,GG29) -> 0 | GL29: =1.2*$GA$14*(GE29-GF29) -> 961.8 | GM29: =1.2*$GA$14*(GD29-B29) -> 2655 | GN29: =1.2*$GA$15*(GJ29-GI29) -> 166.6 | GO29: =GM29-GL29-GN29 -> 1526.6 | GP29: =$F29 -> 3307.5 | GQ29: =$CO29 -> 888.52314 | GR29: =GP29+GO29 -> 4834.1 | GS29: =MIN(1/(GQ29/(GR29+1E-50)+1E-50),1) -> 1 | GT29: =GS29*GQ29 -> 888.52314 | GU29: =($AN$21=1)*AN29+($AL$21=1)*AL29+($AM$21=1)*AM29 -> 645.54795 | GV29: =MAX(GM29+GP29+GU29-GT29-GL29,1.2*$GA$15*($GL$17-GH29)) -> 4757.7248 | GW29: =MIN(FW29,GV29) -> 875 | GX29: =MIN(1.2*$GA$14*(GD29-GK29),FV29) -> 525 | GY29: =GW29/FY29 -> 350 | GZ29: =GX29/(FY29-1+1E-50) -> 350 | HA29: =HA$22*MIN(GY29:GZ29)+(1-HA$22)*FZ29 -> 350 | HB29: =HA29*(FY29-1) -> 525 | HC29: =HA29*FY29 -> 875 | HD29: =HA29/1000*$FX29 -> 11.2 | HE29: =HB29/1000*$FX29 -> 16.8 | HF29: =HC29/1000*$FX29 -> 28 | HG29: =(GV29-HC29) -> 3882.7248 | HH29: =GN29/1000*$FX29 -> 5.3312 | HI29: =GT29/1000*$FX29 -> 28.432741 | HJ29: =GV29/1000*$FX29 -> 152.24719 | HK29: =(HG29>0)*HG29/1000*$FX29 -> 124.24719 | HL29: =(GP29+GM29+GU29)/1000*$FX29 -> 211.45753 | HM29: =MAX(1.2*$GA$15*(GJ29-GG29)-GL29,0) -> 1041.6 | HN29: =HB29/1000*$FX29 -> 16.8 | HP29: =GM29/1000*$FX29 -> 84.96 | HQ29: =(GM29-GL29)/1000*$FX29 -> 54.1824 | HU29: =HU28 -> 2.5 | HV29: =HV28 -> 350 | HW29: =HV29*(HU29-1+1E-50) -> 525 | HX29: =HU29*HV29 -> 875 | HY29: 32 | HZ29: =HU29 -> 2.5 | IA29: 0 | IB29: 0 | IC29: 0 | ID29: =ID28 -> 0.56785714 | IE29: =MAX($IE$21,IF29) -> 21 | IF29: =$C29 -> -16.5 | IG29: =MAX(IE29-ID29*(IE29-IF29),IL29) -> 0 | IH29: =IF29+$GA$14/$GA$15*(IE29-IG29) -> 6.8773585 | II29: =MAX(IG29-IA29*(HZ29-1)/(1.2*$GA$14),IM29) -> 0 | IJ29: =IH29+HZ29*IA29/(1.2*$GA$15) -> 6.8773585 | IK29: =MAX(IJ29,$IM$17) -> 15 | IL29: =IL28 -> 0 | IM29: =($FT$9=1)*$II$17+($FT$9=0)*MAX($II$17,IF29) -> 0 | IN29: =1.2*$GA$14*(IE29-IG29) -> 1486.8 | IO29: =1.2*$GA$14*(IE29-B29) -> 2655 | IP29: =MAX(1.2*$GA$15*($IM$17-IJ29),0) -> 516.6 | IQ29: =IO29-IN29-IP29 -> 651.6 | IR29: =$F29 -> 3307.5 | IS29: =$CO29 -> 888.52314 | IT29: =IR29+IQ29 -> 3959.1 | IU29: =MIN(1/(IS29/(IT29+1E-50)+1E-50),1) -> 1 | IV29: =IU29*IS29 -> 888.52314 | IW29: =($AN$21=1)*AN29+($AL$21=1)*AL29+($AM$21=1)*AM29 -> 645.54795 | IX29: =MAX(IO29+IR29+IW29-IV29-IN29,1.2*$GA$15*($IM$17-IH29)) -> 4232.7248 | IY29: =MIN(HX29,IX29) -> 875 | IZ29: =MIN(1.2*$GA$14*(IG29-IM29),HW29) -> 0 | JA29: =IY29/HZ29 -> 350 | JB29: =IZ29/(HZ29-1+1E-50) -> 0 | JC29: =JC$22*MIN(JA29:JB29)+(1-JC$22)*IA29 -> 0 | JD29: =JC29*(HZ29-1) -> 0 | JE29: =JC29*HZ29 -> 0 | JF29: =JC29/1000*$HY29 -> 0 | JG29: =JD29/1000*$HY29 -> 0 | JH29: =JE29/1000*$HY29 -> 0 | JI29: =(IX29-JE29) -> 4232.7248 | JJ29: =IP29/1000*$HY29 -> 16.5312 | JK29: =IV29/1000*$HY29 -> 28.432741 | JL29: =IX29/1000*$HY29 -> 135.44719 | JM29: =(JI29>0)*JI29/1000*$HY29 -> 135.44719 | JN29: =(IR29+IO29+IW29)/1000*$HY29 -> 211.45753 | JO29: =MAX(1.2*$GA$15*($IM$17-IF29)-IN29,0) -> 516.6 | JP29: =JD29/1000*$HY29 -> 0 | JR29: =IO29/1000*$HY29 -> 84.96 | JS29: =(IO29-IN29)/1000*$HY29 -> 37.3824 | JW29: =JW28 -> 2.5 | JX29: =JX28 -> 350 | JY29: =JX29*(JW29-1+1E-50) -> 525 | JZ29: =JW29*JX29 -> 875 | KA29: 32 | KB29: =JW29 -> 2.5 | KC29: 0 | KD29: 0 | KE29: 0 | KF29: =KF28 -> 0.56785714 | KG29: =MAX($KG$21,KH29) -> 21 | KH29: =$C29 -> -16.5 | KI29: =MAX(KG29-KF29*(KG29-KH29),KN29) -> 0 | KJ29: =KH29+$GA$14/$GA$15*(KG29-KI29) -> 6.8773585 | KK29: =MAX(KI29-KC29*(KB29-1)/(1.2*$GA$14),KO29) -> 0 | KL29: =KJ29+0*(KJ29+KB29*KC29/(1.2*$GA$15)) -> 6.8773585 | KM29: =MAX(KL29,$IM$17) -> 15 | KN29: =KN28 -> 0 | KO29: =($FT$9=1)*$KK$17+($FT$9=0)*MAX($KK$17,KH29) -> 0 | KP29: =1.2*$GA$14*(KG29-KI29) -> 1486.8 | KQ29: =1.2*$GA$14*(KG29-B29) -> 2655 | KR29: =1.2*$GA$15*(KM29-KL29) -> 516.6 | KS29: =KQ29-KP29-KR29 -> 651.6 | KT29: =$F29 -> 3307.5 | KU29: =$CO29 -> 888.52314 | KV29: =KT29+KS29 -> 3959.1 | KW29: =MIN(1/(KU29/(KV29+1E-50)+1E-50),1) -> 1 | KX29: =KW29*KU29 -> 888.52314 | KY29: =($AN$21=1)*AN29+($AL$21=1)*AL29+($AM$21=1)*AM29 -> 645.54795 | KZ29: =MAX(KQ29+KT29+KY29-KX29-KP29,1.2*$GA$15*($KO$17-KJ29)) -> 4232.7248 | LA29: =MIN(JZ29,KZ29-$KP$17*KR29) -> 875 | LB29: =MIN(1.2*$GA$14*(KI29-KO29),JY29) -> 0 | LC29: =LA29/KB29 -> 350 | LD29: =LB29/(KB29-1+1E-50) -> 0 | LE29: =LE$22*MIN(LC29:LD29)+(1-LE$22)*KC29 -> 0 | LF29: =LE29*(KB29-1) -> 0 | LG29: =LE29*KB29 -> 0 | LH29: =LE29/1000*$KA29 -> 0 | LI29: =LF29/1000*$KA29 -> 0 | LJ29: =LG29/1000*$KA29 -> 0 | LK29: =(KZ29-LG29) -> 4232.7248 | LL29: =KR29/1000*$KA29 -> 16.5312 | LM29: =KX29/1000*$KA29 -> 28.432741 | LN29: =KZ29/1000*$KA29 -> 135.44719 | LO29: =(LK29>0)*LK29/1000*$KA29 -> 135.44719 | LP29: =(KT29+KQ29+KY29)/1000*$KA29 -> 211.45753 | LQ29: =MAX(1.2*$GA$15*($KO$17-KH29)-KP29,0) -> 516.6 | LR29: =LF29/1000*$KA29 -> 0 | LT29: =KQ29/1000*$KA29 -> 84.96 | LU29: =(KQ29-KP29)/1000*$KA29 -> 37.3824 | LY29: =LY28 -> 2.5 | LZ29: =LZ28 -> 350 | MA29: =LZ29*(LY29-1+1E-50) -> 525 | MB29: =LY29*LZ29 -> 875 | MC29: 32 | MD29: =LY29 -> 2.5 | ME29: 350 | MF29: 525 | MG29: 875 | MH29: =MH28 -> 0.56785714 | MI29: =MAX($MI$21,ML29) -> 21 | MJ29: =MAX(MI29-MF29/(1.2*$GA$14),MP29) -> 13.584746 | MK29: =MAX(MJ29-MH29*(MJ29-ML29),$MN$17) -> 0 | ML29: =$C29 -> -16.5 | MM29: =MIN(ML29+$GA$14/$GA$15*(MJ29-MK29),$MO$17) -> -1.3773585 | MN29: =MM29+0*(MM29+MG29/(1.2*$GA$15)) -> -1.3773585 | MO29: =MAX(MN29,$MQ$17) -> 15 | MP29: =($FT$9=1)*$MM$17+($FT$9=0)*MAX($MM$17,ML29) -> 0 | MQ29: =1.2*$GA$14*(MJ29-MK29) -> 961.8 | MR29: =1.2*$GA$14*(MI29-B29) -> 2655 | MS29: =1.2*$GA$15*(MO29-MN29) -> 1041.6 | MT29: =MR29-MQ29-MS29 -> 651.6 | MU29: =$F29 -> 3307.5 | MV29: =$CO29 -> 888.52314 | MW29: =MU29+MT29 -> 3959.1 | MX29: =MIN(1/(MV29/(MW29+1E-50)+1E-50),1) -> 1 | MY29: =MX29*MV29 -> 888.52314 | MZ29: =($AN$21=1)*AN29+($AL$21=1)*AL29+($AM$21=1)*AM29 -> 645.54795 | NA29: =MAX(MR29+MU29+MZ29-MY29-MQ29,1.2*$GA$15*($MQ$17-MM29)) -> 4757.7248 | NB29: =MIN(MB29,NA29-$MR$17*MS29) -> 875 | NC29: =MIN(1.2*$GA$14*(MI29-MP29),MA29) -> 525 | ND29: =NB29/MD29 -> 350 | NE29: =NC29/(MD29-1+1E-50) -> 350 | NF29: =NF$22*MIN(ND29:NE29)+(1-NF$22)*ME29 -> 350 | NG29: =NF29*(MD29-1) -> 525 | NH29: =NF29*MD29 -> 875 | NI29: =NF29/1000*$MC29 -> 11.2 | NJ29: =NG29/1000*$MC29 -> 16.8 | NK29: =NH29/1000*$MC29 -> 28 | NL29: =(NA29-NH29) -> 3882.7248 | NM29: =MS29/1000*$MC29 -> 33.3312 | NN29: =MY29/1000*$MC29 -> 28.432741 | NO29: =NA29/1000*$MC29 -> 152.24719 | NP29: =(NL29>0)*NL29/1000*$MC29 -> 124.24719 | NQ29: =(MU29+MR29+MZ29)/1000*$MC29 -> 211.45753 | NR29: =MAX(1.2*$GA$15*($MQ$17-ML29)-MQ29,0) -> 1041.6 | NS29: =NG29/1000*$MC29 -> 16.8 | NT29: =(MU29+MR29+MZ29) -> 6608.0479 | NU29: =MR29/1000*$MC29 -> 84.96 | NV29: =(MR29-MQ29)/1000*$MC29 -> 54.1824
A30: 1.8721461 | B30: -15.5 | C30: =MAX($C$21*($C$19-B30)+B30,B30) -> -15.5 | D30: 2486.7 | E30: =D30/((A30-A29)/100*8760) -> 42.147458 | F30: =$F$21*(J30-B30) -> 3219.3 | G30: =(A30-A29)/100*8760 -> 59 | H30: =F30/1000 -> 3.2193 | I30: =G30*(J30-B30) -> 2153.5 | J30: =$FX$3*GD30+$HY$3*IE30+$KA$3*KG30+$MC$3*MI30 -> 21 | K30: =$FX$3*GE30+$HY$3*II30+$KA$3*KK30+$MC$3*MJ30 -> 13.584746 | L30: =$FX$3*GF30+$HY$3*IG30+$KA$3*KI30+$MC$3*MK30 -> 0 | M30: =$FX$3*GG30+$HY$3*IF30+$KA$3*KH30+$MC$3*ML30 -> -15.5 | N30: =$FX$3*GH30+$HY$3*IH30+$KA$3*KJ30+$MC$3*MM30 -> -0.37735849 | O30: =$FX$3*GI30+$HY$3*IJ30+$KA$3*KL30+$MC$3*MN30 -> -0.37735849 | P30: =$FX$3*GJ30+$HY$3*IK30+$KA$3*KM30+$MC$3*MO30 -> 15 | Q30: =N30+AD30*1000/(1.2*$GA$15) -> 5.1257862 | R30: =AF30*G30 -> 51.625 | S30: =X30*G30 -> 332.79096 | T30: =M30+Y30*1000/(1.2*$GA$15) -> 85.900125 | U30: =M30+X30*1000/(1.2*$GA$15) -> 73.187495 | V30: =($FX$3*GN30+$HY$3*IP30+$KA$3*KR30+$MC$3*MS30)/(1000) -> 0.978 | W30: =Y30-AG30-AA30-AF30 -> 3.8037247 | X30: =MAX((Y30-AA30),AB30) -> 5.6405247 | Y30: =H30+Z30+AC30 -> 6.4490479 | Z30: =($FX$3*GM30+$HY$3*IO30+$KA$3*KQ30+$MC$3*MR30)/(1000) -> 2.5842 | AA30: =($FX$3*GT30+$HY$3*IV30+$KA$3*KX30+$MC$3*MY30)/(1000) -> 0.80852324 | AB30: =($FX$3*GV30+$HY$3*IX30+$KA$3*KZ30+$MC$3*NA30)/(1000) -> 4.6787247 | AC30: =($FX$3*GU30+$HY$3*IW30+$KA$3*KY30+$MC$3*MZ30)/(1000) -> 0.64554795 | AD30: =($FX$3*HA30+$HY$3*JC30+$KA$3*LE30+$MC$3*NF30)/(1000) -> 0.35 | AE30: =($FX$3*HB30+$HY$3*JD30+$KA$3*LF30+$MC$3*NG30)/(1000) -> 0.525 | AF30: =($FX$3*HC30+$HY$3*JE30+$KA$3*LG30+$MC$3*NH30)/(1000) -> 0.875 | AG30: =($FX$3*GL30+$HY$3*IN30+$KA$3*KP30+$MC$3*MQ30)/(1000) -> 0.9618 | AH30: =AG30+AF30 -> 1.8368 | AI30: =AL30/1000*$AL$21 -> 0.58732877 | AJ30: =AM30/1000*$AM$21 -> 0.058219178 | AK30: =AN30/1000*$AN$21 -> 0 | AL30: =$AL$18 -> 587.32877 | AM30: =$AN$18 -> 58.219178 | AN30: =$AN$19 -> 0 | AP30: =AI30+AJ30 -> 0.64554795 | AQ30: =AP30+AK30 -> 0.64554795 | AR30: =AH30+V30 -> 2.8148 | BO30: =AL30/1000*$G30 -> 34.652397 | BP30: =AM30/1000*$G30 -> 3.4349315 | BQ30: =AN30/1000*$G30 -> 0 | CB30: =CB$23*$E30*CB$21*CB$20 -> 38.649282 | CC30: =CC$23*$E30*CC$21*CC$20 -> 0 | CD30: =CD$23*$E30*CD$21*CD$20 -> 45.173765 | CE30: =CE$23*$E30*CE$21*CE$20 -> 0 | CF30: =CF$23*$E30*CF$21*CF$20 -> 150.26738 | CG30: =CG$23*$E30*CG$21*CG$20 -> 0 | CH30: =CH$23*$E30*CH$21*CH$20 -> 45.232816 | CI30: =CI$23*$E30*CI$21*CI$20 -> 0 | CJ30: =SUM(CB30:CI30) -> 279.32324 | CK30: =CJ30*24/(MAX($CB$12,10)) -> 279.32324 | CL30: =CL29 -> 529.2 | CM30: =CK30+CL30 -> 808.52324 | CN30: =CJ30*G30/1000 -> 16.480071 | CO30: =CM30 -> 808.52324 | FT30: =FT29 -> 2.5 | FU30: =FU29 -> 350 | FV30: =FU30*(FT30-1+1E-50) -> 525 | FW30: =FT30*FU30 -> 875 | FX30: 59 | FY30: =FT30 -> 2.5 | FZ30: 350 | GA30: 525 | GB30: 875 | GC30: =GC29 -> 0.56785714 | GD30: =MAX($GD$21,GG30) -> 21 | GE30: =MAX(GD30-GA30/(1.2*$GA$14),GK30) -> 13.584746 | GF30: =MAX(GE30-GC30*(GE30-GG30),$GI$17) -> 0 | GG30: =$C30 -> -15.5 | GH30: =MIN(GG30+$GA$14/$GA$15*(GE30-GF30),$GJ$17) -> -0.37735849 | GI30: =GH30+GB30/(1.2*$GA$15) -> 13.380503 | GJ30: =MAX(GI30,$GL$17) -> 15 | GK30: =($FT$9=1)*$GH$17+($FT$9=0)*MAX($GH$17,GG30) -> 0 | GL30: =1.2*$GA$14*(GE30-GF30) -> 961.8 | GM30: =1.2*$GA$14*(GD30-B30) -> 2584.2 | GN30: =1.2*$GA$15*(GJ30-GI30) -> 103 | GO30: =GM30-GL30-GN30 -> 1519.4 | GP30: =$F30 -> 3219.3 | GQ30: =$CO30 -> 808.52324 | GR30: =GP30+GO30 -> 4738.7 | GS30: =MIN(1/(GQ30/(GR30+1E-50)+1E-50),1) -> 1 | GT30: =GS30*GQ30 -> 808.52324 | GU30: =($AN$21=1)*AN30+($AL$21=1)*AL30+($AM$21=1)*AM30 -> 645.54795 | GV30: =MAX(GM30+GP30+GU30-GT30-GL30,1.2*$GA$15*($GL$17-GH30)) -> 4678.7247 | GW30: =MIN(FW30,GV30) -> 875 | GX30: =MIN(1.2*$GA$14*(GD30-GK30),FV30) -> 525 | GY30: =GW30/FY30 -> 350 | GZ30: =GX30/(FY30-1+1E-50) -> 350 | HA30: =HA$22*MIN(GY30:GZ30)+(1-HA$22)*FZ30 -> 350 | HB30: =HA30*(FY30-1) -> 525 | HC30: =HA30*FY30 -> 875 | HD30: =HA30/1000*$FX30 -> 20.65 | HE30: =HB30/1000*$FX30 -> 30.975 | HF30: =HC30/1000*$FX30 -> 51.625 | HG30: =(GV30-HC30) -> 3803.7247 | HH30: =GN30/1000*$FX30 -> 6.077 | HI30: =GT30/1000*$FX30 -> 47.702871 | HJ30: =GV30/1000*$FX30 -> 276.04476 | HK30: =(HG30>0)*HG30/1000*$FX30 -> 224.41976 | HL30: =(GP30+GM30+GU30)/1000*$FX30 -> 380.49383 | HM30: =MAX(1.2*$GA$15*(GJ30-GG30)-GL30,0) -> 978 | HN30: =HB30/1000*$FX30 -> 30.975 | HP30: =GM30/1000*$FX30 -> 152.4678 | HQ30: =(GM30-GL30)/1000*$FX30 -> 95.7216 | HU30: =HU29 -> 2.5 | HV30: =HV29 -> 350 | HW30: =HV30*(HU30-1+1E-50) -> 525 | HX30: =HU30*HV30 -> 875 | HY30: 59 | HZ30: =HU30 -> 2.5 | IA30: 12.895714 | IB30: 19.343571 | IC30: 32.239286 | ID30: =ID29 -> 0.56785714 | IE30: =MAX($IE$21,IF30) -> 21 | IF30: =$C30 -> -15.5 | IG30: =MAX(IE30-ID30*(IE30-IF30),IL30) -> 0.27321429 | IH30: =IF30+$GA$14/$GA$15*(IE30-IG30) -> 7.5732143 | II30: =MAX(IG30-IA30*(HZ30-1)/(1.2*$GA$14),IM30) -> 0 | IJ30: =IH30+HZ30*IA30/(1.2*$GA$15) -> 8.0801213 | IK30: =MAX(IJ30,$IM$17) -> 15 | IL30: =IL29 -> 0 | IM30: =($FT$9=1)*$II$17+($FT$9=0)*MAX($II$17,IF30) -> 0 | IN30: =1.2*$GA$14*(IE30-IG30) -> 1467.4564 | IO30: =1.2*$GA$14*(IE30-B30) -> 2584.2 | IP30: =MAX(1.2*$GA$15*($IM$17-IJ30),0) -> 440.10429 | IQ30: =IO30-IN30-IP30 -> 676.63929 | IR30: =$F30 -> 3219.3 | IS30: =$CO30 -> 808.52324 | IT30: =IR30+IQ30 -> 3895.9393 | IU30: =MIN(1/(IS30/(IT30+1E-50)+1E-50),1) -> 1 | IV30: =IU30*IS30 -> 808.52324 | IW30: =($AN$21=1)*AN30+($AL$21=1)*AL30+($AM$21=1)*AM30 -> 645.54795 | IX30: =MAX(IO30+IR30+IW30-IV30-IN30,1.2*$GA$15*($IM$17-IH30)) -> 4173.0683 | IY30: =MIN(HX30,IX30) -> 875 | IZ30: =MIN(1.2*$GA$14*(IG30-IM30),HW30) -> 19.343571 | JA30: =IY30/HZ30 -> 350 | JB30: =IZ30/(HZ30-1+1E-50) -> 12.895714 | JC30: =JC$22*MIN(JA30:JB30)+(1-JC$22)*IA30 -> 12.895714 | JD30: =JC30*(HZ30-1) -> 19.343571 | JE30: =JC30*HZ30 -> 32.239286 | JF30: =JC30/1000*$HY30 -> 0.76084714 | JG30: =JD30/1000*$HY30 -> 1.1412707 | JH30: =JE30/1000*$HY30 -> 1.9021179 | JI30: =(IX30-JE30) -> 4140.829 | JJ30: =IP30/1000*$HY30 -> 25.966153 | JK30: =IV30/1000*$HY30 -> 47.702871 | JL30: =IX30/1000*$HY30 -> 246.21103 | JM30: =(JI30>0)*JI30/1000*$HY30 -> 244.30891 | JN30: =(IR30+IO30+IW30)/1000*$HY30 -> 380.49383 | JO30: =MAX(1.2*$GA$15*($IM$17-IF30)-IN30,0) -> 472.34357 | JP30: =JD30/1000*$HY30 -> 1.1412707 | JR30: =IO30/1000*$HY30 -> 152.4678 | JS30: =(IO30-IN30)/1000*$HY30 -> 65.887871 | JW30: =JW29 -> 2.5 | JX30: =JX29 -> 350 | JY30: =JX30*(JW30-1+1E-50) -> 525 | JZ30: =JW30*JX30 -> 875 | KA30: 59 | KB30: =JW30 -> 2.5 | KC30: 12.895714 | KD30: 19.343571 | KE30: 32.239286 | KF30: =KF29 -> 0.56785714 | KG30: =MAX($KG$21,KH30) -> 21 | KH30: =$C30 -> -15.5 | KI30: =MAX(KG30-KF30*(KG30-KH30),KN30) -> 0.27321429 | KJ30: =KH30+$GA$14/$GA$15*(KG30-KI30) -> 7.5732143 | KK30: =MAX(KI30-KC30*(KB30-1)/(1.2*$GA$14),KO30) -> 0 | KL30: =KJ30+0*(KJ30+KB30*KC30/(1.2*$GA$15)) -> 7.5732143 | KM30: =MAX(KL30,$IM$17) -> 15 | KN30: =KN29 -> 0 | KO30: =($FT$9=1)*$KK$17+($FT$9=0)*MAX($KK$17,KH30) -> 0 | KP30: =1.2*$GA$14*(KG30-KI30) -> 1467.4564 | KQ30: =1.2*$GA$14*(KG30-B30) -> 2584.2 | KR30: =1.2*$GA$15*(KM30-KL30) -> 472.34357 | KS30: =KQ30-KP30-KR30 -> 644.4 | KT30: =$F30 -> 3219.3 | KU30: =$CO30 -> 808.52324 | KV30: =KT30+KS30 -> 3863.7 | KW30: =MIN(1/(KU30/(KV30+1E-50)+1E-50),1) -> 1 | KX30: =KW30*KU30 -> 808.52324 | KY30: =($AN$21=1)*AN30+($AL$21=1)*AL30+($AM$21=1)*AM30 -> 645.54795 | KZ30: =MAX(KQ30+KT30+KY30-KX30-KP30,1.2*$GA$15*($KO$17-KJ30)) -> 4173.0683 | LA30: =MIN(JZ30,KZ30-$KP$17*KR30) -> 875 | LB30: =MIN(1.2*$GA$14*(KI30-KO30),JY30) -> 19.343571 | LC30: =LA30/KB30 -> 350 | LD30: =LB30/(KB30-1+1E-50) -> 12.895714 | LE30: =LE$22*MIN(LC30:LD30)+(1-LE$22)*KC30 -> 12.895714 | LF30: =LE30*(KB30-1) -> 19.343571 | LG30: =LE30*KB30 -> 32.239286 | LH30: =LE30/1000*$KA30 -> 0.76084714 | LI30: =LF30/1000*$KA30 -> 1.1412707 | LJ30: =LG30/1000*$KA30 -> 1.9021179 | LK30: =(KZ30-LG30) -> 4140.829 | LL30: =KR30/1000*$KA30 -> 27.868271 | LM30: =KX30/1000*$KA30 -> 47.702871 | LN30: =KZ30/1000*$KA30 -> 246.21103 | LO30: =(LK30>0)*LK30/1000*$KA30 -> 244.30891 | LP30: =(KT30+KQ30+KY30)/1000*$KA30 -> 380.49383 | LQ30: =MAX(1.2*$GA$15*($KO$17-KH30)-KP30,0) -> 472.34357 | LR30: =LF30/1000*$KA30 -> 1.1412707 | LT30: =KQ30/1000*$KA30 -> 152.4678 | LU30: =(KQ30-KP30)/1000*$KA30 -> 65.887871 | LY30: =LY29 -> 2.5 | LZ30: =LZ29 -> 350 | MA30: =LZ30*(LY30-1+1E-50) -> 525 | MB30: =LY30*LZ30 -> 875 | MC30: 59 | MD30: =LY30 -> 2.5 | ME30: 350 | MF30: 525 | MG30: 875 | MH30: =MH29 -> 0.56785714 | MI30: =MAX($MI$21,ML30) -> 21 | MJ30: =MAX(MI30-MF30/(1.2*$GA$14),MP30) -> 13.584746 | MK30: =MAX(MJ30-MH30*(MJ30-ML30),$MN$17) -> 0 | ML30: =$C30 -> -15.5 | MM30: =MIN(ML30+$GA$14/$GA$15*(MJ30-MK30),$MO$17) -> -0.37735849 | MN30: =MM30+0*(MM30+MG30/(1.2*$GA$15)) -> -0.37735849 | MO30: =MAX(MN30,$MQ$17) -> 15 | MP30: =($FT$9=1)*$MM$17+($FT$9=0)*MAX($MM$17,ML30) -> 0 | MQ30: =1.2*$GA$14*(MJ30-MK30) -> 961.8 | MR30: =1.2*$GA$14*(MI30-B30) -> 2584.2 | MS30: =1.2*$GA$15*(MO30-MN30) -> 978 | MT30: =MR30-MQ30-MS30 -> 644.4 | MU30: =$F30 -> 3219.3 | MV30: =$CO30 -> 808.52324 | MW30: =MU30+MT30 -> 3863.7 | MX30: =MIN(1/(MV30/(MW30+1E-50)+1E-50),1) -> 1 | MY30: =MX30*MV30 -> 808.52324 | MZ30: =($AN$21=1)*AN30+($AL$21=1)*AL30+($AM$21=1)*AM30 -> 645.54795 | NA30: =MAX(MR30+MU30+MZ30-MY30-MQ30,1.2*$GA$15*($MQ$17-MM30)) -> 4678.7247 | NB30: =MIN(MB30,NA30-$MR$17*MS30) -> 875 | NC30: =MIN(1.2*$GA$14*(MI30-MP30),MA30) -> 525 | ND30: =NB30/MD30 -> 350 | NE30: =NC30/(MD30-1+1E-50) -> 350 | NF30: =NF$22*MIN(ND30:NE30)+(1-NF$22)*ME30 -> 350 | NG30: =NF30*(MD30-1) -> 525 | NH30: =NF30*MD30 -> 875 | NI30: =NF30/1000*$MC30 -> 20.65 | NJ30: =NG30/1000*$MC30 -> 30.975 | NK30: =NH30/1000*$MC30 -> 51.625 | NL30: =(NA30-NH30) -> 3803.7247 | NM30: =MS30/1000*$MC30 -> 57.702 | NN30: =MY30/1000*$MC30 -> 47.702871 | NO30: =NA30/1000*$MC30 -> 276.04476 | NP30: =(NL30>0)*NL30/1000*$MC30 -> 224.41976 | NQ30: =(MU30+MR30+MZ30)/1000*$MC30 -> 380.49383 | NR30: =MAX(1.2*$GA$15*($MQ$17-ML30)-MQ30,0) -> 978 | NS30: =NG30/1000*$MC30 -> 30.975 | NT30: =(MU30+MR30+MZ30) -> 6449.0479 | NU30: =MR30/1000*$MC30 -> 152.4678 | NV30: =(MR30-MQ30)/1000*$MC30 -> 95.7216
A31: 2.7625571 | B31: -14.5 | C31: =MAX($C$21*($C$19-B31)+B31,B31) -> -14.5 | D31: 686.5 | E31: =D31/((A31-A30)/100*8760) -> 8.8012821 | F31: =$F$21*(J31-B31) -> 3131.1 | G31: =(A31-A30)/100*8760 -> 78 | H31: =F31/1000 -> 3.1311 | I31: =G31*(J31-B31) -> 2769 | J31: =$FX$3*GD31+$HY$3*IE31+$KA$3*KG31+$MC$3*MI31 -> 21 | K31: =$FX$3*GE31+$HY$3*II31+$KA$3*KK31+$MC$3*MJ31 -> 13.584746 | L31: =$FX$3*GF31+$HY$3*IG31+$KA$3*KI31+$MC$3*MK31 -> 0 | M31: =$FX$3*GG31+$HY$3*IF31+$KA$3*KH31+$MC$3*ML31 -> -14.5 | N31: =$FX$3*GH31+$HY$3*IH31+$KA$3*KJ31+$MC$3*MM31 -> 0.62264151 | O31: =$FX$3*GI31+$HY$3*IJ31+$KA$3*KL31+$MC$3*MN31 -> 0.62264151 | P31: =$FX$3*GJ31+$HY$3*IK31+$KA$3*KM31+$MC$3*MO31 -> 15 | Q31: =N31+AD31*1000/(1.2*$GA$15) -> 6.1257862 | R31: =AF31*G31 -> 68.25 | S31: =X31*G31 -> 444.79651 | T31: =M31+Y31*1000/(1.2*$GA$15) -> 84.400125 | U31: =M31+X31*1000/(1.2*$GA$15) -> 75.162254 | V31: =($FX$3*GN31+$HY$3*IP31+$KA$3*KR31+$MC$3*MS31)/(1000) -> 0.9144 | W31: =Y31-AG31-AA31-AF31 -> 3.8657193 | X31: =MAX((Y31-AA31),AB31) -> 5.7025193 | Y31: =H31+Z31+AC31 -> 6.2900479 | Z31: =($FX$3*GM31+$HY$3*IO31+$KA$3*KQ31+$MC$3*MR31)/(1000) -> 2.5134 | AA31: =($FX$3*GT31+$HY$3*IV31+$KA$3*KX31+$MC$3*MY31)/(1000) -> 0.58752861 | AB31: =($FX$3*GV31+$HY$3*IX31+$KA$3*KZ31+$MC$3*NA31)/(1000) -> 4.7407193 | AC31: =($FX$3*GU31+$HY$3*IW31+$KA$3*KY31+$MC$3*MZ31)/(1000) -> 0.64554795 | AD31: =($FX$3*HA31+$HY$3*JC31+$KA$3*LE31+$MC$3*NF31)/(1000) -> 0.35 | AE31: =($FX$3*HB31+$HY$3*JD31+$KA$3*LF31+$MC$3*NG31)/(1000) -> 0.525 | AF31: =($FX$3*HC31+$HY$3*JE31+$KA$3*LG31+$MC$3*NH31)/(1000) -> 0.875 | AG31: =($FX$3*GL31+$HY$3*IN31+$KA$3*KP31+$MC$3*MQ31)/(1000) -> 0.9618 | AH31: =AG31+AF31 -> 1.8368 | AI31: =AL31/1000*$AL$21 -> 0.58732877 | AJ31: =AM31/1000*$AM$21 -> 0.058219178 | AK31: =AN31/1000*$AN$21 -> 0 | AL31: =$AL$18 -> 587.32877 | AM31: =$AN$18 -> 58.219178 | AN31: =$AN$19 -> 0 | AP31: =AI31+AJ31 -> 0.64554795 | AQ31: =AP31+AK31 -> 0.64554795 | AR31: =AH31+V31 -> 2.7512 | BO31: =AL31/1000*$G31 -> 45.811644 | BP31: =AM31/1000*$G31 -> 4.5410959 | BQ31: =AN31/1000*$G31 -> 0 | CB31: =CB$23*$E31*CB$21*CB$20 -> 8.0707888 | CC31: =CC$23*$E31*CC$21*CC$20 -> 0 | CD31: =CD$23*$E31*CD$21*CD$20 -> 9.4332392 | CE31: =CE$23*$E31*CE$21*CE$20 -> 0 | CF31: =CF$23*$E31*CF$21*CF$20 -> 31.379012 | CG31: =CG$23*$E31*CG$21*CG$20 -> 0 | CH31: =CH$23*$E31*CH$21*CH$20 -> 9.4455702 | CI31: =CI$23*$E31*CI$21*CI$20 -> 0 | CJ31: =SUM(CB31:CI31) -> 58.32861 | CK31: =CJ31*24/(MAX($CB$12,10)) -> 58.32861 | CL31: =CL30 -> 529.2 | CM31: =CK31+CL31 -> 587.52861 | CN31: =CJ31*G31/1000 -> 4.5496316 | CO31: =CM31 -> 587.52861 | FT31: =FT30 -> 2.5 | FU31: =FU30 -> 350 | FV31: =FU31*(FT31-1+1E-50) -> 525 | FW31: =FT31*FU31 -> 875 | FX31: 78 | FY31: =FT31 -> 2.5 | FZ31: 350 | GA31: 525 | GB31: 875 | GC31: =GC30 -> 0.56785714 | GD31: =MAX($GD$21,GG31) -> 21 | GE31: =MAX(GD31-GA31/(1.2*$GA$14),GK31) -> 13.584746 | GF31: =MAX(GE31-GC31*(GE31-GG31),$GI$17) -> 0 | GG31: =$C31 -> -14.5 | GH31: =MIN(GG31+$GA$14/$GA$15*(GE31-GF31),$GJ$17) -> 0.62264151 | GI31: =GH31+GB31/(1.2*$GA$15) -> 14.380503 | GJ31: =MAX(GI31,$GL$17) -> 15 | GK31: =($FT$9=1)*$GH$17+($FT$9=0)*MAX($GH$17,GG31) -> 0 | GL31: =1.2*$GA$14*(GE31-GF31) -> 961.8 | GM31: =1.2*$GA$14*(GD31-B31) -> 2513.4 | GN31: =1.2*$GA$15*(GJ31-GI31) -> 39.4 | GO31: =GM31-GL31-GN31 -> 1512.2 | GP31: =$F31 -> 3131.1 | GQ31: =$CO31 -> 587.52861 | GR31: =GP31+GO31 -> 4643.3 | GS31: =MIN(1/(GQ31/(GR31+1E-50)+1E-50),1) -> 1 | GT31: =GS31*GQ31 -> 587.52861 | GU31: =($AN$21=1)*AN31+($AL$21=1)*AL31+($AM$21=1)*AM31 -> 645.54795 | GV31: =MAX(GM31+GP31+GU31-GT31-GL31,1.2*$GA$15*($GL$17-GH31)) -> 4740.7193 | GW31: =MIN(FW31,GV31) -> 875 | GX31: =MIN(1.2*$GA$14*(GD31-GK31),FV31) -> 525 | GY31: =GW31/FY31 -> 350 | GZ31: =GX31/(FY31-1+1E-50) -> 350 | HA31: =HA$22*MIN(GY31:GZ31)+(1-HA$22)*FZ31 -> 350 | HB31: =HA31*(FY31-1) -> 525 | HC31: =HA31*FY31 -> 875 | HD31: =HA31/1000*$FX31 -> 27.3 | HE31: =HB31/1000*$FX31 -> 40.95 | HF31: =HC31/1000*$FX31 -> 68.25 | HG31: =(GV31-HC31) -> 3865.7193 | HH31: =GN31/1000*$FX31 -> 3.0732 | HI31: =GT31/1000*$FX31 -> 45.827232 | HJ31: =GV31/1000*$FX31 -> 369.77611 | HK31: =(HG31>0)*HG31/1000*$FX31 -> 301.52611 | HL31: =(GP31+GM31+GU31)/1000*$FX31 -> 490.62374 | HM31: =MAX(1.2*$GA$15*(GJ31-GG31)-GL31,0) -> 914.4 | HN31: =HB31/1000*$FX31 -> 40.95 | HP31: =GM31/1000*$FX31 -> 196.0452 | HQ31: =(GM31-GL31)/1000*$FX31 -> 121.0248 | HU31: =HU30 -> 2.5 | HV31: =HV30 -> 350 | HW31: =HV31*(HU31-1+1E-50) -> 525 | HX31: =HU31*HV31 -> 875 | HY31: 78 | HZ31: =HU31 -> 2.5 | IA31: 39.698571 | IB31: 59.547857 | IC31: 99.246429 | ID31: =ID30 -> 0.56785714 | IE31: =MAX($IE$21,IF31) -> 21 | IF31: =$C31 -> -14.5 | IG31: =MAX(IE31-ID31*(IE31-IF31),IL31) -> 0.84107143 | IH31: =IF31+$GA$14/$GA$15*(IE31-IG31) -> 7.9410714 | II31: =MAX(IG31-IA31*(HZ31-1)/(1.2*$GA$14),IM31) -> 1.110223e-16 | IJ31: =IH31+HZ31*IA31/(1.2*$GA$15) -> 9.5015499 | IK31: =MAX(IJ31,$IM$17) -> 15 | IL31: =IL30 -> 0 | IM31: =($FT$9=1)*$II$17+($FT$9=0)*MAX($II$17,IF31) -> 0 | IN31: =1.2*$GA$14*(IE31-IG31) -> 1427.2521 | IO31: =1.2*$GA$14*(IE31-B31) -> 2513.4 | IP31: =MAX(1.2*$GA$15*($IM$17-IJ31),0) -> 349.70143 | IQ31: =IO31-IN31-IP31 -> 736.44643 | IR31: =$F31 -> 3131.1 | IS31: =$CO31 -> 587.52861 | IT31: =IR31+IQ31 -> 3867.5464 | IU31: =MIN(1/(IS31/(IT31+1E-50)+1E-50),1) -> 1 | IV31: =IU31*IS31 -> 587.52861 | IW31: =($AN$21=1)*AN31+($AL$21=1)*AL31+($AM$21=1)*AM31 -> 645.54795 | IX31: =MAX(IO31+IR31+IW31-IV31-IN31,1.2*$GA$15*($IM$17-IH31)) -> 4275.2672 | IY31: =MIN(HX31,IX31) -> 875 | IZ31: =MIN(1.2*$GA$14*(IG31-IM31),HW31) -> 59.547857 | JA31: =IY31/HZ31 -> 350 | JB31: =IZ31/(HZ31-1+1E-50) -> 39.698571 | JC31: =JC$22*MIN(JA31:JB31)+(1-JC$22)*IA31 -> 39.698571 | JD31: =JC31*(HZ31-1) -> 59.547857 | JE31: =JC31*HZ31 -> 99.246429 | JF31: =JC31/1000*$HY31 -> 3.0964886 | JG31: =JD31/1000*$HY31 -> 4.6447329 | JH31: =JE31/1000*$HY31 -> 7.7412214 | JI31: =(IX31-JE31) -> 4176.0208 | JJ31: =IP31/1000*$HY31 -> 27.276711 | JK31: =IV31/1000*$HY31 -> 45.827232 | JL31: =IX31/1000*$HY31 -> 333.47084 | JM31: =(JI31>0)*JI31/1000*$HY31 -> 325.72962 | JN31: =(IR31+IO31+IW31)/1000*$HY31 -> 490.62374 | JO31: =MAX(1.2*$GA$15*($IM$17-IF31)-IN31,0) -> 448.94786 | JP31: =JD31/1000*$HY31 -> 4.6447329 | JR31: =IO31/1000*$HY31 -> 196.0452 | JS31: =(IO31-IN31)/1000*$HY31 -> 84.719533 | JW31: =JW30 -> 2.5 | JX31: =JX30 -> 350 | JY31: =JX31*(JW31-1+1E-50) -> 525 | JZ31: =JW31*JX31 -> 875 | KA31: 78 | KB31: =JW31 -> 2.5 | KC31: 39.698571 | KD31: 59.547857 | KE31: 99.246429 | KF31: =KF30 -> 0.56785714 | KG31: =MAX($KG$21,KH31) -> 21 | KH31: =$C31 -> -14.5 | KI31: =MAX(KG31-KF31*(KG31-KH31),KN31) -> 0.84107143 | KJ31: =KH31+$GA$14/$GA$15*(KG31-KI31) -> 7.9410714 | KK31: =MAX(KI31-KC31*(KB31-1)/(1.2*$GA$14),KO31) -> 1.110223e-16 | KL31: =KJ31+0*(KJ31+KB31*KC31/(1.2*$GA$15)) -> 7.9410714 | KM31: =MAX(KL31,$IM$17) -> 15 | KN31: =KN30 -> 0 | KO31: =($FT$9=1)*$KK$17+($FT$9=0)*MAX($KK$17,KH31) -> 0 | KP31: =1.2*$GA$14*(KG31-KI31) -> 1427.2521 | KQ31: =1.2*$GA$14*(KG31-B31) -> 2513.4 | KR31: =1.2*$GA$15*(KM31-KL31) -> 448.94786 | KS31: =KQ31-KP31-KR31 -> 637.2 | KT31: =$F31 -> 3131.1 | KU31: =$CO31 -> 587.52861 | KV31: =KT31+KS31 -> 3768.3 | KW31: =MIN(1/(KU31/(KV31+1E-50)+1E-50),1) -> 1 | KX31: =KW31*KU31 -> 587.52861 | KY31: =($AN$21=1)*AN31+($AL$21=1)*AL31+($AM$21=1)*AM31 -> 645.54795 | KZ31: =MAX(KQ31+KT31+KY31-KX31-KP31,1.2*$GA$15*($KO$17-KJ31)) -> 4275.2672 | LA31: =MIN(JZ31,KZ31-$KP$17*KR31) -> 875 | LB31: =MIN(1.2*$GA$14*(KI31-KO31),JY31) -> 59.547857 | LC31: =LA31/KB31 -> 350 | LD31: =LB31/(KB31-1+1E-50) -> 39.698571 | LE31: =LE$22*MIN(LC31:LD31)+(1-LE$22)*KC31 -> 39.698571 | LF31: =LE31*(KB31-1) -> 59.547857 | LG31: =LE31*KB31 -> 99.246429 | LH31: =LE31/1000*$KA31 -> 3.0964886 | LI31: =LF31/1000*$KA31 -> 4.6447329 | LJ31: =LG31/1000*$KA31 -> 7.7412214 | LK31: =(KZ31-LG31) -> 4176.0208 | LL31: =KR31/1000*$KA31 -> 35.017933 | LM31: =KX31/1000*$KA31 -> 45.827232 | LN31: =KZ31/1000*$KA31 -> 333.47084 | LO31: =(LK31>0)*LK31/1000*$KA31 -> 325.72962 | LP31: =(KT31+KQ31+KY31)/1000*$KA31 -> 490.62374 | LQ31: =MAX(1.2*$GA$15*($KO$17-KH31)-KP31,0) -> 448.94786 | LR31: =LF31/1000*$KA31 -> 4.6447329 | LT31: =KQ31/1000*$KA31 -> 196.0452 | LU31: =(KQ31-KP31)/1000*$KA31 -> 84.719533 | LY31: =LY30 -> 2.5 | LZ31: =LZ30 -> 350 | MA31: =LZ31*(LY31-1+1E-50) -> 525 | MB31: =LY31*LZ31 -> 875 | MC31: 78 | MD31: =LY31 -> 2.5 | ME31: 350 | MF31: 525 | MG31: 875 | MH31: =MH30 -> 0.56785714 | MI31: =MAX($MI$21,ML31) -> 21 | MJ31: =MAX(MI31-MF31/(1.2*$GA$14),MP31) -> 13.584746 | MK31: =MAX(MJ31-MH31*(MJ31-ML31),$MN$17) -> 0 | ML31: =$C31 -> -14.5 | MM31: =MIN(ML31+$GA$14/$GA$15*(MJ31-MK31),$MO$17) -> 0.62264151 | MN31: =MM31+0*(MM31+MG31/(1.2*$GA$15)) -> 0.62264151 | MO31: =MAX(MN31,$MQ$17) -> 15 | MP31: =($FT$9=1)*$MM$17+($FT$9=0)*MAX($MM$17,ML31) -> 0 | MQ31: =1.2*$GA$14*(MJ31-MK31) -> 961.8 | MR31: =1.2*$GA$14*(MI31-B31) -> 2513.4 | MS31: =1.2*$GA$15*(MO31-MN31) -> 914.4 | MT31: =MR31-MQ31-MS31 -> 637.2 | MU31: =$F31 -> 3131.1 | MV31: =$CO31 -> 587.52861 | MW31: =MU31+MT31 -> 3768.3 | MX31: =MIN(1/(MV31/(MW31+1E-50)+1E-50),1) -> 1 | MY31: =MX31*MV31 -> 587.52861 | MZ31: =($AN$21=1)*AN31+($AL$21=1)*AL31+($AM$21=1)*AM31 -> 645.54795 | NA31: =MAX(MR31+MU31+MZ31-MY31-MQ31,1.2*$GA$15*($MQ$17-MM31)) -> 4740.7193 | NB31: =MIN(MB31,NA31-$MR$17*MS31) -> 875 | NC31: =MIN(1.2*$GA$14*(MI31-MP31),MA31) -> 525 | ND31: =NB31/MD31 -> 350 | NE31: =NC31/(MD31-1+1E-50) -> 350 | NF31: =NF$22*MIN(ND31:NE31)+(1-NF$22)*ME31 -> 350 | NG31: =NF31*(MD31-1) -> 525 | NH31: =NF31*MD31 -> 875 | NI31: =NF31/1000*$MC31 -> 27.3 | NJ31: =NG31/1000*$MC31 -> 40.95 | NK31: =NH31/1000*$MC31 -> 68.25 | NL31: =(NA31-NH31) -> 3865.7193 | NM31: =MS31/1000*$MC31 -> 71.3232 | NN31: =MY31/1000*$MC31 -> 45.827232 | NO31: =NA31/1000*$MC31 -> 369.77611 | NP31: =(NL31>0)*NL31/1000*$MC31 -> 301.52611 | NQ31: =(MU31+MR31+MZ31)/1000*$MC31 -> 490.62374 | NR31: =MAX(1.2*$GA$15*($MQ$17-ML31)-MQ31,0) -> 914.4 | NS31: =NG31/1000*$MC31 -> 40.95 | NT31: =(MU31+MR31+MZ31) -> 6290.0479 | NU31: =MR31/1000*$MC31 -> 196.0452 | NV31: =(MR31-MQ31)/1000*$MC31 -> 121.0248
A32: 3.5502283 | B32: -13.5 | C32: =MAX($C$21*($C$19-B32)+B32,B32) -> -13.5 | D32: 983.2 | E32: =D32/((A32-A31)/100*8760) -> 14.249275 | F32: =$F$21*(J32-B32) -> 3042.9 | G32: =(A32-A31)/100*8760 -> 69 | H32: =F32/1000 -> 3.0429 | I32: =G32*(J32-B32) -> 2380.5 | J32: =$FX$3*GD32+$HY$3*IE32+$KA$3*KG32+$MC$3*MI32 -> 21 | K32: =$FX$3*GE32+$HY$3*II32+$KA$3*KK32+$MC$3*MJ32 -> 13.584746 | L32: =$FX$3*GF32+$HY$3*IG32+$KA$3*KI32+$MC$3*MK32 -> 0 | M32: =$FX$3*GG32+$HY$3*IF32+$KA$3*KH32+$MC$3*ML32 -> -13.5 | N32: =$FX$3*GH32+$HY$3*IH32+$KA$3*KJ32+$MC$3*MM32 -> 1.6226415 | O32: =$FX$3*GI32+$HY$3*IJ32+$KA$3*KL32+$MC$3*MN32 -> 1.6226415 | P32: =$FX$3*GJ32+$HY$3*IK32+$KA$3*KM32+$MC$3*MO32 -> 15 | Q32: =N32+AD32*1000/(1.2*$GA$15) -> 7.1257862 | R32: =AF32*G32 -> 60.375 | S32: =X32*G32 -> 380.01156 | T32: =M32+Y32*1000/(1.2*$GA$15) -> 82.900125 | U32: =M32+X32*1000/(1.2*$GA$15) -> 73.094559 | V32: =($FX$3*GN32+$HY$3*IP32+$KA$3*KR32+$MC$3*MS32)/(1000) -> 0.8508 | W32: =Y32-AG32-AA32-AF32 -> 3.6706139 | X32: =MAX((Y32-AA32),AB32) -> 5.5074139 | Y32: =H32+Z32+AC32 -> 6.1310479 | Z32: =($FX$3*GM32+$HY$3*IO32+$KA$3*KQ32+$MC$3*MR32)/(1000) -> 2.4426 | AA32: =($FX$3*GT32+$HY$3*IV32+$KA$3*KX32+$MC$3*MY32)/(1000) -> 0.62363402 | AB32: =($FX$3*GV32+$HY$3*IX32+$KA$3*KZ32+$MC$3*NA32)/(1000) -> 4.5456139 | AC32: =($FX$3*GU32+$HY$3*IW32+$KA$3*KY32+$MC$3*MZ32)/(1000) -> 0.64554795 | AD32: =($FX$3*HA32+$HY$3*JC32+$KA$3*LE32+$MC$3*NF32)/(1000) -> 0.35 | AE32: =($FX$3*HB32+$HY$3*JD32+$KA$3*LF32+$MC$3*NG32)/(1000) -> 0.525 | AF32: =($FX$3*HC32+$HY$3*JE32+$KA$3*LG32+$MC$3*NH32)/(1000) -> 0.875 | AG32: =($FX$3*GL32+$HY$3*IN32+$KA$3*KP32+$MC$3*MQ32)/(1000) -> 0.9618 | AH32: =AG32+AF32 -> 1.8368 | AI32: =AL32/1000*$AL$21 -> 0.58732877 | AJ32: =AM32/1000*$AM$21 -> 0.058219178 | AK32: =AN32/1000*$AN$21 -> 0 | AL32: =$AL$18 -> 587.32877 | AM32: =$AN$18 -> 58.219178 | AN32: =$AN$19 -> 0 | AP32: =AI32+AJ32 -> 0.64554795 | AQ32: =AP32+AK32 -> 0.64554795 | AR32: =AH32+V32 -> 2.6876 | BO32: =AL32/1000*$G32 -> 40.525685 | BP32: =AM32/1000*$G32 -> 4.0171233 | BQ32: =AN32/1000*$G32 -> 0 | CB32: =CB$23*$E32*CB$21*CB$20 -> 13.066607 | CC32: =CC$23*$E32*CC$21*CC$20 -> 0 | CD32: =CD$23*$E32*CD$21*CD$20 -> 15.272414 | CE32: =CE$23*$E32*CE$21*CE$20 -> 0 | CF32: =CF$23*$E32*CF$21*CF$20 -> 50.802619 | CG32: =CG$23*$E32*CG$21*CG$20 -> 0 | CH32: =CH$23*$E32*CH$21*CH$20 -> 15.292378 | CI32: =CI$23*$E32*CI$21*CI$20 -> 0 | CJ32: =SUM(CB32:CI32) -> 94.434018 | CK32: =CJ32*24/(MAX($CB$12,10)) -> 94.434018 | CL32: =CL31 -> 529.2 | CM32: =CK32+CL32 -> 623.63402 | CN32: =CJ32*G32/1000 -> 6.5159472 | CO32: =CM32 -> 623.63402 | FT32: =FT31 -> 2.5 | FU32: =FU31 -> 350 | FV32: =FU32*(FT32-1+1E-50) -> 525 | FW32: =FT32*FU32 -> 875 | FX32: 69 | FY32: =FT32 -> 2.5 | FZ32: 350 | GA32: 525 | GB32: 875 | GC32: =GC31 -> 0.56785714 | GD32: =MAX($GD$21,GG32) -> 21 | GE32: =MAX(GD32-GA32/(1.2*$GA$14),GK32) -> 13.584746 | GF32: =MAX(GE32-GC32*(GE32-GG32),$GI$17) -> 0 | GG32: =$C32 -> -13.5 | GH32: =MIN(GG32+$GA$14/$GA$15*(GE32-GF32),$GJ$17) -> 1.6226415 | GI32: =GH32+GB32/(1.2*$GA$15) -> 15.380503 | GJ32: =MAX(GI32,$GL$17) -> 15.380503 | GK32: =($FT$9=1)*$GH$17+($FT$9=0)*MAX($GH$17,GG32) -> 0 | GL32: =1.2*$GA$14*(GE32-GF32) -> 961.8 | GM32: =1.2*$GA$14*(GD32-B32) -> 2442.6 | GN32: =1.2*$GA$15*(GJ32-GI32) -> 0 | GO32: =GM32-GL32-GN32 -> 1480.8 | GP32: =$F32 -> 3042.9 | GQ32: =$CO32 -> 623.63402 | GR32: =GP32+GO32 -> 4523.7 | GS32: =MIN(1/(GQ32/(GR32+1E-50)+1E-50),1) -> 1 | GT32: =GS32*GQ32 -> 623.63402 | GU32: =($AN$21=1)*AN32+($AL$21=1)*AL32+($AM$21=1)*AM32 -> 645.54795 | GV32: =MAX(GM32+GP32+GU32-GT32-GL32,1.2*$GA$15*($GL$17-GH32)) -> 4545.6139 | GW32: =MIN(FW32,GV32) -> 875 | GX32: =MIN(1.2*$GA$14*(GD32-GK32),FV32) -> 525 | GY32: =GW32/FY32 -> 350 | GZ32: =GX32/(FY32-1+1E-50) -> 350 | HA32: =HA$22*MIN(GY32:GZ32)+(1-HA$22)*FZ32 -> 350 | HB32: =HA32*(FY32-1) -> 525 | HC32: =HA32*FY32 -> 875 | HD32: =HA32/1000*$FX32 -> 24.15 | HE32: =HB32/1000*$FX32 -> 36.225 | HF32: =HC32/1000*$FX32 -> 60.375 | HG32: =(GV32-HC32) -> 3670.6139 | HH32: =GN32/1000*$FX32 -> 0 | HI32: =GT32/1000*$FX32 -> 43.030747 | HJ32: =GV32/1000*$FX32 -> 313.64736 | HK32: =(HG32>0)*HG32/1000*$FX32 -> 253.27236 | HL32: =(GP32+GM32+GU32)/1000*$FX32 -> 423.04231 | HM32: =MAX(1.2*$GA$15*(GJ32-GG32)-GL32,0) -> 875 | HN32: =HB32/1000*$FX32 -> 36.225 | HP32: =GM32/1000*$FX32 -> 168.5394 | HQ32: =(GM32-GL32)/1000*$FX32 -> 102.1752 | HU32: =HU31 -> 2.5 | HV32: =HV31 -> 350 | HW32: =HV32*(HU32-1+1E-50) -> 525 | HX32: =HU32*HV32 -> 875 | HY32: 69 | HZ32: =HU32 -> 2.5 | IA32: 66.501429 | IB32: 99.752143 | IC32: 166.25357 | ID32: =ID31 -> 0.56785714 | IE32: =MAX($IE$21,IF32) -> 21 | IF32: =$C32 -> -13.5 | IG32: =MAX(IE32-ID32*(IE32-IF32),IL32) -> 1.4089286 | IH32: =IF32+$GA$14/$GA$15*(IE32-IG32) -> 8.3089286 | II32: =MAX(IG32-IA32*(HZ32-1)/(1.2*$GA$14),IM32) -> 0 | IJ32: =IH32+HZ32*IA32/(1.2*$GA$15) -> 10.922978 | IK32: =MAX(IJ32,$IM$17) -> 15 | IL32: =IL31 -> 0 | IM32: =($FT$9=1)*$II$17+($FT$9=0)*MAX($II$17,IF32) -> 0 | IN32: =1.2*$GA$14*(IE32-IG32) -> 1387.0479 | IO32: =1.2*$GA$14*(IE32-B32) -> 2442.6 | IP32: =MAX(1.2*$GA$15*($IM$17-IJ32),0) -> 259.29857 | IQ32: =IO32-IN32-IP32 -> 796.25357 | IR32: =$F32 -> 3042.9 | IS32: =$CO32 -> 623.63402 | IT32: =IR32+IQ32 -> 3839.1536 | IU32: =MIN(1/(IS32/(IT32+1E-50)+1E-50),1) -> 1 | IV32: =IU32*IS32 -> 623.63402 | IW32: =($AN$21=1)*AN32+($AL$21=1)*AL32+($AM$21=1)*AM32 -> 645.54795 | IX32: =MAX(IO32+IR32+IW32-IV32-IN32,1.2*$GA$15*($IM$17-IH32)) -> 4120.3661 | IY32: =MIN(HX32,IX32) -> 875 | IZ32: =MIN(1.2*$GA$14*(IG32-IM32),HW32) -> 99.752143 | JA32: =IY32/HZ32 -> 350 | JB32: =IZ32/(HZ32-1+1E-50) -> 66.501429 | JC32: =JC$22*MIN(JA32:JB32)+(1-JC$22)*IA32 -> 66.501429 | JD32: =JC32*(HZ32-1) -> 99.752143 | JE32: =JC32*HZ32 -> 166.25357 | JF32: =JC32/1000*$HY32 -> 4.5885986 | JG32: =JD32/1000*$HY32 -> 6.8828979 | JH32: =JE32/1000*$HY32 -> 11.471496 | JI32: =(IX32-JE32) -> 3954.1125 | JJ32: =IP32/1000*$HY32 -> 17.891601 | JK32: =IV32/1000*$HY32 -> 43.030747 | JL32: =IX32/1000*$HY32 -> 284.30526 | JM32: =(JI32>0)*JI32/1000*$HY32 -> 272.83376 | JN32: =(IR32+IO32+IW32)/1000*$HY32 -> 423.04231 | JO32: =MAX(1.2*$GA$15*($IM$17-IF32)-IN32,0) -> 425.55214 | JP32: =JD32/1000*$HY32 -> 6.8828979 | JR32: =IO32/1000*$HY32 -> 168.5394 | JS32: =(IO32-IN32)/1000*$HY32 -> 72.833098 | JW32: =JW31 -> 2.5 | JX32: =JX31 -> 350 | JY32: =JX32*(JW32-1+1E-50) -> 525 | JZ32: =JW32*JX32 -> 875 | KA32: 69 | KB32: =JW32 -> 2.5 | KC32: 66.501429 | KD32: 99.752143 | KE32: 166.25357 | KF32: =KF31 -> 0.56785714 | KG32: =MAX($KG$21,KH32) -> 21 | KH32: =$C32 -> -13.5 | KI32: =MAX(KG32-KF32*(KG32-KH32),KN32) -> 1.4089286 | KJ32: =KH32+$GA$14/$GA$15*(KG32-KI32) -> 8.3089286 | KK32: =MAX(KI32-KC32*(KB32-1)/(1.2*$GA$14),KO32) -> 0 | KL32: =KJ32+0*(KJ32+KB32*KC32/(1.2*$GA$15)) -> 8.3089286 | KM32: =MAX(KL32,$IM$17) -> 15 | KN32: =KN31 -> 0 | KO32: =($FT$9=1)*$KK$17+($FT$9=0)*MAX($KK$17,KH32) -> 0 | KP32: =1.2*$GA$14*(KG32-KI32) -> 1387.0479 | KQ32: =1.2*$GA$14*(KG32-B32) -> 2442.6 | KR32: =1.2*$GA$15*(KM32-KL32) -> 425.55214 | KS32: =KQ32-KP32-KR32 -> 630 | KT32: =$F32 -> 3042.9 | KU32: =$CO32 -> 623.63402 | KV32: =KT32+KS32 -> 3672.9 | KW32: =MIN(1/(KU32/(KV32+1E-50)+1E-50),1) -> 1 | KX32: =KW32*KU32 -> 623.63402 | KY32: =($AN$21=1)*AN32+($AL$21=1)*AL32+($AM$21=1)*AM32 -> 645.54795 | KZ32: =MAX(KQ32+KT32+KY32-KX32-KP32,1.2*$GA$15*($KO$17-KJ32)) -> 4120.3661 | LA32: =MIN(JZ32,KZ32-$KP$17*KR32) -> 875 | LB32: =MIN(1.2*$GA$14*(KI32-KO32),JY32) -> 99.752143 | LC32: =LA32/KB32 -> 350 | LD32: =LB32/(KB32-1+1E-50) -> 66.501429 | LE32: =LE$22*MIN(LC32:LD32)+(1-LE$22)*KC32 -> 66.501429 | LF32: =LE32*(KB32-1) -> 99.752143 | LG32: =LE32*KB32 -> 166.25357 | LH32: =LE32/1000*$KA32 -> 4.5885986 | LI32: =LF32/1000*$KA32 -> 6.8828979 | LJ32: =LG32/1000*$KA32 -> 11.471496 | LK32: =(KZ32-LG32) -> 3954.1125 | LL32: =KR32/1000*$KA32 -> 29.363098 | LM32: =KX32/1000*$KA32 -> 43.030747 | LN32: =KZ32/1000*$KA32 -> 284.30526 | LO32: =(LK32>0)*LK32/1000*$KA32 -> 272.83376 | LP32: =(KT32+KQ32+KY32)/1000*$KA32 -> 423.04231 | LQ32: =MAX(1.2*$GA$15*($KO$17-KH32)-KP32,0) -> 425.55214 | LR32: =LF32/1000*$KA32 -> 6.8828979 | LT32: =KQ32/1000*$KA32 -> 168.5394 | LU32: =(KQ32-KP32)/1000*$KA32 -> 72.833098 | LY32: =LY31 -> 2.5 | LZ32: =LZ31 -> 350 | MA32: =LZ32*(LY32-1+1E-50) -> 525 | MB32: =LY32*LZ32 -> 875 | MC32: 69 | MD32: =LY32 -> 2.5 | ME32: 350 | MF32: 525 | MG32: 875 | MH32: =MH31 -> 0.56785714 | MI32: =MAX($MI$21,ML32) -> 21 | MJ32: =MAX(MI32-MF32/(1.2*$GA$14),MP32) -> 13.584746 | MK32: =MAX(MJ32-MH32*(MJ32-ML32),$MN$17) -> 0 | ML32: =$C32 -> -13.5 | MM32: =MIN(ML32+$GA$14/$GA$15*(MJ32-MK32),$MO$17) -> 1.6226415 | MN32: =MM32+0*(MM32+MG32/(1.2*$GA$15)) -> 1.6226415 | MO32: =MAX(MN32,$MQ$17) -> 15 | MP32: =($FT$9=1)*$MM$17+($FT$9=0)*MAX($MM$17,ML32) -> 0 | MQ32: =1.2*$GA$14*(MJ32-MK32) -> 961.8 | MR32: =1.2*$GA$14*(MI32-B32) -> 2442.6 | MS32: =1.2*$GA$15*(MO32-MN32) -> 850.8 | MT32: =MR32-MQ32-MS32 -> 630 | MU32: =$F32 -> 3042.9 | MV32: =$CO32 -> 623.63402 | MW32: =MU32+MT32 -> 3672.9 | MX32: =MIN(1/(MV32/(MW32+1E-50)+1E-50),1) -> 1 | MY32: =MX32*MV32 -> 623.63402 | MZ32: =($AN$21=1)*AN32+($AL$21=1)*AL32+($AM$21=1)*AM32 -> 645.54795 | NA32: =MAX(MR32+MU32+MZ32-MY32-MQ32,1.2*$GA$15*($MQ$17-MM32)) -> 4545.6139 | NB32: =MIN(MB32,NA32-$MR$17*MS32) -> 875 | NC32: =MIN(1.2*$GA$14*(MI32-MP32),MA32) -> 525 | ND32: =NB32/MD32 -> 350 | NE32: =NC32/(MD32-1+1E-50) -> 350 | NF32: =NF$22*MIN(ND32:NE32)+(1-NF$22)*ME32 -> 350 | NG32: =NF32*(MD32-1) -> 525 | NH32: =NF32*MD32 -> 875 | NI32: =NF32/1000*$MC32 -> 24.15 | NJ32: =NG32/1000*$MC32 -> 36.225 | NK32: =NH32/1000*$MC32 -> 60.375 | NL32: =(NA32-NH32) -> 3670.6139 | NM32: =MS32/1000*$MC32 -> 58.7052 | NN32: =MY32/1000*$MC32 -> 43.030747 | NO32: =NA32/1000*$MC32 -> 313.64736 | NP32: =(NL32>0)*NL32/1000*$MC32 -> 253.27236 | NQ32: =(MU32+MR32+MZ32)/1000*$MC32 -> 423.04231 | NR32: =MAX(1.2*$GA$15*($MQ$17-ML32)-MQ32,0) -> 850.8 | NS32: =NG32/1000*$MC32 -> 36.225 | NT32: =(MU32+MR32+MZ32) -> 6131.0479 | NU32: =MR32/1000*$MC32 -> 168.5394 | NV32: =(MR32-MQ32)/1000*$MC32 -> 102.1752
A33: 4.3493151 | B33: -12.5 | C33: =MAX($C$21*($C$19-B33)+B33,B33) -> -12.5 | D33: 1307.5 | E33: =D33/((A33-A32)/100*8760) -> 18.678571 | F33: =$F$21*(J33-B33) -> 2954.7 | G33: =(A33-A32)/100*8760 -> 70 | H33: =F33/1000 -> 2.9547 | I33: =G33*(J33-B33) -> 2345 | J33: =$FX$3*GD33+$HY$3*IE33+$KA$3*KG33+$MC$3*MI33 -> 21 | K33: =$FX$3*GE33+$HY$3*II33+$KA$3*KK33+$MC$3*MJ33 -> 13.584746 | L33: =$FX$3*GF33+$HY$3*IG33+$KA$3*KI33+$MC$3*MK33 -> 0 | M33: =$FX$3*GG33+$HY$3*IF33+$KA$3*KH33+$MC$3*ML33 -> -12.5 | N33: =$FX$3*GH33+$HY$3*IH33+$KA$3*KJ33+$MC$3*MM33 -> 2.6226415 | O33: =$FX$3*GI33+$HY$3*IJ33+$KA$3*KL33+$MC$3*MN33 -> 2.6226415 | P33: =$FX$3*GJ33+$HY$3*IK33+$KA$3*KM33+$MC$3*MO33 -> 15 | Q33: =N33+AD33*1000/(1.2*$GA$15) -> 8.1257862 | R33: =AF33*G33 -> 61.25 | S33: =X33*G33 -> 372.33418 | T33: =M33+Y33*1000/(1.2*$GA$15) -> 81.400125 | U33: =M33+X33*1000/(1.2*$GA$15) -> 71.133014 | V33: =($FX$3*GN33+$HY$3*IP33+$KA$3*KR33+$MC$3*MS33)/(1000) -> 0.7872 | W33: =Y33-AG33-AA33-AF33 -> 3.4822597 | X33: =MAX((Y33-AA33),AB33) -> 5.3190597 | Y33: =H33+Z33+AC33 -> 5.9720479 | Z33: =($FX$3*GM33+$HY$3*IO33+$KA$3*KQ33+$MC$3*MR33)/(1000) -> 2.3718 | AA33: =($FX$3*GT33+$HY$3*IV33+$KA$3*KX33+$MC$3*MY33)/(1000) -> 0.65298823 | AB33: =($FX$3*GV33+$HY$3*IX33+$KA$3*KZ33+$MC$3*NA33)/(1000) -> 4.3572597 | AC33: =($FX$3*GU33+$HY$3*IW33+$KA$3*KY33+$MC$3*MZ33)/(1000) -> 0.64554795 | AD33: =($FX$3*HA33+$HY$3*JC33+$KA$3*LE33+$MC$3*NF33)/(1000) -> 0.35 | AE33: =($FX$3*HB33+$HY$3*JD33+$KA$3*LF33+$MC$3*NG33)/(1000) -> 0.525 | AF33: =($FX$3*HC33+$HY$3*JE33+$KA$3*LG33+$MC$3*NH33)/(1000) -> 0.875 | AG33: =($FX$3*GL33+$HY$3*IN33+$KA$3*KP33+$MC$3*MQ33)/(1000) -> 0.9618 | AH33: =AG33+AF33 -> 1.8368 | AI33: =AL33/1000*$AL$21 -> 0.58732877 | AJ33: =AM33/1000*$AM$21 -> 0.058219178 | AK33: =AN33/1000*$AN$21 -> 0 | AL33: =$AL$18 -> 587.32877 | AM33: =$AN$18 -> 58.219178 | AN33: =$AN$19 -> 0 | AP33: =AI33+AJ33 -> 0.64554795 | AQ33: =AP33+AK33 -> 0.64554795 | AR33: =AH33+V33 -> 2.624 | BO33: =AL33/1000*$G33 -> 41.113014 | BP33: =AM33/1000*$G33 -> 4.0753425 | BQ33: =AN33/1000*$G33 -> 0 | CB33: =CB$23*$E33*CB$21*CB$20 -> 17.128278 | CC33: =CC$23*$E33*CC$21*CC$20 -> 0 | CD33: =CD$23*$E33*CD$21*CD$20 -> 20.019746 | CE33: =CE$23*$E33*CE$21*CE$20 -> 0 | CF33: =CF$23*$E33*CF$21*CF$20 -> 66.594288 | CG33: =CG$23*$E33*CG$21*CG$20 -> 0 | CH33: =CH$23*$E33*CH$21*CH$20 -> 20.045916 | CI33: =CI$23*$E33*CI$21*CI$20 -> 0 | CJ33: =SUM(CB33:CI33) -> 123.78823 | CK33: =CJ33*24/(MAX($CB$12,10)) -> 123.78823 | CL33: =CL32 -> 529.2 | CM33: =CK33+CL33 -> 652.98823 | CN33: =CJ33*G33/1000 -> 8.6651759 | CO33: =CM33 -> 652.98823 | FT33: =FT32 -> 2.5 | FU33: =FU32 -> 350 | FV33: =FU33*(FT33-1+1E-50) -> 525 | FW33: =FT33*FU33 -> 875 | FX33: 70 | FY33: =FT33 -> 2.5 | FZ33: 350 | GA33: 525 | GB33: 875 | GC33: =GC32 -> 0.56785714 | GD33: =MAX($GD$21,GG33) -> 21 | GE33: =MAX(GD33-GA33/(1.2*$GA$14),GK33) -> 13.584746 | GF33: =MAX(GE33-GC33*(GE33-GG33),$GI$17) -> 0 | GG33: =$C33 -> -12.5 | GH33: =MIN(GG33+$GA$14/$GA$15*(GE33-GF33),$GJ$17) -> 2.6226415 | GI33: =GH33+GB33/(1.2*$GA$15) -> 16.380503 | GJ33: =MAX(GI33,$GL$17) -> 16.380503 | GK33: =($FT$9=1)*$GH$17+($FT$9=0)*MAX($GH$17,GG33) -> 0 | GL33: =1.2*$GA$14*(GE33-GF33) -> 961.8 | GM33: =1.2*$GA$14*(GD33-B33) -> 2371.8 | GN33: =1.2*$GA$15*(GJ33-GI33) -> 0 | GO33: =GM33-GL33-GN33 -> 1410 | GP33: =$F33 -> 2954.7 | GQ33: =$CO33 -> 652.98823 | GR33: =GP33+GO33 -> 4364.7 | GS33: =MIN(1/(GQ33/(GR33+1E-50)+1E-50),1) -> 1 | GT33: =GS33*GQ33 -> 652.98823 | GU33: =($AN$21=1)*AN33+($AL$21=1)*AL33+($AM$21=1)*AM33 -> 645.54795 | GV33: =MAX(GM33+GP33+GU33-GT33-GL33,1.2*$GA$15*($GL$17-GH33)) -> 4357.2597 | GW33: =MIN(FW33,GV33) -> 875 | GX33: =MIN(1.2*$GA$14*(GD33-GK33),FV33) -> 525 | GY33: =GW33/FY33 -> 350 | GZ33: =GX33/(FY33-1+1E-50) -> 350 | HA33: =HA$22*MIN(GY33:GZ33)+(1-HA$22)*FZ33 -> 350 | HB33: =HA33*(FY33-1) -> 525 | HC33: =HA33*FY33 -> 875 | HD33: =HA33/1000*$FX33 -> 24.5 | HE33: =HB33/1000*$FX33 -> 36.75 | HF33: =HC33/1000*$FX33 -> 61.25 | HG33: =(GV33-HC33) -> 3482.2597 | HH33: =GN33/1000*$FX33 -> 0 | HI33: =GT33/1000*$FX33 -> 45.709176 | HJ33: =GV33/1000*$FX33 -> 305.00818 | HK33: =(HG33>0)*HG33/1000*$FX33 -> 243.75818 | HL33: =(GP33+GM33+GU33)/1000*$FX33 -> 418.04336 | HM33: =MAX(1.2*$GA$15*(GJ33-GG33)-GL33,0) -> 875 | HN33: =HB33/1000*$FX33 -> 36.75 | HP33: =GM33/1000*$FX33 -> 166.026 | HQ33: =(GM33-GL33)/1000*$FX33 -> 98.7 | HU33: =HU32 -> 2.5 | HV33: =HV32 -> 350 | HW33: =HV33*(HU33-1+1E-50) -> 525 | HX33: =HU33*HV33 -> 875 | HY33: 70 | HZ33: =HU33 -> 2.5 | IA33: 93.304286 | IB33: 139.95643 | IC33: 233.26071 | ID33: =ID32 -> 0.56785714 | IE33: =MAX($IE$21,IF33) -> 21 | IF33: =$C33 -> -12.5 | IG33: =MAX(IE33-ID33*(IE33-IF33),IL33) -> 1.9767857 | IH33: =IF33+$GA$14/$GA$15*(IE33-IG33) -> 8.6767857 | II33: =MAX(IG33-IA33*(HZ33-1)/(1.2*$GA$14),IM33) -> 2.220446e-16 | IJ33: =IH33+HZ33*IA33/(1.2*$GA$15) -> 12.344407 | IK33: =MAX(IJ33,$IM$17) -> 15 | IL33: =IL32 -> 0 | IM33: =($FT$9=1)*$II$17+($FT$9=0)*MAX($II$17,IF33) -> 0 | IN33: =1.2*$GA$14*(IE33-IG33) -> 1346.8436 | IO33: =1.2*$GA$14*(IE33-B33) -> 2371.8 | IP33: =MAX(1.2*$GA$15*($IM$17-IJ33),0) -> 168.89571 | IQ33: =IO33-IN33-IP33 -> 856.06071 | IR33: =$F33 -> 2954.7 | IS33: =$CO33 -> 652.98823 | IT33: =IR33+IQ33 -> 3810.7607 | IU33: =MIN(1/(IS33/(IT33+1E-50)+1E-50),1) -> 1 | IV33: =IU33*IS33 -> 652.98823 | IW33: =($AN$21=1)*AN33+($AL$21=1)*AL33+($AM$21=1)*AM33 -> 645.54795 | IX33: =MAX(IO33+IR33+IW33-IV33-IN33,1.2*$GA$15*($IM$17-IH33)) -> 3972.2161 | IY33: =MIN(HX33,IX33) -> 875 | IZ33: =MIN(1.2*$GA$14*(IG33-IM33),HW33) -> 139.95643 | JA33: =IY33/HZ33 -> 350 | JB33: =IZ33/(HZ33-1+1E-50) -> 93.304286 | JC33: =JC$22*MIN(JA33:JB33)+(1-JC$22)*IA33 -> 93.304286 | JD33: =JC33*(HZ33-1) -> 139.95643 | JE33: =JC33*HZ33 -> 233.26071 | JF33: =JC33/1000*$HY33 -> 6.5313 | JG33: =JD33/1000*$HY33 -> 9.79695 | JH33: =JE33/1000*$HY33 -> 16.32825 | JI33: =(IX33-JE33) -> 3738.9554 | JJ33: =IP33/1000*$HY33 -> 11.8227 | JK33: =IV33/1000*$HY33 -> 45.709176 | JL33: =IX33/1000*$HY33 -> 278.05513 | JM33: =(JI33>0)*JI33/1000*$HY33 -> 261.72688 | JN33: =(IR33+IO33+IW33)/1000*$HY33 -> 418.04336 | JO33: =MAX(1.2*$GA$15*($IM$17-IF33)-IN33,0) -> 402.15643 | JP33: =JD33/1000*$HY33 -> 9.79695 | JR33: =IO33/1000*$HY33 -> 166.026 | JS33: =(IO33-IN33)/1000*$HY33 -> 71.74695 | JW33: =JW32 -> 2.5 | JX33: =JX32 -> 350 | JY33: =JX33*(JW33-1+1E-50) -> 525 | JZ33: =JW33*JX33 -> 875 | KA33: 70 | KB33: =JW33 -> 2.5 | KC33: 93.304286 | KD33: 139.95643 | KE33: 233.26071 | KF33: =KF32 -> 0.56785714 | KG33: =MAX($KG$21,KH33) -> 21 | KH33: =$C33 -> -12.5 | KI33: =MAX(KG33-KF33*(KG33-KH33),KN33) -> 1.9767857 | KJ33: =KH33+$GA$14/$GA$15*(KG33-KI33) -> 8.6767857 | KK33: =MAX(KI33-KC33*(KB33-1)/(1.2*$GA$14),KO33) -> 2.220446e-16 | KL33: =KJ33+0*(KJ33+KB33*KC33/(1.2*$GA$15)) -> 8.6767857 | KM33: =MAX(KL33,$IM$17) -> 15 | KN33: =KN32 -> 0 | KO33: =($FT$9=1)*$KK$17+($FT$9=0)*MAX($KK$17,KH33) -> 0 | KP33: =1.2*$GA$14*(KG33-KI33) -> 1346.8436 | KQ33: =1.2*$GA$14*(KG33-B33) -> 2371.8 | KR33: =1.2*$GA$15*(KM33-KL33) -> 402.15643 | KS33: =KQ33-KP33-KR33 -> 622.8 | KT33: =$F33 -> 2954.7 | KU33: =$CO33 -> 652.98823 | KV33: =KT33+KS33 -> 3577.5 | KW33: =MIN(1/(KU33/(KV33+1E-50)+1E-50),1) -> 1 | KX33: =KW33*KU33 -> 652.98823 | KY33: =($AN$21=1)*AN33+($AL$21=1)*AL33+($AM$21=1)*AM33 -> 645.54795 | KZ33: =MAX(KQ33+KT33+KY33-KX33-KP33,1.2*$GA$15*($KO$17-KJ33)) -> 3972.2161 | LA33: =MIN(JZ33,KZ33-$KP$17*KR33) -> 875 | LB33: =MIN(1.2*$GA$14*(KI33-KO33),JY33) -> 139.95643 | LC33: =LA33/KB33 -> 350 | LD33: =LB33/(KB33-1+1E-50) -> 93.304286 | LE33: =LE$22*MIN(LC33:LD33)+(1-LE$22)*KC33 -> 93.304286 | LF33: =LE33*(KB33-1) -> 139.95643 | LG33: =LE33*KB33 -> 233.26071 | LH33: =LE33/1000*$KA33 -> 6.5313 | LI33: =LF33/1000*$KA33 -> 9.79695 | LJ33: =LG33/1000*$KA33 -> 16.32825 | LK33: =(KZ33-LG33) -> 3738.9554 | LL33: =KR33/1000*$KA33 -> 28.15095 | LM33: =KX33/1000*$KA33 -> 45.709176 | LN33: =KZ33/1000*$KA33 -> 278.05513 | LO33: =(LK33>0)*LK33/1000*$KA33 -> 261.72688 | LP33: =(KT33+KQ33+KY33)/1000*$KA33 -> 418.04336 | LQ33: =MAX(1.2*$GA$15*($KO$17-KH33)-KP33,0) -> 402.15643 | LR33: =LF33/1000*$KA33 -> 9.79695 | LT33: =KQ33/1000*$KA33 -> 166.026 | LU33: =(KQ33-KP33)/1000*$KA33 -> 71.74695 | LY33: =LY32 -> 2.5 | LZ33: =LZ32 -> 350 | MA33: =LZ33*(LY33-1+1E-50) -> 525 | MB33: =LY33*LZ33 -> 875 | MC33: 70 | MD33: =LY33 -> 2.5 | ME33: 350 | MF33: 525 | MG33: 875 | MH33: =MH32 -> 0.56785714 | MI33: =MAX($MI$21,ML33) -> 21 | MJ33: =MAX(MI33-MF33/(1.2*$GA$14),MP33) -> 13.584746 | MK33: =MAX(MJ33-MH33*(MJ33-ML33),$MN$17) -> 0 | ML33: =$C33 -> -12.5 | MM33: =MIN(ML33+$GA$14/$GA$15*(MJ33-MK33),$MO$17) -> 2.6226415 | MN33: =MM33+0*(MM33+MG33/(1.2*$GA$15)) -> 2.6226415 | MO33: =MAX(MN33,$MQ$17) -> 15 | MP33: =($FT$9=1)*$MM$17+($FT$9=0)*MAX($MM$17,ML33) -> 0 | MQ33: =1.2*$GA$14*(MJ33-MK33) -> 961.8 | MR33: =1.2*$GA$14*(MI33-B33) -> 2371.8 | MS33: =1.2*$GA$15*(MO33-MN33) -> 787.2 | MT33: =MR33-MQ33-MS33 -> 622.8 | MU33: =$F33 -> 2954.7 | MV33: =$CO33 -> 652.98823 | MW33: =MU33+MT33 -> 3577.5 | MX33: =MIN(1/(MV33/(MW33+1E-50)+1E-50),1) -> 1 | MY33: =MX33*MV33 -> 652.98823 | MZ33: =($AN$21=1)*AN33+($AL$21=1)*AL33+($AM$21=1)*AM33 -> 645.54795 | NA33: =MAX(MR33+MU33+MZ33-MY33-MQ33,1.2*$GA$15*($MQ$17-MM33)) -> 4357.2597 | NB33: =MIN(MB33,NA33-$MR$17*MS33) -> 875 | NC33: =MIN(1.2*$GA$14*(MI33-MP33),MA33) -> 525 | ND33: =NB33/MD33 -> 350 | NE33: =NC33/(MD33-1+1E-50) -> 350 | NF33: =NF$22*MIN(ND33:NE33)+(1-NF$22)*ME33 -> 350 | NG33: =NF33*(MD33-1) -> 525 | NH33: =NF33*MD33 -> 875 | NI33: =NF33/1000*$MC33 -> 24.5 | NJ33: =NG33/1000*$MC33 -> 36.75 | NK33: =NH33/1000*$MC33 -> 61.25 | NL33: =(NA33-NH33) -> 3482.2597 | NM33: =MS33/1000*$MC33 -> 55.104 | NN33: =MY33/1000*$MC33 -> 45.709176 | NO33: =NA33/1000*$MC33 -> 305.00818 | NP33: =(NL33>0)*NL33/1000*$MC33 -> 243.75818 | NQ33: =(MU33+MR33+MZ33)/1000*$MC33 -> 418.04336 | NR33: =MAX(1.2*$GA$15*($MQ$17-ML33)-MQ33,0) -> 787.2 | NS33: =NG33/1000*$MC33 -> 36.75 | NT33: =(MU33+MR33+MZ33) -> 5972.0479 | NU33: =MR33/1000*$MC33 -> 166.026 | NV33: =(MR33-MQ33)/1000*$MC33 -> 98.7
A34: 4.9315068 | B34: -11.5 | C34: =MAX($C$21*($C$19-B34)+B34,B34) -> -11.5 | D34: 765.7 | E34: =D34/((A34-A33)/100*8760) -> 15.013725 | F34: =$F$21*(J34-B34) -> 2866.5 | G34: =(A34-A33)/100*8760 -> 51 | H34: =F34/1000 -> 2.8665 | I34: =G34*(J34-B34) -> 1657.5 | J34: =$FX$3*GD34+$HY$3*IE34+$KA$3*KG34+$MC$3*MI34 -> 21 | K34: =$FX$3*GE34+$HY$3*II34+$KA$3*KK34+$MC$3*MJ34 -> 13.584746 | L34: =$FX$3*GF34+$HY$3*IG34+$KA$3*KI34+$MC$3*MK34 -> 0 | M34: =$FX$3*GG34+$HY$3*IF34+$KA$3*KH34+$MC$3*ML34 -> -11.5 | N34: =$FX$3*GH34+$HY$3*IH34+$KA$3*KJ34+$MC$3*MM34 -> 3.6226415 | O34: =$FX$3*GI34+$HY$3*IJ34+$KA$3*KL34+$MC$3*MN34 -> 3.6226415 | P34: =$FX$3*GJ34+$HY$3*IK34+$KA$3*KM34+$MC$3*MO34 -> 15 | Q34: =N34+AD34*1000/(1.2*$GA$15) -> 9.1257862 | R34: =AF34*G34 -> 44.625 | S34: =X34*G34 -> 264.40173 | T34: =M34+Y34*1000/(1.2*$GA$15) -> 79.900125 | U34: =M34+X34*1000/(1.2*$GA$15) -> 70.014901 | V34: =($FX$3*GN34+$HY$3*IP34+$KA$3*KR34+$MC$3*MS34)/(1000) -> 0.7236 | W34: =Y34-AG34-AA34-AF34 -> 3.3475477 | X34: =MAX((Y34-AA34),AB34) -> 5.1843477 | Y34: =H34+Z34+AC34 -> 5.8130479 | Z34: =($FX$3*GM34+$HY$3*IO34+$KA$3*KQ34+$MC$3*MR34)/(1000) -> 2.301 | AA34: =($FX$3*GT34+$HY$3*IV34+$KA$3*KX34+$MC$3*MY34)/(1000) -> 0.62870025 | AB34: =($FX$3*GV34+$HY$3*IX34+$KA$3*KZ34+$MC$3*NA34)/(1000) -> 4.2225477 | AC34: =($FX$3*GU34+$HY$3*IW34+$KA$3*KY34+$MC$3*MZ34)/(1000) -> 0.64554795 | AD34: =($FX$3*HA34+$HY$3*JC34+$KA$3*LE34+$MC$3*NF34)/(1000) -> 0.35 | AE34: =($FX$3*HB34+$HY$3*JD34+$KA$3*LF34+$MC$3*NG34)/(1000) -> 0.525 | AF34: =($FX$3*HC34+$HY$3*JE34+$KA$3*LG34+$MC$3*NH34)/(1000) -> 0.875 | AG34: =($FX$3*GL34+$HY$3*IN34+$KA$3*KP34+$MC$3*MQ34)/(1000) -> 0.9618 | AH34: =AG34+AF34 -> 1.8368 | AI34: =AL34/1000*$AL$21 -> 0.58732877 | AJ34: =AM34/1000*$AM$21 -> 0.058219178 | AK34: =AN34/1000*$AN$21 -> 0 | AL34: =$AL$18 -> 587.32877 | AM34: =$AN$18 -> 58.219178 | AN34: =$AN$19 -> 0 | AP34: =AI34+AJ34 -> 0.64554795 | AQ34: =AP34+AK34 -> 0.64554795 | AR34: =AH34+V34 -> 2.5604 | BO34: =AL34/1000*$G34 -> 29.953767 | BP34: =AM34/1000*$G34 -> 2.9691781 | BQ34: =AN34/1000*$G34 -> 0 | CB34: =CB$23*$E34*CB$21*CB$20 -> 13.767609 | CC34: =CC$23*$E34*CC$21*CC$20 -> 0 | CD34: =CD$23*$E34*CD$21*CD$20 -> 16.091754 | CE34: =CE$23*$E34*CE$21*CE$20 -> 0 | CF34: =CF$23*$E34*CF$21*CF$20 -> 53.528096 | CG34: =CG$23*$E34*CG$21*CG$20 -> 0 | CH34: =CH$23*$E34*CH$21*CH$20 -> 16.112789 | CI34: =CI$23*$E34*CI$21*CI$20 -> 0 | CJ34: =SUM(CB34:CI34) -> 99.500247 | CK34: =CJ34*24/(MAX($CB$12,10)) -> 99.500247 | CL34: =CL33 -> 529.2 | CM34: =CK34+CL34 -> 628.70025 | CN34: =CJ34*G34/1000 -> 5.0745126 | CO34: =CM34 -> 628.70025 | FT34: =FT33 -> 2.5 | FU34: =FU33 -> 350 | FV34: =FU34*(FT34-1+1E-50) -> 525 | FW34: =FT34*FU34 -> 875 | FX34: 51 | FY34: =FT34 -> 2.5 | FZ34: 350 | GA34: 525 | GB34: 875 | GC34: =GC33 -> 0.56785714 | GD34: =MAX($GD$21,GG34) -> 21 | GE34: =MAX(GD34-GA34/(1.2*$GA$14),GK34) -> 13.584746 | GF34: =MAX(GE34-GC34*(GE34-GG34),$GI$17) -> 0 | GG34: =$C34 -> -11.5 | GH34: =MIN(GG34+$GA$14/$GA$15*(GE34-GF34),$GJ$17) -> 3.6226415 | GI34: =GH34+GB34/(1.2*$GA$15) -> 17.380503 | GJ34: =MAX(GI34,$GL$17) -> 17.380503 | GK34: =($FT$9=1)*$GH$17+($FT$9=0)*MAX($GH$17,GG34) -> 0 | GL34: =1.2*$GA$14*(GE34-GF34) -> 961.8 | GM34: =1.2*$GA$14*(GD34-B34) -> 2301 | GN34: =1.2*$GA$15*(GJ34-GI34) -> 0 | GO34: =GM34-GL34-GN34 -> 1339.2 | GP34: =$F34 -> 2866.5 | GQ34: =$CO34 -> 628.70025 | GR34: =GP34+GO34 -> 4205.7 | GS34: =MIN(1/(GQ34/(GR34+1E-50)+1E-50),1) -> 1 | GT34: =GS34*GQ34 -> 628.70025 | GU34: =($AN$21=1)*AN34+($AL$21=1)*AL34+($AM$21=1)*AM34 -> 645.54795 | GV34: =MAX(GM34+GP34+GU34-GT34-GL34,1.2*$GA$15*($GL$17-GH34)) -> 4222.5477 | GW34: =MIN(FW34,GV34) -> 875 | GX34: =MIN(1.2*$GA$14*(GD34-GK34),FV34) -> 525 | GY34: =GW34/FY34 -> 350 | GZ34: =GX34/(FY34-1+1E-50) -> 350 | HA34: =HA$22*MIN(GY34:GZ34)+(1-HA$22)*FZ34 -> 350 | HB34: =HA34*(FY34-1) -> 525 | HC34: =HA34*FY34 -> 875 | HD34: =HA34/1000*$FX34 -> 17.85 | HE34: =HB34/1000*$FX34 -> 26.775 | HF34: =HC34/1000*$FX34 -> 44.625 | HG34: =(GV34-HC34) -> 3347.5477 | HH34: =GN34/1000*$FX34 -> 0 | HI34: =GT34/1000*$FX34 -> 32.063713 | HJ34: =GV34/1000*$FX34 -> 215.34993 | HK34: =(HG34>0)*HG34/1000*$FX34 -> 170.72493 | HL34: =(GP34+GM34+GU34)/1000*$FX34 -> 296.46545 | HM34: =MAX(1.2*$GA$15*(GJ34-GG34)-GL34,0) -> 875 | HN34: =HB34/1000*$FX34 -> 26.775 | HP34: =GM34/1000*$FX34 -> 117.351 | HQ34: =(GM34-GL34)/1000*$FX34 -> 68.2992 | HU34: =HU33 -> 2.5 | HV34: =HV33 -> 350 | HW34: =HV34*(HU34-1+1E-50) -> 525 | HX34: =HU34*HV34 -> 875 | HY34: 51 | HZ34: =HU34 -> 2.5 | IA34: 120.10714 | IB34: 180.16071 | IC34: 300.26786 | ID34: =ID33 -> 0.56785714 | IE34: =MAX($IE$21,IF34) -> 21 | IF34: =$C34 -> -11.5 | IG34: =MAX(IE34-ID34*(IE34-IF34),IL34) -> 2.5446429 | IH34: =IF34+$GA$14/$GA$15*(IE34-IG34) -> 9.0446429 | II34: =MAX(IG34-IA34*(HZ34-1)/(1.2*$GA$14),IM34) -> 0 | IJ34: =IH34+HZ34*IA34/(1.2*$GA$15) -> 13.765836 | IK34: =MAX(IJ34,$IM$17) -> 15 | IL34: =IL33 -> 0 | IM34: =($FT$9=1)*$II$17+($FT$9=0)*MAX($II$17,IF34) -> 0 | IN34: =1.2*$GA$14*(IE34-IG34) -> 1306.6393 | IO34: =1.2*$GA$14*(IE34-B34) -> 2301 | IP34: =MAX(1.2*$GA$15*($IM$17-IJ34),0) -> 78.492857 | IQ34: =IO34-IN34-IP34 -> 915.86786 | IR34: =$F34 -> 2866.5 | IS34: =$CO34 -> 628.70025 | IT34: =IR34+IQ34 -> 3782.3679 | IU34: =MIN(1/(IS34/(IT34+1E-50)+1E-50),1) -> 1 | IV34: =IU34*IS34 -> 628.70025 | IW34: =($AN$21=1)*AN34+($AL$21=1)*AL34+($AM$21=1)*AM34 -> 645.54795 | IX34: =MAX(IO34+IR34+IW34-IV34-IN34,1.2*$GA$15*($IM$17-IH34)) -> 3877.7084 | IY34: =MIN(HX34,IX34) -> 875 | IZ34: =MIN(1.2*$GA$14*(IG34-IM34),HW34) -> 180.16071 | JA34: =IY34/HZ34 -> 350 | JB34: =IZ34/(HZ34-1+1E-50) -> 120.10714 | JC34: =JC$22*MIN(JA34:JB34)+(1-JC$22)*IA34 -> 120.10714 | JD34: =JC34*(HZ34-1) -> 180.16071 | JE34: =JC34*HZ34 -> 300.26786 | JF34: =JC34/1000*$HY34 -> 6.1254643 | JG34: =JD34/1000*$HY34 -> 9.1881964 | JH34: =JE34/1000*$HY34 -> 15.313661 | JI34: =(IX34-JE34) -> 3577.4406 | JJ34: =IP34/1000*$HY34 -> 4.0031357 | JK34: =IV34/1000*$HY34 -> 32.063713 | JL34: =IX34/1000*$HY34 -> 197.76313 | JM34: =(JI34>0)*JI34/1000*$HY34 -> 182.44947 | JN34: =(IR34+IO34+IW34)/1000*$HY34 -> 296.46545 | JO34: =MAX(1.2*$GA$15*($IM$17-IF34)-IN34,0) -> 378.76071 | JP34: =JD34/1000*$HY34 -> 9.1881964 | JR34: =IO34/1000*$HY34 -> 117.351 | JS34: =(IO34-IN34)/1000*$HY34 -> 50.712396 | JW34: =JW33 -> 2.5 | JX34: =JX33 -> 350 | JY34: =JX34*(JW34-1+1E-50) -> 525 | JZ34: =JW34*JX34 -> 875 | KA34: 51 | KB34: =JW34 -> 2.5 | KC34: 120.10714 | KD34: 180.16071 | KE34: 300.26786 | KF34: =KF33 -> 0.56785714 | KG34: =MAX($KG$21,KH34) -> 21 | KH34: =$C34 -> -11.5 | KI34: =MAX(KG34-KF34*(KG34-KH34),KN34) -> 2.5446429 | KJ34: =KH34+$GA$14/$GA$15*(KG34-KI34) -> 9.0446429 | KK34: =MAX(KI34-KC34*(KB34-1)/(1.2*$GA$14),KO34) -> 0 | KL34: =KJ34+0*(KJ34+KB34*KC34/(1.2*$GA$15)) -> 9.0446429 | KM34: =MAX(KL34,$IM$17) -> 15 | KN34: =KN33 -> 0 | KO34: =($FT$9=1)*$KK$17+($FT$9=0)*MAX($KK$17,KH34) -> 0 | KP34: =1.2*$GA$14*(KG34-KI34) -> 1306.6393 | KQ34: =1.2*$GA$14*(KG34-B34) -> 2301 | KR34: =1.2*$GA$15*(KM34-KL34) -> 378.76071 | KS34: =KQ34-KP34-KR34 -> 615.6 | KT34: =$F34 -> 2866.5 | KU34: =$CO34 -> 628.70025 | KV34: =KT34+KS34 -> 3482.1 | KW34: =MIN(1/(KU34/(KV34+1E-50)+1E-50),1) -> 1 | KX34: =KW34*KU34 -> 628.70025 | KY34: =($AN$21=1)*AN34+($AL$21=1)*AL34+($AM$21=1)*AM34 -> 645.54795 | KZ34: =MAX(KQ34+KT34+KY34-KX34-KP34,1.2*$GA$15*($KO$17-KJ34)) -> 3877.7084 | LA34: =MIN(JZ34,KZ34-$KP$17*KR34) -> 875 | LB34: =MIN(1.2*$GA$14*(KI34-KO34),JY34) -> 180.16071 | LC34: =LA34/KB34 -> 350 | LD34: =LB34/(KB34-1+1E-50) -> 120.10714 | LE34: =LE$22*MIN(LC34:LD34)+(1-LE$22)*KC34 -> 120.10714 | LF34: =LE34*(KB34-1) -> 180.16071 | LG34: =LE34*KB34 -> 300.26786 | LH34: =LE34/1000*$KA34 -> 6.1254643 | LI34: =LF34/1000*$KA34 -> 9.1881964 | LJ34: =LG34/1000*$KA34 -> 15.313661 | LK34: =(KZ34-LG34) -> 3577.4406 | LL34: =KR34/1000*$KA34 -> 19.316796 | LM34: =KX34/1000*$KA34 -> 32.063713 | LN34: =KZ34/1000*$KA34 -> 197.76313 | LO34: =(LK34>0)*LK34/1000*$KA34 -> 182.44947 | LP34: =(KT34+KQ34+KY34)/1000*$KA34 -> 296.46545 | LQ34: =MAX(1.2*$GA$15*($KO$17-KH34)-KP34,0) -> 378.76071 | LR34: =LF34/1000*$KA34 -> 9.1881964 | LT34: =KQ34/1000*$KA34 -> 117.351 | LU34: =(KQ34-KP34)/1000*$KA34 -> 50.712396 | LY34: =LY33 -> 2.5 | LZ34: =LZ33 -> 350 | MA34: =LZ34*(LY34-1+1E-50) -> 525 | MB34: =LY34*LZ34 -> 875 | MC34: 51 | MD34: =LY34 -> 2.5 | ME34: 350 | MF34: 525 | MG34: 875 | MH34: =MH33 -> 0.56785714 | MI34: =MAX($MI$21,ML34) -> 21 | MJ34: =MAX(MI34-MF34/(1.2*$GA$14),MP34) -> 13.584746 | MK34: =MAX(MJ34-MH34*(MJ34-ML34),$MN$17) -> 0 | ML34: =$C34 -> -11.5 | MM34: =MIN(ML34+$GA$14/$GA$15*(MJ34-MK34),$MO$17) -> 3.6226415 | MN34: =MM34+0*(MM34+MG34/(1.2*$GA$15)) -> 3.6226415 | MO34: =MAX(MN34,$MQ$17) -> 15 | MP34: =($FT$9=1)*$MM$17+($FT$9=0)*MAX($MM$17,ML34) -> 0 | MQ34: =1.2*$GA$14*(MJ34-MK34) -> 961.8 | MR34: =1.2*$GA$14*(MI34-B34) -> 2301 | MS34: =1.2*$GA$15*(MO34-MN34) -> 723.6 | MT34: =MR34-MQ34-MS34 -> 615.6 | MU34: =$F34 -> 2866.5 | MV34: =$CO34 -> 628.70025 | MW34: =MU34+MT34 -> 3482.1 | MX34: =MIN(1/(MV34/(MW34+1E-50)+1E-50),1) -> 1 | MY34: =MX34*MV34 -> 628.70025 | MZ34: =($AN$21=1)*AN34+($AL$21=1)*AL34+($AM$21=1)*AM34 -> 645.54795 | NA34: =MAX(MR34+MU34+MZ34-MY34-MQ34,1.2*$GA$15*($MQ$17-MM34)) -> 4222.5477 | NB34: =MIN(MB34,NA34-$MR$17*MS34) -> 875 | NC34: =MIN(1.2*$GA$14*(MI34-MP34),MA34) -> 525 | ND34: =NB34/MD34 -> 350 | NE34: =NC34/(MD34-1+1E-50) -> 350 | NF34: =NF$22*MIN(ND34:NE34)+(1-NF$22)*ME34 -> 350 | NG34: =NF34*(MD34-1) -> 525 | NH34: =NF34*MD34 -> 875 | NI34: =NF34/1000*$MC34 -> 17.85 | NJ34: =NG34/1000*$MC34 -> 26.775 | NK34: =NH34/1000*$MC34 -> 44.625 | NL34: =(NA34-NH34) -> 3347.5477 | NM34: =MS34/1000*$MC34 -> 36.9036 | NN34: =MY34/1000*$MC34 -> 32.063713 | NO34: =NA34/1000*$MC34 -> 215.34993 | NP34: =(NL34>0)*NL34/1000*$MC34 -> 170.72493 | NQ34: =(MU34+MR34+MZ34)/1000*$MC34 -> 296.46545 | NR34: =MAX(1.2*$GA$15*($MQ$17-ML34)-MQ34,0) -> 723.6 | NS34: =NG34/1000*$MC34 -> 26.775 | NT34: =(MU34+MR34+MZ34) -> 5813.0479 | NU34: =MR34/1000*$MC34 -> 117.351 | NV34: =(MR34-MQ34)/1000*$MC34 -> 68.2992
A35: 5.4452055 | B35: -10.5 | C35: =MAX($C$21*($C$19-B35)+B35,B35) -> -10.5 | D35: 1332.5 | E35: =D35/((A35-A34)/100*8760) -> 29.611111 | F35: =$F$21*(J35-B35) -> 2778.3 | G35: =(A35-A34)/100*8760 -> 45 | H35: =F35/1000 -> 2.7783 | I35: =G35*(J35-B35) -> 1417.5 | J35: =$FX$3*GD35+$HY$3*IE35+$KA$3*KG35+$MC$3*MI35 -> 21 | K35: =$FX$3*GE35+$HY$3*II35+$KA$3*KK35+$MC$3*MJ35 -> 13.584746 | L35: =$FX$3*GF35+$HY$3*IG35+$KA$3*KI35+$MC$3*MK35 -> 0 | M35: =$FX$3*GG35+$HY$3*IF35+$KA$3*KH35+$MC$3*ML35 -> -10.5 | N35: =$FX$3*GH35+$HY$3*IH35+$KA$3*KJ35+$MC$3*MM35 -> 4.6226415 | O35: =$FX$3*GI35+$HY$3*IJ35+$KA$3*KL35+$MC$3*MN35 -> 4.6226415 | P35: =$FX$3*GJ35+$HY$3*IK35+$KA$3*KM35+$MC$3*MO35 -> 15 | Q35: =N35+AD35*1000/(1.2*$GA$15) -> 10.125786 | R35: =AF35*G35 -> 39.375 | S35: =X35*G35 -> 221.7873 | T35: =M35+Y35*1000/(1.2*$GA$15) -> 78.400125 | U35: =M35+X35*1000/(1.2*$GA$15) -> 66.993815 | V35: =($FX$3*GN35+$HY$3*IP35+$KA$3*KR35+$MC$3*MS35)/(1000) -> 0.66 | W35: =Y35-AG35-AA35-AF35 -> 3.0918067 | X35: =MAX((Y35-AA35),AB35) -> 4.9286067 | Y35: =H35+Z35+AC35 -> 5.6540479 | Z35: =($FX$3*GM35+$HY$3*IO35+$KA$3*KQ35+$MC$3*MR35)/(1000) -> 2.2302 | AA35: =($FX$3*GT35+$HY$3*IV35+$KA$3*KX35+$MC$3*MY35)/(1000) -> 0.72544129 | AB35: =($FX$3*GV35+$HY$3*IX35+$KA$3*KZ35+$MC$3*NA35)/(1000) -> 3.9668067 | AC35: =($FX$3*GU35+$HY$3*IW35+$KA$3*KY35+$MC$3*MZ35)/(1000) -> 0.64554795 | AD35: =($FX$3*HA35+$HY$3*JC35+$KA$3*LE35+$MC$3*NF35)/(1000) -> 0.35 | AE35: =($FX$3*HB35+$HY$3*JD35+$KA$3*LF35+$MC$3*NG35)/(1000) -> 0.525 | AF35: =($FX$3*HC35+$HY$3*JE35+$KA$3*LG35+$MC$3*NH35)/(1000) -> 0.875 | AG35: =($FX$3*GL35+$HY$3*IN35+$KA$3*KP35+$MC$3*MQ35)/(1000) -> 0.9618 | AH35: =AG35+AF35 -> 1.8368 | AI35: =AL35/1000*$AL$21 -> 0.58732877 | AJ35: =AM35/1000*$AM$21 -> 0.058219178 | AK35: =AN35/1000*$AN$21 -> 0 | AL35: =$AL$18 -> 587.32877 | AM35: =$AN$18 -> 58.219178 | AN35: =$AN$19 -> 0 | AP35: =AI35+AJ35 -> 0.64554795 | AQ35: =AP35+AK35 -> 0.64554795 | AR35: =AH35+V35 -> 2.4968 | BO35: =AL35/1000*$G35 -> 26.429795 | BP35: =AM35/1000*$G35 -> 2.619863 | BQ35: =AN35/1000*$G35 -> 0 | CB35: =CB$23*$E35*CB$21*CB$20 -> 27.153433 | CC35: =CC$23*$E35*CC$21*CC$20 -> 0 | CD35: =CD$23*$E35*CD$21*CD$20 -> 31.737273 | CE35: =CE$23*$E35*CE$21*CE$20 -> 0 | CF35: =CF$23*$E35*CF$21*CF$20 -> 105.57182 | CG35: =CG$23*$E35*CG$21*CG$20 -> 0 | CH35: =CH$23*$E35*CH$21*CH$20 -> 31.77876 | CI35: =CI$23*$E35*CI$21*CI$20 -> 0 | CJ35: =SUM(CB35:CI35) -> 196.24129 | CK35: =CJ35*24/(MAX($CB$12,10)) -> 196.24129 | CL35: =CL34 -> 529.2 | CM35: =CK35+CL35 -> 725.44129 | CN35: =CJ35*G35/1000 -> 8.8308581 | CO35: =CM35 -> 725.44129 | FT35: =FT34 -> 2.5 | FU35: =FU34 -> 350 | FV35: =FU35*(FT35-1+1E-50) -> 525 | FW35: =FT35*FU35 -> 875 | FX35: 45 | FY35: =FT35 -> 2.5 | FZ35: 350 | GA35: 525 | GB35: 875 | GC35: =GC34 -> 0.56785714 | GD35: =MAX($GD$21,GG35) -> 21 | GE35: =MAX(GD35-GA35/(1.2*$GA$14),GK35) -> 13.584746 | GF35: =MAX(GE35-GC35*(GE35-GG35),$GI$17) -> 0 | GG35: =$C35 -> -10.5 | GH35: =MIN(GG35+$GA$14/$GA$15*(GE35-GF35),$GJ$17) -> 4.6226415 | GI35: =GH35+GB35/(1.2*$GA$15) -> 18.380503 | GJ35: =MAX(GI35,$GL$17) -> 18.380503 | GK35: =($FT$9=1)*$GH$17+($FT$9=0)*MAX($GH$17,GG35) -> 0 | GL35: =1.2*$GA$14*(GE35-GF35) -> 961.8 | GM35: =1.2*$GA$14*(GD35-B35) -> 2230.2 | GN35: =1.2*$GA$15*(GJ35-GI35) -> 0 | GO35: =GM35-GL35-GN35 -> 1268.4 | GP35: =$F35 -> 2778.3 | GQ35: =$CO35 -> 725.44129 | GR35: =GP35+GO35 -> 4046.7 | GS35: =MIN(1/(GQ35/(GR35+1E-50)+1E-50),1) -> 1 | GT35: =GS35*GQ35 -> 725.44129 | GU35: =($AN$21=1)*AN35+($AL$21=1)*AL35+($AM$21=1)*AM35 -> 645.54795 | GV35: =MAX(GM35+GP35+GU35-GT35-GL35,1.2*$GA$15*($GL$17-GH35)) -> 3966.8067 | GW35: =MIN(FW35,GV35) -> 875 | GX35: =MIN(1.2*$GA$14*(GD35-GK35),FV35) -> 525 | GY35: =GW35/FY35 -> 350 | GZ35: =GX35/(FY35-1+1E-50) -> 350 | HA35: =HA$22*MIN(GY35:GZ35)+(1-HA$22)*FZ35 -> 350 | HB35: =HA35*(FY35-1) -> 525 | HC35: =HA35*FY35 -> 875 | HD35: =HA35/1000*$FX35 -> 15.75 | HE35: =HB35/1000*$FX35 -> 23.625 | HF35: =HC35/1000*$FX35 -> 39.375 | HG35: =(GV35-HC35) -> 3091.8067 | HH35: =GN35/1000*$FX35 -> 0 | HI35: =GT35/1000*$FX35 -> 32.644858 | HJ35: =GV35/1000*$FX35 -> 178.5063 | HK35: =(HG35>0)*HG35/1000*$FX35 -> 139.1313 | HL35: =(GP35+GM35+GU35)/1000*$FX35 -> 254.43216 | HM35: =MAX(1.2*$GA$15*(GJ35-GG35)-GL35,0) -> 875 | HN35: =HB35/1000*$FX35 -> 23.625 | HP35: =GM35/1000*$FX35 -> 100.359 | HQ35: =(GM35-GL35)/1000*$FX35 -> 57.078 | HU35: =HU34 -> 2.5 | HV35: =HV34 -> 350 | HW35: =HV35*(HU35-1+1E-50) -> 525 | HX35: =HU35*HV35 -> 875 | HY35: 45 | HZ35: =HU35 -> 2.5 | IA35: 146.91 | IB35: 220.365 | IC35: 367.275 | ID35: =ID34 -> 0.56785714 | IE35: =MAX($IE$21,IF35) -> 21 | IF35: =$C35 -> -10.5 | IG35: =MAX(IE35-ID35*(IE35-IF35),IL35) -> 3.1125 | IH35: =IF35+$GA$14/$GA$15*(IE35-IG35) -> 9.4125 | II35: =MAX(IG35-IA35*(HZ35-1)/(1.2*$GA$14),IM35) -> 0 | IJ35: =IH35+HZ35*IA35/(1.2*$GA$15) -> 15.187264 | IK35: =MAX(IJ35,$IM$17) -> 15.187264 | IL35: =IL34 -> 0 | IM35: =($FT$9=1)*$II$17+($FT$9=0)*MAX($II$17,IF35) -> 0 | IN35: =1.2*$GA$14*(IE35-IG35) -> 1266.435 | IO35: =1.2*$GA$14*(IE35-B35) -> 2230.2 | IP35: =MAX(1.2*$GA$15*($IM$17-IJ35),0) -> 0 | IQ35: =IO35-IN35-IP35 -> 963.765 | IR35: =$F35 -> 2778.3 | IS35: =$CO35 -> 725.44129 | IT35: =IR35+IQ35 -> 3742.065 | IU35: =MIN(1/(IS35/(IT35+1E-50)+1E-50),1) -> 1 | IV35: =IU35*IS35 -> 725.44129 | IW35: =($AN$21=1)*AN35+($AL$21=1)*AL35+($AM$21=1)*AM35 -> 645.54795 | IX35: =MAX(IO35+IR35+IW35-IV35-IN35,1.2*$GA$15*($IM$17-IH35)) -> 3662.1717 | IY35: =MIN(HX35,IX35) -> 875 | IZ35: =MIN(1.2*$GA$14*(IG35-IM35),HW35) -> 220.365 | JA35: =IY35/HZ35 -> 350 | JB35: =IZ35/(HZ35-1+1E-50) -> 146.91 | JC35: =JC$22*MIN(JA35:JB35)+(1-JC$22)*IA35 -> 146.91 | JD35: =JC35*(HZ35-1) -> 220.365 | JE35: =JC35*HZ35 -> 367.275 | JF35: =JC35/1000*$HY35 -> 6.61095 | JG35: =JD35/1000*$HY35 -> 9.916425 | JH35: =JE35/1000*$HY35 -> 16.527375 | JI35: =(IX35-JE35) -> 3294.8967 | JJ35: =IP35/1000*$HY35 -> 0 | JK35: =IV35/1000*$HY35 -> 32.644858 | JL35: =IX35/1000*$HY35 -> 164.79772 | JM35: =(JI35>0)*JI35/1000*$HY35 -> 148.27035 | JN35: =(IR35+IO35+IW35)/1000*$HY35 -> 254.43216 | JO35: =MAX(1.2*$GA$15*($IM$17-IF35)-IN35,0) -> 355.365 | JP35: =JD35/1000*$HY35 -> 9.916425 | JR35: =IO35/1000*$HY35 -> 100.359 | JS35: =(IO35-IN35)/1000*$HY35 -> 43.369425 | JW35: =JW34 -> 2.5 | JX35: =JX34 -> 350 | JY35: =JX35*(JW35-1+1E-50) -> 525 | JZ35: =JW35*JX35 -> 875 | KA35: 45 | KB35: =JW35 -> 2.5 | KC35: 146.91 | KD35: 220.365 | KE35: 367.275 | KF35: =KF34 -> 0.56785714 | KG35: =MAX($KG$21,KH35) -> 21 | KH35: =$C35 -> -10.5 | KI35: =MAX(KG35-KF35*(KG35-KH35),KN35) -> 3.1125 | KJ35: =KH35+$GA$14/$GA$15*(KG35-KI35) -> 9.4125 | KK35: =MAX(KI35-KC35*(KB35-1)/(1.2*$GA$14),KO35) -> 0 | KL35: =KJ35+0*(KJ35+KB35*KC35/(1.2*$GA$15)) -> 9.4125 | KM35: =MAX(KL35,$IM$17) -> 15 | KN35: =KN34 -> 0 | KO35: =($FT$9=1)*$KK$17+($FT$9=0)*MAX($KK$17,KH35) -> 0 | KP35: =1.2*$GA$14*(KG35-KI35) -> 1266.435 | KQ35: =1.2*$GA$14*(KG35-B35) -> 2230.2 | KR35: =1.2*$GA$15*(KM35-KL35) -> 355.365 | KS35: =KQ35-KP35-KR35 -> 608.4 | KT35: =$F35 -> 2778.3 | KU35: =$CO35 -> 725.44129 | KV35: =KT35+KS35 -> 3386.7 | KW35: =MIN(1/(KU35/(KV35+1E-50)+1E-50),1) -> 1 | KX35: =KW35*KU35 -> 725.44129 | KY35: =($AN$21=1)*AN35+($AL$21=1)*AL35+($AM$21=1)*AM35 -> 645.54795 | KZ35: =MAX(KQ35+KT35+KY35-KX35-KP35,1.2*$GA$15*($KO$17-KJ35)) -> 3662.1717 | LA35: =MIN(JZ35,KZ35-$KP$17*KR35) -> 875 | LB35: =MIN(1.2*$GA$14*(KI35-KO35),JY35) -> 220.365 | LC35: =LA35/KB35 -> 350 | LD35: =LB35/(KB35-1+1E-50) -> 146.91 | LE35: =LE$22*MIN(LC35:LD35)+(1-LE$22)*KC35 -> 146.91 | LF35: =LE35*(KB35-1) -> 220.365 | LG35: =LE35*KB35 -> 367.275 | LH35: =LE35/1000*$KA35 -> 6.61095 | LI35: =LF35/1000*$KA35 -> 9.916425 | LJ35: =LG35/1000*$KA35 -> 16.527375 | LK35: =(KZ35-LG35) -> 3294.8967 | LL35: =KR35/1000*$KA35 -> 15.991425 | LM35: =KX35/1000*$KA35 -> 32.644858 | LN35: =KZ35/1000*$KA35 -> 164.79772 | LO35: =(LK35>0)*LK35/1000*$KA35 -> 148.27035 | LP35: =(KT35+KQ35+KY35)/1000*$KA35 -> 254.43216 | LQ35: =MAX(1.2*$GA$15*($KO$17-KH35)-KP35,0) -> 355.365 | LR35: =LF35/1000*$KA35 -> 9.916425 | LT35: =KQ35/1000*$KA35 -> 100.359 | LU35: =(KQ35-KP35)/1000*$KA35 -> 43.369425 | LY35: =LY34 -> 2.5 | LZ35: =LZ34 -> 350 | MA35: =LZ35*(LY35-1+1E-50) -> 525 | MB35: =LY35*LZ35 -> 875 | MC35: 45 | MD35: =LY35 -> 2.5 | ME35: 350 | MF35: 525 | MG35: 875 | MH35: =MH34 -> 0.56785714 | MI35: =MAX($MI$21,ML35) -> 21 | MJ35: =MAX(MI35-MF35/(1.2*$GA$14),MP35) -> 13.584746 | MK35: =MAX(MJ35-MH35*(MJ35-ML35),$MN$17) -> 0 | ML35: =$C35 -> -10.5 | MM35: =MIN(ML35+$GA$14/$GA$15*(MJ35-MK35),$MO$17) -> 4.6226415 | MN35: =MM35+0*(MM35+MG35/(1.2*$GA$15)) -> 4.6226415 | MO35: =MAX(MN35,$MQ$17) -> 15 | MP35: =($FT$9=1)*$MM$17+($FT$9=0)*MAX($MM$17,ML35) -> 0 | MQ35: =1.2*$GA$14*(MJ35-MK35) -> 961.8 | MR35: =1.2*$GA$14*(MI35-B35) -> 2230.2 | MS35: =1.2*$GA$15*(MO35-MN35) -> 660 | MT35: =MR35-MQ35-MS35 -> 608.4 | MU35: =$F35 -> 2778.3 | MV35: =$CO35 -> 725.44129 | MW35: =MU35+MT35 -> 3386.7 | MX35: =MIN(1/(MV35/(MW35+1E-50)+1E-50),1) -> 1 | MY35: =MX35*MV35 -> 725.44129 | MZ35: =($AN$21=1)*AN35+($AL$21=1)*AL35+($AM$21=1)*AM35 -> 645.54795 | NA35: =MAX(MR35+MU35+MZ35-MY35-MQ35,1.2*$GA$15*($MQ$17-MM35)) -> 3966.8067 | NB35: =MIN(MB35,NA35-$MR$17*MS35) -> 875 | NC35: =MIN(1.2*$GA$14*(MI35-MP35),MA35) -> 525 | ND35: =NB35/MD35 -> 350 | NE35: =NC35/(MD35-1+1E-50) -> 350 | NF35: =NF$22*MIN(ND35:NE35)+(1-NF$22)*ME35 -> 350 | NG35: =NF35*(MD35-1) -> 525 | NH35: =NF35*MD35 -> 875 | NI35: =NF35/1000*$MC35 -> 15.75 | NJ35: =NG35/1000*$MC35 -> 23.625 | NK35: =NH35/1000*$MC35 -> 39.375 | NL35: =(NA35-NH35) -> 3091.8067 | NM35: =MS35/1000*$MC35 -> 29.7 | NN35: =MY35/1000*$MC35 -> 32.644858 | NO35: =NA35/1000*$MC35 -> 178.5063 | NP35: =(NL35>0)*NL35/1000*$MC35 -> 139.1313 | NQ35: =(MU35+MR35+MZ35)/1000*$MC35 -> 254.43216 | NR35: =MAX(1.2*$GA$15*($MQ$17-ML35)-MQ35,0) -> 660 | NS35: =NG35/1000*$MC35 -> 23.625 | NT35: =(MU35+MR35+MZ35) -> 5654.0479 | NU35: =MR35/1000*$MC35 -> 100.359 | NV35: =(MR35-MQ35)/1000*$MC35 -> 57.078
A36: 6.0502283 | B36: -9.5 | C36: =MAX($C$21*($C$19-B36)+B36,B36) -> -9.5 | D36: 1350.2 | E36: =D36/((A36-A35)/100*8760) -> 25.475472 | F36: =$F$21*(J36-B36) -> 2690.1 | G36: =(A36-A35)/100*8760 -> 53 | H36: =F36/1000 -> 2.6901 | I36: =G36*(J36-B36) -> 1616.5 | J36: =$FX$3*GD36+$HY$3*IE36+$KA$3*KG36+$MC$3*MI36 -> 21 | K36: =$FX$3*GE36+$HY$3*II36+$KA$3*KK36+$MC$3*MJ36 -> 13.584746 | L36: =$FX$3*GF36+$HY$3*IG36+$KA$3*KI36+$MC$3*MK36 -> 0.47590799 | M36: =$FX$3*GG36+$HY$3*IF36+$KA$3*KH36+$MC$3*ML36 -> -9.5 | N36: =$FX$3*GH36+$HY$3*IH36+$KA$3*KJ36+$MC$3*MM36 -> 5.0928571 | O36: =$FX$3*GI36+$HY$3*IJ36+$KA$3*KL36+$MC$3*MN36 -> 5.0928571 | P36: =$FX$3*GJ36+$HY$3*IK36+$KA$3*KM36+$MC$3*MO36 -> 15 | Q36: =N36+AD36*1000/(1.2*$GA$15) -> 10.596002 | R36: =AF36*G36 -> 46.375 | S36: =X36*G36 -> 254.24178 | T36: =M36+Y36*1000/(1.2*$GA$15) -> 76.900125 | U36: =M36+X36*1000/(1.2*$GA$15) -> 65.92476 | V36: =($FX$3*GN36+$HY$3*IP36+$KA$3*KR36+$MC$3*MS36)/(1000) -> 0.63009429 | W36: =Y36-AG36-AA36-AF36 -> 2.993909 | X36: =MAX((Y36-AA36),AB36) -> 4.7970147 | Y36: =H36+Z36+AC36 -> 5.4950479 | Z36: =($FX$3*GM36+$HY$3*IO36+$KA$3*KQ36+$MC$3*MR36)/(1000) -> 2.1594 | AA36: =($FX$3*GT36+$HY$3*IV36+$KA$3*KX36+$MC$3*MY36)/(1000) -> 0.69803323 | AB36: =($FX$3*GV36+$HY$3*IX36+$KA$3*KZ36+$MC$3*NA36)/(1000) -> 3.868909 | AC36: =($FX$3*GU36+$HY$3*IW36+$KA$3*KY36+$MC$3*MZ36)/(1000) -> 0.64554795 | AD36: =($FX$3*HA36+$HY$3*JC36+$KA$3*LE36+$MC$3*NF36)/(1000) -> 0.35 | AE36: =($FX$3*HB36+$HY$3*JD36+$KA$3*LF36+$MC$3*NG36)/(1000) -> 0.525 | AF36: =($FX$3*HC36+$HY$3*JE36+$KA$3*LG36+$MC$3*NH36)/(1000) -> 0.875 | AG36: =($FX$3*GL36+$HY$3*IN36+$KA$3*KP36+$MC$3*MQ36)/(1000) -> 0.92810571 | AH36: =AG36+AF36 -> 1.8031057 | AI36: =AL36/1000*$AL$21 -> 0.58732877 | AJ36: =AM36/1000*$AM$21 -> 0.058219178 | AK36: =AN36/1000*$AN$21 -> 0 | AL36: =$AL$18 -> 587.32877 | AM36: =$AN$18 -> 58.219178 | AN36: =$AN$19 -> 0 | AP36: =AI36+AJ36 -> 0.64554795 | AQ36: =AP36+AK36 -> 0.64554795 | AR36: =AH36+V36 -> 2.4332 | BO36: =AL36/1000*$G36 -> 31.128425 | BP36: =AM36/1000*$G36 -> 3.0856164 | BQ36: =AN36/1000*$G36 -> 0 | CB36: =CB$23*$E36*CB$21*CB$20 -> 23.361046 | CC36: =CC$23*$E36*CC$21*CC$20 -> 0 | CD36: =CD$23*$E36*CD$21*CD$20 -> 27.304683 | CE36: =CE$23*$E36*CE$21*CE$20 -> 0 | CF36: =CF$23*$E36*CF$21*CF$20 -> 90.827123 | CG36: =CG$23*$E36*CG$21*CG$20 -> 0 | CH36: =CH$23*$E36*CH$21*CH$20 -> 27.340376 | CI36: =CI$23*$E36*CI$21*CI$20 -> 0 | CJ36: =SUM(CB36:CI36) -> 168.83323 | CK36: =CJ36*24/(MAX($CB$12,10)) -> 168.83323 | CL36: =CL35 -> 529.2 | CM36: =CK36+CL36 -> 698.03323 | CN36: =CJ36*G36/1000 -> 8.948161 | CO36: =CM36 -> 698.03323 | FT36: =FT35 -> 2.5 | FU36: =FU35 -> 350 | FV36: =FU36*(FT36-1+1E-50) -> 525 | FW36: =FT36*FU36 -> 875 | FX36: 53 | FY36: =FT36 -> 2.5 | FZ36: 350 | GA36: 525 | GB36: 875 | GC36: =GC35 -> 0.56785714 | GD36: =MAX($GD$21,GG36) -> 21 | GE36: =MAX(GD36-GA36/(1.2*$GA$14),GK36) -> 13.584746 | GF36: =MAX(GE36-GC36*(GE36-GG36),$GI$17) -> 0.47590799 | GG36: =$C36 -> -9.5 | GH36: =MIN(GG36+$GA$14/$GA$15*(GE36-GF36),$GJ$17) -> 5.0928571 | GI36: =GH36+GB36/(1.2*$GA$15) -> 18.850719 | GJ36: =MAX(GI36,$GL$17) -> 18.850719 | GK36: =($FT$9=1)*$GH$17+($FT$9=0)*MAX($GH$17,GG36) -> 0 | GL36: =1.2*$GA$14*(GE36-GF36) -> 928.10571 | GM36: =1.2*$GA$14*(GD36-B36) -> 2159.4 | GN36: =1.2*$GA$15*(GJ36-GI36) -> 0 | GO36: =GM36-GL36-GN36 -> 1231.2943 | GP36: =$F36 -> 2690.1 | GQ36: =$CO36 -> 698.03323 | GR36: =GP36+GO36 -> 3921.3943 | GS36: =MIN(1/(GQ36/(GR36+1E-50)+1E-50),1) -> 1 | GT36: =GS36*GQ36 -> 698.03323 | GU36: =($AN$21=1)*AN36+($AL$21=1)*AL36+($AM$21=1)*AM36 -> 645.54795 | GV36: =MAX(GM36+GP36+GU36-GT36-GL36,1.2*$GA$15*($GL$17-GH36)) -> 3868.909 | GW36: =MIN(FW36,GV36) -> 875 | GX36: =MIN(1.2*$GA$14*(GD36-GK36),FV36) -> 525 | GY36: =GW36/FY36 -> 350 | GZ36: =GX36/(FY36-1+1E-50) -> 350 | HA36: =HA$22*MIN(GY36:GZ36)+(1-HA$22)*FZ36 -> 350 | HB36: =HA36*(FY36-1) -> 525 | HC36: =HA36*FY36 -> 875 | HD36: =HA36/1000*$FX36 -> 18.55 | HE36: =HB36/1000*$FX36 -> 27.825 | HF36: =HC36/1000*$FX36 -> 46.375 | HG36: =(GV36-HC36) -> 2993.909 | HH36: =GN36/1000*$FX36 -> 0 | HI36: =GT36/1000*$FX36 -> 36.995761 | HJ36: =GV36/1000*$FX36 -> 205.05218 | HK36: =(HG36>0)*HG36/1000*$FX36 -> 158.67718 | HL36: =(GP36+GM36+GU36)/1000*$FX36 -> 291.23754 | HM36: =MAX(1.2*$GA$15*(GJ36-GG36)-GL36,0) -> 875 | HN36: =HB36/1000*$FX36 -> 27.825 | HP36: =GM36/1000*$FX36 -> 114.4482 | HQ36: =(GM36-GL36)/1000*$FX36 -> 65.258597 | HU36: =HU35 -> 2.5 | HV36: =HV35 -> 350 | HW36: =HV36*(HU36-1+1E-50) -> 525 | HX36: =HU36*HV36 -> 875 | HY36: 53 | HZ36: =HU36 -> 2.5 | IA36: 173.71286 | IB36: 260.56929 | IC36: 434.28214 | ID36: =ID35 -> 0.56785714 | IE36: =MAX($IE$21,IF36) -> 21 | IF36: =$C36 -> -9.5 | IG36: =MAX(IE36-ID36*(IE36-IF36),IL36) -> 3.6803571 | IH36: =IF36+$GA$14/$GA$15*(IE36-IG36) -> 9.7803571 | II36: =MAX(IG36-IA36*(HZ36-1)/(1.2*$GA$14),IM36) -> 4.4408921e-16 | IJ36: =IH36+HZ36*IA36/(1.2*$GA$15) -> 16.608693 | IK36: =MAX(IJ36,$IM$17) -> 16.608693 | IL36: =IL35 -> 0 | IM36: =($FT$9=1)*$II$17+($FT$9=0)*MAX($II$17,IF36) -> 0 | IN36: =1.2*$GA$14*(IE36-IG36) -> 1226.2307 | IO36: =1.2*$GA$14*(IE36-B36) -> 2159.4 | IP36: =MAX(1.2*$GA$15*($IM$17-IJ36),0) -> 0 | IQ36: =IO36-IN36-IP36 -> 933.16929 | IR36: =$F36 -> 2690.1 | IS36: =$CO36 -> 698.03323 | IT36: =IR36+IQ36 -> 3623.2693 | IU36: =MIN(1/(IS36/(IT36+1E-50)+1E-50),1) -> 1 | IV36: =IU36*IS36 -> 698.03323 | IW36: =($AN$21=1)*AN36+($AL$21=1)*AL36+($AM$21=1)*AM36 -> 645.54795 | IX36: =MAX(IO36+IR36+IW36-IV36-IN36,1.2*$GA$15*($IM$17-IH36)) -> 3570.784 | IY36: =MIN(HX36,IX36) -> 875 | IZ36: =MIN(1.2*$GA$14*(IG36-IM36),HW36) -> 260.56929 | JA36: =IY36/HZ36 -> 350 | JB36: =IZ36/(HZ36-1+1E-50) -> 173.71286 | JC36: =JC$22*MIN(JA36:JB36)+(1-JC$22)*IA36 -> 173.71286 | JD36: =JC36*(HZ36-1) -> 260.56929 | JE36: =JC36*HZ36 -> 434.28214 | JF36: =JC36/1000*$HY36 -> 9.2067814 | JG36: =JD36/1000*$HY36 -> 13.810172 | JH36: =JE36/1000*$HY36 -> 23.016954 | JI36: =(IX36-JE36) -> 3136.5019 | JJ36: =IP36/1000*$HY36 -> 0 | JK36: =IV36/1000*$HY36 -> 36.995761 | JL36: =IX36/1000*$HY36 -> 189.25155 | JM36: =(JI36>0)*JI36/1000*$HY36 -> 166.2346 | JN36: =(IR36+IO36+IW36)/1000*$HY36 -> 291.23754 | JO36: =MAX(1.2*$GA$15*($IM$17-IF36)-IN36,0) -> 331.96929 | JP36: =JD36/1000*$HY36 -> 13.810172 | JR36: =IO36/1000*$HY36 -> 114.4482 | JS36: =(IO36-IN36)/1000*$HY36 -> 49.457972 | JW36: =JW35 -> 2.5 | JX36: =JX35 -> 350 | JY36: =JX36*(JW36-1+1E-50) -> 525 | JZ36: =JW36*JX36 -> 875 | KA36: 53 | KB36: =JW36 -> 2.5 | KC36: 173.71286 | KD36: 260.56929 | KE36: 434.28214 | KF36: =KF35 -> 0.56785714 | KG36: =MAX($KG$21,KH36) -> 21 | KH36: =$C36 -> -9.5 | KI36: =MAX(KG36-KF36*(KG36-KH36),KN36) -> 3.6803571 | KJ36: =KH36+$GA$14/$GA$15*(KG36-KI36) -> 9.7803571 | KK36: =MAX(KI36-KC36*(KB36-1)/(1.2*$GA$14),KO36) -> 4.4408921e-16 | KL36: =KJ36+0*(KJ36+KB36*KC36/(1.2*$GA$15)) -> 9.7803571 | KM36: =MAX(KL36,$IM$17) -> 15 | KN36: =KN35 -> 0 | KO36: =($FT$9=1)*$KK$17+($FT$9=0)*MAX($KK$17,KH36) -> 0 | KP36: =1.2*$GA$14*(KG36-KI36) -> 1226.2307 | KQ36: =1.2*$GA$14*(KG36-B36) -> 2159.4 | KR36: =1.2*$GA$15*(KM36-KL36) -> 331.96929 | KS36: =KQ36-KP36-KR36 -> 601.2 | KT36: =$F36 -> 2690.1 | KU36: =$CO36 -> 698.03323 | KV36: =KT36+KS36 -> 3291.3 | KW36: =MIN(1/(KU36/(KV36+1E-50)+1E-50),1) -> 1 | KX36: =KW36*KU36 -> 698.03323 | KY36: =($AN$21=1)*AN36+($AL$21=1)*AL36+($AM$21=1)*AM36 -> 645.54795 | KZ36: =MAX(KQ36+KT36+KY36-KX36-KP36,1.2*$GA$15*($KO$17-KJ36)) -> 3570.784 | LA36: =MIN(JZ36,KZ36-$KP$17*KR36) -> 875 | LB36: =MIN(1.2*$GA$14*(KI36-KO36),JY36) -> 260.56929 | LC36: =LA36/KB36 -> 350 | LD36: =LB36/(KB36-1+1E-50) -> 173.71286 | LE36: =LE$22*MIN(LC36:LD36)+(1-LE$22)*KC36 -> 173.71286 | LF36: =LE36*(KB36-1) -> 260.56929 | LG36: =LE36*KB36 -> 434.28214 | LH36: =LE36/1000*$KA36 -> 9.2067814 | LI36: =LF36/1000*$KA36 -> 13.810172 | LJ36: =LG36/1000*$KA36 -> 23.016954 | LK36: =(KZ36-LG36) -> 3136.5019 | LL36: =KR36/1000*$KA36 -> 17.594372 | LM36: =KX36/1000*$KA36 -> 36.995761 | LN36: =KZ36/1000*$KA36 -> 189.25155 | LO36: =(LK36>0)*LK36/1000*$KA36 -> 166.2346 | LP36: =(KT36+KQ36+KY36)/1000*$KA36 -> 291.23754 | LQ36: =MAX(1.2*$GA$15*($KO$17-KH36)-KP36,0) -> 331.96929 | LR36: =LF36/1000*$KA36 -> 13.810172 | LT36: =KQ36/1000*$KA36 -> 114.4482 | LU36: =(KQ36-KP36)/1000*$KA36 -> 49.457972 | LY36: =LY35 -> 2.5 | LZ36: =LZ35 -> 350 | MA36: =LZ36*(LY36-1+1E-50) -> 525 | MB36: =LY36*LZ36 -> 875 | MC36: 53 | MD36: =LY36 -> 2.5 | ME36: 350 | MF36: 525 | MG36: 875 | MH36: =MH35 -> 0.56785714 | MI36: =MAX($MI$21,ML36) -> 21 | MJ36: =MAX(MI36-MF36/(1.2*$GA$14),MP36) -> 13.584746 | MK36: =MAX(MJ36-MH36*(MJ36-ML36),$MN$17) -> 0.47590799 | ML36: =$C36 -> -9.5 | MM36: =MIN(ML36+$GA$14/$GA$15*(MJ36-MK36),$MO$17) -> 5.0928571 | MN36: =MM36+0*(MM36+MG36/(1.2*$GA$15)) -> 5.0928571 | MO36: =MAX(MN36,$MQ$17) -> 15 | MP36: =($FT$9=1)*$MM$17+($FT$9=0)*MAX($MM$17,ML36) -> 0 | MQ36: =1.2*$GA$14*(MJ36-MK36) -> 928.10571 | MR36: =1.2*$GA$14*(MI36-B36) -> 2159.4 | MS36: =1.2*$GA$15*(MO36-MN36) -> 630.09429 | MT36: =MR36-MQ36-MS36 -> 601.2 | MU36: =$F36 -> 2690.1 | MV36: =$CO36 -> 698.03323 | MW36: =MU36+MT36 -> 3291.3 | MX36: =MIN(1/(MV36/(MW36+1E-50)+1E-50),1) -> 1 | MY36: =MX36*MV36 -> 698.03323 | MZ36: =($AN$21=1)*AN36+($AL$21=1)*AL36+($AM$21=1)*AM36 -> 645.54795 | NA36: =MAX(MR36+MU36+MZ36-MY36-MQ36,1.2*$GA$15*($MQ$17-MM36)) -> 3868.909 | NB36: =MIN(MB36,NA36-$MR$17*MS36) -> 875 | NC36: =MIN(1.2*$GA$14*(MI36-MP36),MA36) -> 525 | ND36: =NB36/MD36 -> 350 | NE36: =NC36/(MD36-1+1E-50) -> 350 | NF36: =NF$22*MIN(ND36:NE36)+(1-NF$22)*ME36 -> 350 | NG36: =NF36*(MD36-1) -> 525 | NH36: =NF36*MD36 -> 875 | NI36: =NF36/1000*$MC36 -> 18.55 | NJ36: =NG36/1000*$MC36 -> 27.825 | NK36: =NH36/1000*$MC36 -> 46.375 | NL36: =(NA36-NH36) -> 2993.909 | NM36: =MS36/1000*$MC36 -> 33.394997 | NN36: =MY36/1000*$MC36 -> 36.995761 | NO36: =NA36/1000*$MC36 -> 205.05218 | NP36: =(NL36>0)*NL36/1000*$MC36 -> 158.67718 | NQ36: =(MU36+MR36+MZ36)/1000*$MC36 -> 291.23754 | NR36: =MAX(1.2*$GA$15*($MQ$17-ML36)-MQ36,0) -> 630.09429 | NS36: =NG36/1000*$MC36 -> 27.825 | NT36: =(MU36+MR36+MZ36) -> 5495.0479 | NU36: =MR36/1000*$MC36 -> 114.4482 | NV36: =(MR36-MQ36)/1000*$MC36 -> 65.258597
A37: 7.0319635 | B37: -8.5 | C37: =MAX($C$21*($C$19-B37)+B37,B37) -> -8.5 | D37: 1307.5 | E37: =D37/((A37-A36)/100*8760) -> 15.203488 | F37: =$F$21*(J37-B37) -> 2601.9 | G37: =(A37-A36)/100*8760 -> 86 | H37: =F37/1000 -> 2.6019 | I37: =G37*(J37-B37) -> 2537 | J37: =$FX$3*GD37+$HY$3*IE37+$KA$3*KG37+$MC$3*MI37 -> 21 | K37: =$FX$3*GE37+$HY$3*II37+$KA$3*KK37+$MC$3*MJ37 -> 13.584746 | L37: =$FX$3*GF37+$HY$3*IG37+$KA$3*KI37+$MC$3*MK37 -> 1.0437651 | M37: =$FX$3*GG37+$HY$3*IF37+$KA$3*KH37+$MC$3*ML37 -> -8.5 | N37: =$FX$3*GH37+$HY$3*IH37+$KA$3*KJ37+$MC$3*MM37 -> 5.4607143 | O37: =$FX$3*GI37+$HY$3*IJ37+$KA$3*KL37+$MC$3*MN37 -> 5.4607143 | P37: =$FX$3*GJ37+$HY$3*IK37+$KA$3*KM37+$MC$3*MO37 -> 15 | Q37: =N37+AD37*1000/(1.2*$GA$15) -> 10.963859 | R37: =AF37*G37 -> 75.25 | S37: =X37*G37 -> 404.72375 | T37: =M37+Y37*1000/(1.2*$GA$15) -> 75.400125 | U37: =M37+X37*1000/(1.2*$GA$15) -> 65.495127 | V37: =($FX$3*GN37+$HY$3*IP37+$KA$3*KR37+$MC$3*MS37)/(1000) -> 0.60669857 | W37: =Y37-AG37-AA37-AF37 -> 2.9431887 | X37: =MAX((Y37-AA37),AB37) -> 4.7060901 | Y37: =H37+Z37+AC37 -> 5.3360479 | Z37: =($FX$3*GM37+$HY$3*IO37+$KA$3*KQ37+$MC$3*MR37)/(1000) -> 2.0886 | AA37: =($FX$3*GT37+$HY$3*IV37+$KA$3*KX37+$MC$3*MY37)/(1000) -> 0.62995786 | AB37: =($FX$3*GV37+$HY$3*IX37+$KA$3*KZ37+$MC$3*NA37)/(1000) -> 3.8181887 | AC37: =($FX$3*GU37+$HY$3*IW37+$KA$3*KY37+$MC$3*MZ37)/(1000) -> 0.64554795 | AD37: =($FX$3*HA37+$HY$3*JC37+$KA$3*LE37+$MC$3*NF37)/(1000) -> 0.35 | AE37: =($FX$3*HB37+$HY$3*JD37+$KA$3*LF37+$MC$3*NG37)/(1000) -> 0.525 | AF37: =($FX$3*HC37+$HY$3*JE37+$KA$3*LG37+$MC$3*NH37)/(1000) -> 0.875 | AG37: =($FX$3*GL37+$HY$3*IN37+$KA$3*KP37+$MC$3*MQ37)/(1000) -> 0.88790143 | AH37: =AG37+AF37 -> 1.7629014 | AI37: =AL37/1000*$AL$21 -> 0.58732877 | AJ37: =AM37/1000*$AM$21 -> 0.058219178 | AK37: =AN37/1000*$AN$21 -> 0 | AL37: =$AL$18 -> 587.32877 | AM37: =$AN$18 -> 58.219178 | AN37: =$AN$19 -> 0 | AP37: =AI37+AJ37 -> 0.64554795 | AQ37: =AP37+AK37 -> 0.64554795 | AR37: =AH37+V37 -> 2.3696 | BO37: =AL37/1000*$G37 -> 50.510274 | BP37: =AM37/1000*$G37 -> 5.0068493 | BQ37: =AN37/1000*$G37 -> 0 | CB37: =CB$23*$E37*CB$21*CB$20 -> 13.941622 | CC37: =CC$23*$E37*CC$21*CC$20 -> 0 | CD37: =CD$23*$E37*CD$21*CD$20 -> 16.295142 | CE37: =CE$23*$E37*CE$21*CE$20 -> 0 | CF37: =CF$23*$E37*CF$21*CF$20 -> 54.204653 | CG37: =CG$23*$E37*CG$21*CG$20 -> 0 | CH37: =CH$23*$E37*CH$21*CH$20 -> 16.316443 | CI37: =CI$23*$E37*CI$21*CI$20 -> 0 | CJ37: =SUM(CB37:CI37) -> 100.75786 | CK37: =CJ37*24/(MAX($CB$12,10)) -> 100.75786 | CL37: =CL36 -> 529.2 | CM37: =CK37+CL37 -> 629.95786 | CN37: =CJ37*G37/1000 -> 8.6651759 | CO37: =CM37 -> 629.95786 | FT37: =FT36 -> 2.5 | FU37: =FU36 -> 350 | FV37: =FU37*(FT37-1+1E-50) -> 525 | FW37: =FT37*FU37 -> 875 | FX37: 86 | FY37: =FT37 -> 2.5 | FZ37: 350 | GA37: 525 | GB37: 875 | GC37: =GC36 -> 0.56785714 | GD37: =MAX($GD$21,GG37) -> 21 | GE37: =MAX(GD37-GA37/(1.2*$GA$14),GK37) -> 13.584746 | GF37: =MAX(GE37-GC37*(GE37-GG37),$GI$17) -> 1.0437651 | GG37: =$C37 -> -8.5 | GH37: =MIN(GG37+$GA$14/$GA$15*(GE37-GF37),$GJ$17) -> 5.4607143 | GI37: =GH37+GB37/(1.2*$GA$15) -> 19.218576 | GJ37: =MAX(GI37,$GL$17) -> 19.218576 | GK37: =($FT$9=1)*$GH$17+($FT$9=0)*MAX($GH$17,GG37) -> 0 | GL37: =1.2*$GA$14*(GE37-GF37) -> 887.90143 | GM37: =1.2*$GA$14*(GD37-B37) -> 2088.6 | GN37: =1.2*$GA$15*(GJ37-GI37) -> 0 | GO37: =GM37-GL37-GN37 -> 1200.6986 | GP37: =$F37 -> 2601.9 | GQ37: =$CO37 -> 629.95786 | GR37: =GP37+GO37 -> 3802.5986 | GS37: =MIN(1/(GQ37/(GR37+1E-50)+1E-50),1) -> 1 | GT37: =GS37*GQ37 -> 629.95786 | GU37: =($AN$21=1)*AN37+($AL$21=1)*AL37+($AM$21=1)*AM37 -> 645.54795 | GV37: =MAX(GM37+GP37+GU37-GT37-GL37,1.2*$GA$15*($GL$17-GH37)) -> 3818.1887 | GW37: =MIN(FW37,GV37) -> 875 | GX37: =MIN(1.2*$GA$14*(GD37-GK37),FV37) -> 525 | GY37: =GW37/FY37 -> 350 | GZ37: =GX37/(FY37-1+1E-50) -> 350 | HA37: =HA$22*MIN(GY37:GZ37)+(1-HA$22)*FZ37 -> 350 | HB37: =HA37*(FY37-1) -> 525 | HC37: =HA37*FY37 -> 875 | HD37: =HA37/1000*$FX37 -> 30.1 | HE37: =HB37/1000*$FX37 -> 45.15 | HF37: =HC37/1000*$FX37 -> 75.25 | HG37: =(GV37-HC37) -> 2943.1887 | HH37: =GN37/1000*$FX37 -> 0 | HI37: =GT37/1000*$FX37 -> 54.176376 | HJ37: =GV37/1000*$FX37 -> 328.36422 | HK37: =(HG37>0)*HG37/1000*$FX37 -> 253.11422 | HL37: =(GP37+GM37+GU37)/1000*$FX37 -> 458.90012 | HM37: =MAX(1.2*$GA$15*(GJ37-GG37)-GL37,0) -> 875 | HN37: =HB37/1000*$FX37 -> 45.15 | HP37: =GM37/1000*$FX37 -> 179.6196 | HQ37: =(GM37-GL37)/1000*$FX37 -> 103.26008 | HU37: =HU36 -> 2.5 | HV37: =HV36 -> 350 | HW37: =HV37*(HU37-1+1E-50) -> 525 | HX37: =HU37*HV37 -> 875 | HY37: 86 | HZ37: =HU37 -> 2.5 | IA37: 200.51571 | IB37: 300.77357 | IC37: 501.28929 | ID37: =ID36 -> 0.56785714 | IE37: =MAX($IE$21,IF37) -> 21 | IF37: =$C37 -> -8.5 | IG37: =MAX(IE37-ID37*(IE37-IF37),IL37) -> 4.2482143 | IH37: =IF37+$GA$14/$GA$15*(IE37-IG37) -> 10.148214 | II37: =MAX(IG37-IA37*(HZ37-1)/(1.2*$GA$14),IM37) -> 0 | IJ37: =IH37+HZ37*IA37/(1.2*$GA$15) -> 18.030121 | IK37: =MAX(IJ37,$IM$17) -> 18.030121 | IL37: =IL36 -> 0 | IM37: =($FT$9=1)*$II$17+($FT$9=0)*MAX($II$17,IF37) -> 0 | IN37: =1.2*$GA$14*(IE37-IG37) -> 1186.0264 | IO37: =1.2*$GA$14*(IE37-B37) -> 2088.6 | IP37: =MAX(1.2*$GA$15*($IM$17-IJ37),0) -> 0 | IQ37: =IO37-IN37-IP37 -> 902.57357 | IR37: =$F37 -> 2601.9 | IS37: =$CO37 -> 629.95786 | IT37: =IR37+IQ37 -> 3504.4736 | IU37: =MIN(1/(IS37/(IT37+1E-50)+1E-50),1) -> 1 | IV37: =IU37*IS37 -> 629.95786 | IW37: =($AN$21=1)*AN37+($AL$21=1)*AL37+($AM$21=1)*AM37 -> 645.54795 | IX37: =MAX(IO37+IR37+IW37-IV37-IN37,1.2*$GA$15*($IM$17-IH37)) -> 3520.0637 | IY37: =MIN(HX37,IX37) -> 875 | IZ37: =MIN(1.2*$GA$14*(IG37-IM37),HW37) -> 300.77357 | JA37: =IY37/HZ37 -> 350 | JB37: =IZ37/(HZ37-1+1E-50) -> 200.51571 | JC37: =JC$22*MIN(JA37:JB37)+(1-JC$22)*IA37 -> 200.51571 | JD37: =JC37*(HZ37-1) -> 300.77357 | JE37: =JC37*HZ37 -> 501.28929 | JF37: =JC37/1000*$HY37 -> 17.244351 | JG37: =JD37/1000*$HY37 -> 25.866527 | JH37: =JE37/1000*$HY37 -> 43.110879 | JI37: =(IX37-JE37) -> 3018.7744 | JJ37: =IP37/1000*$HY37 -> 0 | JK37: =IV37/1000*$HY37 -> 54.176376 | JL37: =IX37/1000*$HY37 -> 302.72547 | JM37: =(JI37>0)*JI37/1000*$HY37 -> 259.6146 | JN37: =(IR37+IO37+IW37)/1000*$HY37 -> 458.90012 | JO37: =MAX(1.2*$GA$15*($IM$17-IF37)-IN37,0) -> 308.57357 | JP37: =JD37/1000*$HY37 -> 25.866527 | JR37: =IO37/1000*$HY37 -> 179.6196 | JS37: =(IO37-IN37)/1000*$HY37 -> 77.621327 | JW37: =JW36 -> 2.5 | JX37: =JX36 -> 350 | JY37: =JX37*(JW37-1+1E-50) -> 525 | JZ37: =JW37*JX37 -> 875 | KA37: 86 | KB37: =JW37 -> 2.5 | KC37: 200.51571 | KD37: 300.77357 | KE37: 501.28929 | KF37: =KF36 -> 0.56785714 | KG37: =MAX($KG$21,KH37) -> 21 | KH37: =$C37 -> -8.5 | KI37: =MAX(KG37-KF37*(KG37-KH37),KN37) -> 4.2482143 | KJ37: =KH37+$GA$14/$GA$15*(KG37-KI37) -> 10.148214 | KK37: =MAX(KI37-KC37*(KB37-1)/(1.2*$GA$14),KO37) -> 0 | KL37: =KJ37+0*(KJ37+KB37*KC37/(1.2*$GA$15)) -> 10.148214 | KM37: =MAX(KL37,$IM$17) -> 15 | KN37: =KN36 -> 0 | KO37: =($FT$9=1)*$KK$17+($FT$9=0)*MAX($KK$17,KH37) -> 0 | KP37: =1.2*$GA$14*(KG37-KI37) -> 1186.0264 | KQ37: =1.2*$GA$14*(KG37-B37) -> 2088.6 | KR37: =1.2*$GA$15*(KM37-KL37) -> 308.57357 | KS37: =KQ37-KP37-KR37 -> 594 | KT37: =$F37 -> 2601.9 | KU37: =$CO37 -> 629.95786 | KV37: =KT37+KS37 -> 3195.9 | KW37: =MIN(1/(KU37/(KV37+1E-50)+1E-50),1) -> 1 | KX37: =KW37*KU37 -> 629.95786 | KY37: =($AN$21=1)*AN37+($AL$21=1)*AL37+($AM$21=1)*AM37 -> 645.54795 | KZ37: =MAX(KQ37+KT37+KY37-KX37-KP37,1.2*$GA$15*($KO$17-KJ37)) -> 3520.0637 | LA37: =MIN(JZ37,KZ37-$KP$17*KR37) -> 875 | LB37: =MIN(1.2*$GA$14*(KI37-KO37),JY37) -> 300.77357 | LC37: =LA37/KB37 -> 350 | LD37: =LB37/(KB37-1+1E-50) -> 200.51571 | LE37: =LE$22*MIN(LC37:LD37)+(1-LE$22)*KC37 -> 200.51571 | LF37: =LE37*(KB37-1) -> 300.77357 | LG37: =LE37*KB37 -> 501.28929 | LH37: =LE37/1000*$KA37 -> 17.244351 | LI37: =LF37/1000*$KA37 -> 25.866527 | LJ37: =LG37/1000*$KA37 -> 43.110879 | LK37: =(KZ37-LG37) -> 3018.7744 | LL37: =KR37/1000*$KA37 -> 26.537327 | LM37: =KX37/1000*$KA37 -> 54.176376 | LN37: =KZ37/1000*$KA37 -> 302.72547 | LO37: =(LK37>0)*LK37/1000*$KA37 -> 259.6146 | LP37: =(KT37+KQ37+KY37)/1000*$KA37 -> 458.90012 | LQ37: =MAX(1.2*$GA$15*($KO$17-KH37)-KP37,0) -> 308.57357 | LR37: =LF37/1000*$KA37 -> 25.866527 | LT37: =KQ37/1000*$KA37 -> 179.6196 | LU37: =(KQ37-KP37)/1000*$KA37 -> 77.621327 | LY37: =LY36 -> 2.5 | LZ37: =LZ36 -> 350 | MA37: =LZ37*(LY37-1+1E-50) -> 525 | MB37: =LY37*LZ37 -> 875 | MC37: 86 | MD37: =LY37 -> 2.5 | ME37: 350 | MF37: 525 | MG37: 875 | MH37: =MH36 -> 0.56785714 | MI37: =MAX($MI$21,ML37) -> 21 | MJ37: =MAX(MI37-MF37/(1.2*$GA$14),MP37) -> 13.584746 | MK37: =MAX(MJ37-MH37*(MJ37-ML37),$MN$17) -> 1.0437651 | ML37: =$C37 -> -8.5 | MM37: =MIN(ML37+$GA$14/$GA$15*(MJ37-MK37),$MO$17) -> 5.4607143 | MN37: =MM37+0*(MM37+MG37/(1.2*$GA$15)) -> 5.4607143 | MO37: =MAX(MN37,$MQ$17) -> 15 | MP37: =($FT$9=1)*$MM$17+($FT$9=0)*MAX($MM$17,ML37) -> 0 | MQ37: =1.2*$GA$14*(MJ37-MK37) -> 887.90143 | MR37: =1.2*$GA$14*(MI37-B37) -> 2088.6 | MS37: =1.2*$GA$15*(MO37-MN37) -> 606.69857 | MT37: =MR37-MQ37-MS37 -> 594 | MU37: =$F37 -> 2601.9 | MV37: =$CO37 -> 629.95786 | MW37: =MU37+MT37 -> 3195.9 | MX37: =MIN(1/(MV37/(MW37+1E-50)+1E-50),1) -> 1 | MY37: =MX37*MV37 -> 629.95786 | MZ37: =($AN$21=1)*AN37+($AL$21=1)*AL37+($AM$21=1)*AM37 -> 645.54795 | NA37: =MAX(MR37+MU37+MZ37-MY37-MQ37,1.2*$GA$15*($MQ$17-MM37)) -> 3818.1887 | NB37: =MIN(MB37,NA37-$MR$17*MS37) -> 875 | NC37: =MIN(1.2*$GA$14*(MI37-MP37),MA37) -> 525 | ND37: =NB37/MD37 -> 350 | NE37: =NC37/(MD37-1+1E-50) -> 350 | NF37: =NF$22*MIN(ND37:NE37)+(1-NF$22)*ME37 -> 350 | NG37: =NF37*(MD37-1) -> 525 | NH37: =NF37*MD37 -> 875 | NI37: =NF37/1000*$MC37 -> 30.1 | NJ37: =NG37/1000*$MC37 -> 45.15 | NK37: =NH37/1000*$MC37 -> 75.25 | NL37: =(NA37-NH37) -> 2943.1887 | NM37: =MS37/1000*$MC37 -> 52.176077 | NN37: =MY37/1000*$MC37 -> 54.176376 | NO37: =NA37/1000*$MC37 -> 328.36422 | NP37: =(NL37>0)*NL37/1000*$MC37 -> 253.11422 | NQ37: =(MU37+MR37+MZ37)/1000*$MC37 -> 458.90012 | NR37: =MAX(1.2*$GA$15*($MQ$17-ML37)-MQ37,0) -> 606.69857 | NS37: =NG37/1000*$MC37 -> 45.15 | NT37: =(MU37+MR37+MZ37) -> 5336.0479 | NU37: =MR37/1000*$MC37 -> 179.6196 | NV37: =(MR37-MQ37)/1000*$MC37 -> 103.26008
