Workbook
Name Laskin: 'PILP-laskin'!$A$12:$E$67
Name Taulu: 'Hki-2012'!$K$107:$Q$133
Name Tulokset: 'Hki-2012'!$A$82:$Q$128

Sheet Ilmanvaihto
A1: Aputaulukot, joilla voidaan laskea lämpöhäviöiden tasauslaskennassa tarvittavat | G1: Rakennuskohde | H1: RET-pientalo
A2: keskimääräiset poistoilmavirrat ja ilmanvaihdon lämmöntalteenoton (LTO) vuosihyötysuhteet, | G2: Rakennuslupatunnus | H2: Esimerkki
A3: kun rakennuksessa on useita ilmanvaihtokoneita ja niillä erilaisia käyttöaikoja. | G3: Rakennustyyppi | H3: 1-kerroksinen pientalo, ikkunapinta-ala 15 % kerrostasoalasta.
G4: Pääsuunnittelija | H4: Nibbe Niilanen
G5: Laskelman tekijä | H5: Lemmi Pumppu
A6: Taulukko 1. Poistoilman lämmöntalteenottovaatimuksen piiriin kuuluvat lämpimien tilojen ilmanvaihtokoneet | G6: Päiväys | H6: 42825
A7: Taulukko 2. Poistoilman lämmöntalteenottovaatimuksen piiriin kuulumattomat lämpimien tilojen ilmanvaihtokoneet
A8: Taulukko 3. Poistoilman lämmöntalteenottovaatimuksen piiriin kuuluvat puolilämpimien tilojen ilmanvaihtokoneet | L8: TASAUSLASKENTA-LOMAKKEESEEN
A9: Taulukko 4. Poistoilman lämmöntalteenottovaatimuksen piiriin kuulumattomat puolilämpimien tilojen ilmanvaihtokoneet
K10: Poistoilmavirta, m³ [qv, p] | L10: Ilmanvaihdon LTO:n vuosihyötysuhde, % [ηa] | M10: Ilmanvaihtojärjestelmän ominaissähköteho, kW/(m³/s) | N10: Ilmanvaihtojärjestelmän sähkönkulutus, kWh/a
A11: Taulukko 1. Lämpimät tilat | K11: =SUM(K15:K39) -> 0.074833333 | L11: =P13/(K11+1E-50) -> 0.6701559 | M11: =N11/8760/(K11+1E-50) -> 1.7884187 | N11: =SUM(N15:N39) -> 1172.38
A12: Poistoilman lämmöntalteenottovaatimuksen | C12: Käyttötapa | D12: Mitoitus- | E12: Mitoitus- | F12: Käyttö- | G12: Käyttöajan | H12: Käyntiaikatekijät | K12: Käyntiajoilla | L12: Ilmanvaihtokoneen | M12: Ilmanvaihtokoneen | N12: Ilmanvaihtokoneen | P12: Apusarake
A13: piiriin kuuluvat ilmanvaihtokoneet | D13: ulkoilmavirta | E13: poistoilmavirta | F13: iImavirta- | G13: keskimääräinen | H13: td | I13: tw | K13: painotettu | L13: LTO:n vuosihyötysuhde, | M13: ominaissähköteho | N13: sähkönkulutus, | P13: =SUM(P15:P39) -> 0.05015
A14: Kone | B14: Palvelualue | D14: m³/s | E14: m³/s | F14: kerroin | G14: poistoilmavirta, m³/s | H14: h/vrk | I14: vrk/vko | K14: poistoilmavirta, m³/s | L14: % [ηa, ivkone] | M14: kW/(m³/s) | N14: kWh/a
A15: PILP | B15: Koko rakennus | C15: Jatk.käyttö | D15: 0.053 | E15: 0.059 | F15: 1 | G15: =F15*E15 -> 0.059 | H15: 24 | I15: 7 | J15: 1 | K15: =G15*H15/24*I15/7*J15 -> 0.059 | L15: 0.85 | M15: 2 | N15: =(D15>E15)*(D15/(E15+1E-50)*M15*K15*8760)+(D15<=E15)*(M15*K15*8760) -> 1033.68 | P15: =K15*L15 -> 0.05015
A16: Huippuimuri | B16: Keittiön liesikupu | C16: Tehostus | E16: 0.08 | F16: 1 | G16: =F16*E16 -> 0.08 | H16: 2 | I16: 7 | J16: 1 | K16: =G16*H16/24*I16/7*J16 -> 0.0066666667 | L16: 0 | M16: 1 | N16: =(D16>E16)*(D16/(E16+1E-50)*M16*K16*8760)+(D16<=E16)*(M16*K16*8760) -> 58.4 | P16: =K16*L16 -> 0
A17: - " - | B17: - " - | C17: Muulloin | E17: 0.01 | F17: 1 | G17: =F17*E17 -> 0.01 | H17: 22 | I17: 7 | J17: 1 | K17: =G17*H17/24*I17/7*J17 -> 0.0091666667 | L17: 0 | M17: 1 | N17: =(D17>E17)*(D17/(E17+1E-50)*M17*K17*8760)+(D17<=E17)*(M17*K17*8760) -> 80.3 | P17: =K17*L17 -> 0
G18: =F18*E18 -> 0 | J18: 1 | K18: =G18*H18/24*I18/7*J18 -> 0 | N18: =(D18>E18)*(D18/(E18+1E-50)*M18*K18*8760)+(D18<=E18)*(M18*K18*8760) -> 0 | P18: =K18*L18 -> 0
G19: =F19*E19 -> 0 | J19: 1 | K19: =G19*H19/24*I19/7*J19 -> 0 | N19: =(D19>E19)*(D19/(E19+1E-50)*M19*K19*8760)+(D19<=E19)*(M19*K19*8760) -> 0 | P19: =K19*L19 -> 0
G20: =F20*E20 -> 0 | J20: 1 | K20: =G20*H20/24*I20/7*J20 -> 0 | N20: =(D20>E20)*(D20/(E20+1E-50)*M20*K20*8760)+(D20<=E20)*(M20*K20*8760) -> 0 | P20: =K20*L20 -> 0
G21: =F21*E21 -> 0 | J21: 1 | K21: =G21*H21/24*I21/7*J21 -> 0 | N21: =(D21>E21)*(D21/(E21+1E-50)*M21*K21*8760)+(D21<=E21)*(M21*K21*8760) -> 0 | P21: =K21*L21 -> 0
G22: =F22*E22 -> 0 | J22: 1 | K22: =G22*H22/24*I22/7*J22 -> 0 | N22: =(D22>E22)*(D22/(E22+1E-50)*M22*K22*8760)+(D22<=E22)*(M22*K22*8760) -> 0 | P22: =K22*L22 -> 0
G23: =F23*E23 -> 0 | J23: 1 | K23: =G23*H23/24*I23/7*J23 -> 0 | N23: =(D23>E23)*(D23/(E23+1E-50)*M23*K23*8760)+(D23<=E23)*(M23*K23*8760) -> 0 | P23: =K23*L23 -> 0
G24: =F24*E24 -> 0 | J24: 1 | K24: =G24*H24/24*I24/7*J24 -> 0 | N24: =(D24>E24)*(D24/(E24+1E-50)*M24*K24*8760)+(D24<=E24)*(M24*K24*8760) -> 0 | P24: =K24*L24 -> 0
G25: =F25*E25 -> 0 | J25: 1 | K25: =G25*H25/24*I25/7*J25 -> 0 | N25: =(D25>E25)*(D25/(E25+1E-50)*M25*K25*8760)+(D25<=E25)*(M25*K25*8760) -> 0 | P25: =K25*L25 -> 0
G26: =F26*E26 -> 0 | J26: 1 | K26: =G26*H26/24*I26/7*J26 -> 0 | N26: =(D26>E26)*(D26/(E26+1E-50)*M26*K26*8760)+(D26<=E26)*(M26*K26*8760) -> 0 | P26: =K26*L26 -> 0
G27: =F27*E27 -> 0 | J27: 1 | K27: =G27*H27/24*I27/7*J27 -> 0 | N27: =(D27>E27)*(D27/(E27+1E-50)*M27*K27*8760)+(D27<=E27)*(M27*K27*8760) -> 0 | P27: =K27*L27 -> 0
G28: =F28*E28 -> 0 | J28: 1 | K28: =G28*H28/24*I28/7*J28 -> 0 | N28: =(D28>E28)*(D28/(E28+1E-50)*M28*K28*8760)+(D28<=E28)*(M28*K28*8760) -> 0 | P28: =K28*L28 -> 0
G29: =F29*E29 -> 0 | J29: 1 | K29: =G29*H29/24*I29/7*J29 -> 0 | N29: =(D29>E29)*(D29/(E29+1E-50)*M29*K29*8760)+(D29<=E29)*(M29*K29*8760) -> 0 | P29: =K29*L29 -> 0
... G39: =F39*E39 -> 0 | J39: 1 | K39: =G39*H39/24*I39/7*J39 -> 0 | N39: =(D39>E39)*(D39/(E39+1E-50)*M39*K39*8760)+(D39<=E39)*(M39*K39*8760) -> 0 | P39: =K39*L39 -> 0
A40: © Ympäristöministeriö, PILP-laskin 2018 (versio maaliskuu 2017)
K42: TASAUSLASKENTA-LOMAKKEESEEN
K44: Poistoilmavirta, m³ [qv, p] | M44: Ilmanvaihtojärjestelmän ominaissähköteho, kW/(m³/s) | N44: Ilmanvaihtojärjestelmän sähkönkulutus, kWh/a
A45: Taulukko 2. Lämpimät tilat | K45: =SUM(K49:K63) -> 0 | M45: =N45/8760/(K45+1E-50) -> 0 | N45: =SUM(N49:N63) -> 0
A46: Poistoilman lämmöntalteenottovaatimuksen | C46: Käyttötapa | D46: Mitoitus- | E46: Mitoitus- | F46: Käyttö- | G46: Käyttöajan | H46: Käyntiaikatekijät | K46: Käyntiajoilla | M46: Ilmanvaihtokoneen | N46: Ilmanvaihtokoneen
A47: piiriin kuulumattomat ilmanvaihtokoneet | D47: ulkoilmavirta | E47: poistoilmavirta | F47: iImavirta- | G47: keskimääräinen | H47: td | I47: tw | K47: painotettu | M47: ominaissähköteho | N47: sähkönkulutus,
A48: Kone | B48: Palvelualue | D48: m³/s | E48: m³/s | F48: kerroin | G48: poistoilmavirta, m³/s | H48: h/vrk | I48: vrk/vko | K48: poistoilmavirta, m³/s | M48: kW/(m³/s) | N48: kWh/a
G49: =F49*E49 -> 0 | J49: 1 | K49: =G49*H49/24*I49/7*J49 -> 0 | N49: =M49*K49*8760 -> 0
G50: =F50*E50 -> 0 | J50: 1 | K50: =G50*H50/24*I50/7*J50 -> 0 | N50: =M50*K50*8760 -> 0
G51: =F51*E51 -> 0 | J51: 1 | K51: =G51*H51/24*I51/7*J51 -> 0 | N51: =M51*K51*8760 -> 0
...

Sheet PILP-laskin
A1: Rakennuskohde | B1: =IF(Ilmanvaihto!H1=0,"",Ilmanvaihto!H1) -> RET-pientalo | AB1: 24 | AC1: =C1 -> 0
A2: Rakennuslupatunnus | B2: =IF(Ilmanvaihto!H2=0,"",Ilmanvaihto!H2) -> Esimerkki | AD2: =INDIRECT("i"&$AB$1) -> 0.6 | AF2: =INDIRECT("k"&$AB$1) -> 0 | AH2: nt | AJ2: =INDIRECT("U"&$AB$1) -> 0 | AL2: =INDIRECT("S"&$AB$1) -> 0
A3: Rakennustyyppi | B3: =IF(Ilmanvaihto!H3=0,"",Ilmanvaihto!H3) -> 1-kerroksinen pientalo, ikkunapinta-ala 15 % kerrostasoalasta. | AC3: =INDIRECT("A"&$AB$1) -> 0 | AE3: =INDIRECT("j"&$AB$1) -> 0 | AF3: + | AG3: =INDIRECT("L"&$AB$1) -> 0 | AH3: =INDIRECT("H"&$AB$1) -> 0 | AI3: =INDIRECT("V"&$AB$1) -> 0 | AJ3: - | AK3: =INDIRECT("T"&$AB$1) -> 0 | AM3: =INDIRECT("R"&$AB$1) -> 0
A4: Pääsuunnittelija | B4: =IF(Ilmanvaihto!H4=0,"",Ilmanvaihto!H4) -> Nibbe Niilanen | AC4: =INDIRECT("E"&$AB$1) -> 0 | AH4: =INDIRECT("ac"&$AB$1) -> 0 | AM4: =INDIRECT("F"&$AB$1) -> 0 | AN4: R
A5: Laskelman tekijä | B5: =IF(Ilmanvaihto!H5=0,"",Ilmanvaihto!H5) -> Lemmi Pumppu | AN5: =AM8/AM4 -> #DIV/0!
A6: Päiväys | B6: =IF(Ilmanvaihto!H6=0,"",Ilmanvaihto!H6) -> 42825 | AD6: =INDIRECT("X"&$AB$1) -> 0 | AF6: =INDIRECT("U"&$AB$1) -> 0 | AJ6: =INDIRECT("N"&$AB$1) -> 0 | AL6: =INDIRECT("P"&$AB$1) -> 0
AC7: =INDIRECT("F"&$AB$1) -> 0 | AF7: - | AH7: LTO | AK7: =INDIRECT("O"&$AB$1) -> 0 | AL7: + | AM7: =INDIRECT("Q"&$AB$1) -> 0
B8: Laskentataulukko, jolla voidaan laskea lämpöhäviöiden tasauslaskentaa varten | AC8: =INDIRECT("Y"&$AB$1) -> 0 | AG8: =INDIRECT("W"&$AB$1) -> 0 | AH8: =(AI3-AG8)/(AI3-AG3) -> #DIV/0! | AI8: =INDIRECT("M"&$AB$1) -> 0 | AM8: =INDIRECT("E"&$AB$1) -> 0
B9: poistoilmalämpöpumpun lämmöntalteenoton vuosihyötysuhde (ηa, PILP). | AH9: np
B10: Tällä voidaan laskea myös PILP:n ja LTO-lämmönsiirtimen yhdistelmä ja | AB10: 24 | AH10: =INDIRECT("AY"&$AB$1) -> 0 | AM10: =INDIRECT("A"&$AB$1) -> 0
B11: pelkkä LTO-lämmönsiirrinratkaisu. | AB11: 57 | AH11: na | AM11: =AM4-AM8 -> 0
D12: Ulkoilmavirta | E12: Poistoilmavirta
A13: Kone | B13: Palvelualue | C13: Käyttötapa | D13: m³/s | E13: m³/s
A14: PILP | B14: Koko rakennus | C14: jatkuva käyttö | D14: 0.053 | E14: 0.059
B16: Rakennuksen tiedot | I16: Oletusarvot
B17: Rakennuksen käyttötarkoitusluokka (1 - 9) | C17: 1
B18: Lämmitetty nettoala | C18: 147 | D18: m²
B19: Ilmanvaihdon käyttöaika vuorokaudessa | C19: 24 | D19: h/vrk | I19: =CHOOSE($C$17,24,24,13,15,24,10,16,24,24) -> 24
B20: Ilmanvaihdon käyttöaika viikossa | C20: 7 | D20: vrk/viikko | I20: =CHOOSE($C$17,7,7,5,6,7,5,7,7,7) -> 7
B21: Rakennuksen vaipan ja vuotoilman ominaislämpöhäviö | C21: 88.2 | D21: W/K | I21: =0.6*C18 -> 88.2
B22: Rakennuksen muu vakiolämmitystarve | C22: 0 | D22: W | I22: 0
B23: Sisäiset lämpökuormat käyttöaikana
B24: Lämpökuorma valaistuksesta | C24: 0.6 | D24: W/m² | I24: =CHOOSE($C$17,0.1*6,0.1*9,0.65*10,19,0.3*11,0.6*14,0.5*10,0.6*7,0.1*9) -> 0.6
B25: Lämpökuorma kuluttajalaitteista | C25: 1.8 | D25: W/m² | I25: =CHOOSE($C$17,0.6*3,0.6*4,0.65*12,1,0.3*4,0.6*8,0.5*0,0.6*9,0.6*4) -> 1.8
B26: Lämpökuorma ihmisistä | C26: 1.2 | D26: W/m² | I26: =CHOOSE($C$17,0.6*2,0.6*3,0.65*5,2,0.3*4,0.6*14,0.5*5,0.6*8,0.6*3) -> 1.2
B27: Sisäiset lämpökuormat yhteensä | C27: =(C24+C25+C26)*C18 -> 529.2 | D27: W
B28: Auringon lämpökuorma
B29: Ikkunoiden tiedot ilmansuunnittain | C29: Pinta-ala, m² | D29: g-arvo | E29: Fläpäisy | J29: g-arvo | K29: Fläpäisy
B30: Pohjoinen | C30: 5 | D30: 0.5 | E30: 0.72 | I30: =INT(0.2*0.15*$C$18/0.9+0.5) -> 5 | J30: 0.5 | K30: 0.72
B31: Koillinen
B32: Itä | C32: 5 | D32: 0.5 | E32: 0.623 | I32: =INT(0.2*0.15*$C$18/0.9+0.5) -> 5 | J32: 0.5 | K32: 0.623
B33: Kaakko
B34: Etelä | C34: 10 | D34: 0.5 | E34: 0.57 | I34: =INT(0.4*0.15*$C$18/0.9+0.5) -> 10 | J34: 0.5 | K34: 0.57
B35: Lounas
B36: Länsi | C36: 5 | D36: 0.5 | E36: 0.623 | I36: =INT(0.2*0.15*$C$18/0.9+0.5) -> 5 | J36: 0.5 | K36: 0.623
B37: Luode
B38: Yhteensä | C38: =SUM(C30:C37) -> 25
B39: Auringon lämpökuorma käyttöaikana keskimäärin | C39: ='Hki-2012'!CN21 -> 340.94749 | D39: W
B41: Poistoilmalämpöpumpun tuottama lämpöä käytetään käyttöveden lämmittämiseen:
B42: Lämpimän käyttöveden vuotuinen lämmitysenergiankulutus | C42: 35 | D42: kWh/m²/a | I42: =CHOOSE(C17,35,35,6,4,40,11,20,30,35) -> 35
...

Sheet Hki-2012
A1: Laskentataulukko, älä tuhoa
FS3: iter | FT3: =FX3*GC3+HY3*ID3+KA3*KF3+MC3*MH3 -> -0.0003407332 | FX3: =(GO14=GP14)*(GO18=GP18) -> 0 | GC3: =GA23-HB23+GD3 -> -4.0454324e-09 | GD3: =SUM(HA24:HC57)-SUM(FZ24:GB57) -> -1.0069925e-08 | HY3: =(IQ14=IR14)*(IQ18=IR18) -> 0 | ID3: =IB23-JD23+IE3 -> 0 | IE3: =SUM(JC24:JE57)-SUM(IA24:IC57) -> 0 | KA3: =(KS14=KT14)*(KS18=KT18) -> 0 | KF3: =KD23-LF23+KG3 -> 0 | KG3: =SUM(LE24:LG57)-SUM(KC24:KE57) -> 0 | MC3: =(MT14=MU14)*(MT18=MU18) -> 1 | MH3: =MF23-NG23+MI3 -> -0.0003407332 | MI3: =SUM(NF24:NH57)-SUM(ME24:MG57) -> -0.0013024969
BO5: =IF('Hki-2012'!BO14=2,"Lauhdutin varaajassa!","") -> Lauhdutin varaajassa! | FT5: =FX5*GD5+HY5*IE5+KA5*KG5+MC5*MI5 -> 0
BO6: =IF('Hki-2012'!BO14=1,"Lauhdutin tuloilmassa!","")
FS7: Jakso | FT7: 57
BO8: =BO21 -> 3714.8545 | BP8: =BP21 -> 368.2363 | BQ8: =BQ21 -> 0 | HD8: =HD12+JF12+LH12+NI12 -> 2197.3572 | HE8: =HE12+JG12+LI12+NJ12 -> 3296.0357 | HF8: =HF12+JH12+LJ12+NK12 -> 5493.3929 | HG8: =HG12+JI12+LK12+NL12 -> 83318.045 | HH8: =HH12+JJ12+LL12+NM12 -> 2443.0325 | HI8: =HI12+JK12+LM12+NN12 -> 5473.2518 | HJ8: =HJ12+JL12+LN12+NO12 -> 15331.628 | HK8: =HK12+JM12+LO12+NP12 -> 9838.2351 | ... HR8: =HR12+JT12+LV12+NW12 -> 3053.4385
CA9: Käyttöajat | CB9: td | CC9: tw | FS9: UILP | FT9: 0
CA10: Ilmanvaihto | CB10: =MAX('PILP-laskin'!C19,1) -> 24 | CC10: =MAX('PILP-laskin'!C20,1) -> 7 | HA10: PILP:n LTO:n vuosihyötysuhde | HB10: =(GP14=1)*(GP18=2)*HS19+(GP14=1)*(GP18=1)*JU19+(GP14=2)*(GP18=1)*LW19+(GP14=2)*(GP18=2)*NX19 -> 0.72107451
H11: Nämä sarakkeet ovat vain kuvien piirtämistä varten | CA11: Sisäiset kuormat | CB11: =(CB10>0)*(CB10<3)*(CB10)+(CB10>2)*(CB10<24)*(CB10-2)+(CB10=24)*(CB10) -> 24 | CC11: =CC10 -> 7 | GE11: 1. Höyrystin poistoilmassa ennen LTO:a ja lauhdutin tuloilmassa | IG11: 2. Höyrystin jäteilmassa LTO:n jälkeen ja lauhdutin tuloilmassa | KI11: 3. Höyrystin jäteilmassa LTO:n jälkeen ja lauhdutin varaajassa | MJ11: 4. Höyrystin poistoilmassa ennen LTO:a ja lauhdutin varaajassa
AL12: IV-aikataulu | BP12: ='PILP-laskin'!$C$53 -> 0.56785714 | BU12: 2 | BV12: =SUM(BV13:BV14) -> 2 | CA12: Aurinkokuormat | CB12: =CB10 -> 24 | HD12: =HD21*$FX$3 -> 0 | HE12: =HE21*$FX$3 -> 0 | HF12: =HF21*$FX$3 -> 0 | HG12: =HG21*$FX$3 -> 0 | HH12: =HH21*$FX$3 -> 0 | HI12: =HI21*$FX$3 -> 0 | HJ12: =HJ21*$FX$3 -> 0 | HK12: =HK21*$FX$3 -> 0 | ... HR12: =HR21*$FX$3 -> 0 | JF12: =JF21*$HY$3 -> 0 | JG12: =JG21*$HY$3 -> 0 | JH12: =JH21*$HY$3 -> 0 | JI12: =JI21*$HY$3 -> 0 | JJ12: =JJ21*$HY$3 -> 0 | JK12: =JK21*$HY$3 -> 0 | JL12: =JL21*$HY$3 -> 0 | JM12: =JM21*$HY$3 -> 0 | ... JT12: =JT21*$HY$3 -> 0 | LH12: =LH21*$KA$3 -> 0 | LI12: =LI21*$KA$3 -> 0 | LJ12: =LJ21*$KA$3 -> 0 | LK12: =LK21*$KA$3 -> 0 | LL12: =LL21*$KA$3 -> 0 | LM12: =LM21*$KA$3 -> 0 | LN12: =LN21*$KA$3 -> 0 | LO12: =LO21*$KA$3 -> 0 | ... LV12: =LV21*$KA$3 -> 0 | NI12: =NI21*$MC$3 -> 2197.3572 | NJ12: =NJ21*$MC$3 -> 3296.0357 | NK12: =NK21*$MC$3 -> 5493.3929 | NL12: =NL21*$MC$3 -> 83318.045 | NM12: =NM21*$MC$3 -> 2443.0325 | NN12: =NN21*$MC$3 -> 5473.2518 | NO12: =NO21*$MC$3 -> 15331.628 | NP12: =NP21*$MC$3 -> 9838.2351 | ... NW12: =NW21*$MC$3 -> 3053.4385
BT13: 1. Lauhdutin on tuloilmassa | BU13: 1 | BV13: =BU13*($BU$12=1) -> 0 | GI13: -50 | GJ13: Näistä haetaan rajoitukset ja asetukset | IK13: Näistä haetaan rajoitukset ja asetukset | KM13: Näistä haetaan rajoitukset ja asetukset | MO13: Näistä haetaan rajoitukset ja asetukset
AL14: lkv, D3/2012 | AM14: =AL15*'PILP-laskin'!$C$18/8760*6325 -> 3714.8545 | AN14: LKVvaraaja | AO14: =AN15/8760*6325 -> 368.2363 | BO14: =(BV12=1)*1+(BV12<>1)*2 -> 2 | BP14: Jos 1, niin lauhdutin on tuloilmassa, jos 2, niin lauhdutin on varaajassa | BT14: 2. Lauhdutin on varaajassa | BU14: 2 | BV14: =BU14*($BU$12=2) -> 2 | FY14: poisto | GA14: =MAX('PILP-laskin'!E14*1000,1E-50) -> 59 | GB14: dm³/s | GJ14: turha? | GO14: 1 | GP14: =$BO$14 -> 2 | GQ14: Jos 1, niin lauhdutin on tuloilmassa, jos 2, niin lauhdutin on varaajassa | IK14: turha? | IQ14: 1 | IR14: =$BO$14 -> 2 | IS14: Jos 1, niin lauhdutin on tuloilmassa, jos 2, niin lauhdutin on varaajassa | KM14: turha? | KS14: 2 | KT14: =$BO$14 -> 2 | KU14: Jos 1, niin lauhdutin on tuloilmassa, jos 2, niin lauhdutin on varaajassa | MO14: turha? | MT14: 2 | MU14: =$BO$14 -> 2 | MV14: Jos 1, niin lauhdutin on tuloilmassa, jos 2, niin lauhdutin on varaajassa
AL15: ='PILP-laskin'!C42 -> 35 | AM15: kWh/m², a | AN15: ='PILP-laskin'!C43 -> 510 | AO15: kWh/a | FY15: tulo | GA15: =MAX('PILP-laskin'!D14*1000,1E-50) -> 53 | GB15: dm³/s | GH15: Tx,min | GI15: Tz,min | GJ15: Ty,max | GK15: Tt,max | GL15: Tt2,min | HG15: =(GV15-HC15) -> 0 | II15: Tj,min | IJ15: Tz,min | IK15: Ty,max | IL15: Tt,max | IM15: Tt2,min | KK15: Tj,min | KL15: Tz,min | KM15: Ty,max | KN15: Tt,max | KO15: Tt2,min | KP15: PILP:llä = 0, ei PILP:llä = 1 | KZ15: =MAX(KQ15+KT15+KY15-KX15-KP15,1.2*$GA$15*($KO$17-KJ15)) -> #VALUE! | MM15: Tx,min | MN15: Tz,min | MO15: Ty,max | MP15: Tt,max | MQ15: Tt2,min | MR15: PILP:llä = 0, ei PILP:llä = 1
A16: =Ilmanvaihto!$A$40 -> © Ympäristöministeriö, PILP-laskin 2018 (versio maaliskuu 2017) | AL16: =AL15/8.76 -> 3.9954338 | AM16: W/m² | AN16: =AN17/'PILP-laskin'!$C$18 -> 0.39604883 | AO16: W/m² | BU16: 2 | BV16: =SUM(BV17:BV19) -> 2 | BX16: =(BU16>0)*(BU16<3) -> 1 | GH16: PILP | GI16: LTO | GJ16: LTO | GK16: PILP | GL16: Jälkilämm. | GN16: =1.2*$GA$15*(GJ16-GI16) -> #VALUE! | GV16: =GM16+GP16+GU16-GT16-GL16 -> #VALUE! | HG16: =(GP16+GM16+GU16-GL16-GT16-HC16) -> #VALUE! | HQ16: Höyr | HR16: =HN21 -> 3279.599 | HS16: =HN21/HP21 -> 0.37244583 | II16: PILP | IJ16: LTO | IK16: LTO | IL16: PILP | IM16: Jälkilämm. | IX16: =((IT16-IV16+IP16+IW16)>JO16)*(IT16-IV16+IP16+IW16)+((IT16-IV16+IP16+IW16)<JO16)*JO16 -> 0 | IZ16: =MIN(1.2*$GA$14*(IG16-IM16),HW16) -> #VALUE! | JS16: Höyr | JT16: =JP21 -> 2706.3865 | JU16: =JP21/JR21 -> 0.30734928 | KK16: PILP | KL16: LTO | KM16: LTO | KN16: PILP | KO16: Jälkilämm. | KP16: Jälkilämmityksen energian lähde | KZ16: =((KV16-KX16+KR16+KY16)>LQ16)*(KV16-KX16+KR16+KY16)+((KV16-KX16+KR16+KY16)<LQ16)*LQ16 -> 0 | LA16: =MIN(JZ16,KZ16) -> 0 | LB16: =MIN(1.2*$GA$14*(KI16-KK16),JY16) -> #VALUE! | LK16: =(KT16+KQ16+KY16-KP16-KX16-LG16) -> #VALUE! | LU16: Höyr | LV16: =LR21 -> 2706.3865 | LW16: =LR21/LT21 -> 0.30734928 | MM16: PILP | MN16: LTO | MO16: LTO | MP16: PILP | MQ16: Jälkilämm. | MR16: Jälkilämmityksen energian lähde | NA16: =((MW16-MY16+MS16+MZ16)>NR16)*(MW16-MY16+MS16+MZ16)+((MW16-MY16+MS16+MZ16)<NR16)*NR16 -> 0 | NB16: =MIN(MB16,NA16) -> 0 | NC16: =MIN(1.2*$GA$14*(MI16-MJ16),MA16) -> 0 | NL16: =(MU16+MR16+MZ16-MQ16-MY16-NH16) -> #VALUE! | NV16: Höyr | NW16: =NS21 -> 3296.0357 | NX16: =NS21/NU21 -> 0.37431246
X17: =MAX((Y17-AA17),AB17) -> 1000 | Y17: =1000 -> 1000 | AL17: =AL16*'PILP-laskin'!$C$18 -> 587.32877 | AM17: W | AN17: =AN15/8.76 -> 58.219178 | AO17: W | BT17: 1. Höyrystin poistoilmassa LTO:n jälkeen | BU17: 1 | BV17: =BU17*($BU$16=1) -> 0 | GH17: ='PILP-laskin'!$C$57 -> 0 | GI17: =(GC21>0.00001)*'PILP-laskin'!$C$56+(GC21<=0.00001)*$GI$13 -> 0 | GJ17: 50 | GK17: 50 | GL17: =MIN('PILP-laskin'!$C$58,GD21) -> 15 | GN17: =1.2*$GA$15*(GJ17-GI17)*(GH17<10) -> 3180 | GO17: =GM17-GL17-0*GN17 -> -15 | GV17: =((GR17-GT17+GN17+GU17)>HM17)*(GR17-GT17+GN17+GU17)+((GR17-GT17+GN17+GU17)<HM17)*HM17 -> 3180 | GX17: =MIN(1.2*$GA$14*(GD17-GE17),FV17) -> 0 | HC17: =GE21 -> Höyrystin poistoilmassa ennen LTO:a ja lauhdutin tuloilmassa | HM17: =MAX(1.2*$GA$15*($GL$17-GG17)-GL17,0) -> 939 | HQ17: LTO+maa | HR17: =HP21-HQ21 -> 3062.7723 | HS17: =(HP21-HQ21)/HP21 -> 0.34782203 | II17: ='PILP-laskin'!$C$57 -> 0 | IJ17: =(ID21>0.00001)*'PILP-laskin'!$C$56+(ID21<=0.00001)*$GI$13 -> 0 | IK17: =$GJ$17 -> 50 | IL17: =$GK$17 -> 50 | IM17: =MIN('PILP-laskin'!$C$58,IE21) -> 15 | JE17: =IG21 -> Höyrystin poistoilmassa LTO:n jälkeen ja lauhdutin tuloilmassa | JS17: LTO+maa | JT17: =JR21-JS21 -> 4991.7649 | JU17: =(JR21-JS21)/JR21 -> 0.566887 | KK17: ='PILP-laskin'!$C$57 -> 0 | KL17: =(KF21>0.00001)*'PILP-laskin'!$C$56+(KF21<=0.00001)*$GI$13 -> 0 | KM17: =$GJ$17 -> 50 | KN17: =$GK$17 -> 50 | KO17: =MIN('PILP-laskin'!$C$58,KG21) -> 15 | KP17: =('PILP-laskin'!$C$59=0)*1 -> 0 | KZ17: =MAX(KQ17+KT17+KY17-KX17-KP17-$KP$17*KR17,1.2*$GA$15*($KO$17-KJ17)) -> 954 | LA17: =MIN(JZ17,KZ17-$KP$17*KR17) -> 954 | LG17: =KI21 -> Höyrystin poistoilmassa LTO:n jälkeen ja lauhdutin varaajassa | LU17: LTO+maa | LV17: =LT21-LU21 -> 4991.7649 | LW17: =(LT21-LU21)/LT21 -> 0.566887 | MM17: ='PILP-laskin'!$C$57 -> 0 | MN17: =(MH21>0.00001)*'PILP-laskin'!$C$56+(MH21<=0.00001)*$GI$13 -> 0 | MO17: =$GJ$17 -> 50 | MP17: =$GK$17 -> 50 | MQ17: =MIN('PILP-laskin'!$C$58,MI21) -> 15 | MR17: =('PILP-laskin'!$C$59=0)*1 -> 0 | NB17: =MIN(MB17,NA17-$MR$17*MS17) -> 0 | NH17: =MJ21 -> Höyrystin poistoilmassa ennen LTO:a ja lauhdutin varaajassa | NV17: LTO+maa | NW17: =NU21-NV21 -> 3053.4385 | NX17: =(NU21-NV21)/NU21 -> 0.34676204
B18: Helsinki TRY 2012 testivuosi | Q18: =O18-AE18*1000/(1.2*$GA$15) -> 0 | X18: =AB18 -> 0 | AL18: =AL17/($CB$10/24*$CC$10/7) -> 587.32877 | AM18: W | AN18: =AN17 -> 58.219178 | AO18: W | BO18: =(BV16=1)*1+(BV16<>1)*2 -> 2 | BP18: Jos 1, niin LTO on ennen höyrystintä, jos 2 tai muu, niin sen jälkeen | BT18: 2. Höyrystin poistoilmassa ennen LTO:a tai ilman LTO:a | BU18: 2 | BV18: =BU18*($BU$16=2) -> 2 | GJ18: =MAX(GI18,$GL$17*(GG18<10)) -> 15 | GO18: 2 | GP18: =$BO$18 -> 2 | GQ18: Jos 1, niin LTO on ennen höyrystintä, jos 2 tai muu, niin sen jälkeen | IQ18: 1 | IR18: =$BO$18 -> 2 | IS18: Jos 1, niin LTO on ennen höyrystintä, jos 2 tai muu, niin sen jälkeen | KQ18: =1.2*$GA$14*(KG18-B18)-$KP$17*KR18 -> #VALUE! | KS18: 1 | KT18: =$BO$18 -> 2 | KU18: Jos 1, niin LTO on ennen höyrystintä, jos 2 tai muu, niin sen jälkeen | MM18: ='PILP-laskin'!$C$57 -> 0 | MN18: ='PILP-laskin'!$C$56 -> 0 | MT18: 2 | MU18: =$BO$18 -> 2 | MV18: Jos 1, niin LTO on ennen höyrystintä, jos 2 tai muu, niin sen jälkeen
C19: =5.3-3 -> 2.3 | X19: =Y19-AA19 -> 0 | AN19: ='PILP-laskin'!C22 -> 0 | AO19: W | BO19: ="BO"&$FT$7 -> BO57 | BP19: ="BP"&$FT$7 -> BP57 | BQ19: ="BQ"&$FT$7 -> BQ57 | CA19: Lämpökuormien laskenta | CN19: ="CN"&$FT$7 -> CN57 | FT19: Lähtötiedot | FZ19: Laskentatiedot | GO19: =GM19-GL19-GN19 -> 0 | GP19: ok | GQ19: ok | GU19: ok | GV19: ="GV"&$FT$7 -> GV57 | HD19: ="HD"&$FT$7 -> HD57 | HE19: ="HE"&$FT$7 -> HE57 | HF19: ="HF"&$FT$7 -> HF57 | HG19: ="HG"&$FT$7 -> HG57 | HH19: ="HH"&$FT$7 -> HH57 | HI19: ="HI"&$FT$7 -> HI57 | HJ19: ="HJ"&$FT$7 -> HJ57 | HK19: ="HK"&$FT$7 -> HK57 | HL19: ="HL"&$FT$7 -> HL57 | HM19: ="HM"&$FT$7 -> HM57 | HN19: ="HN"&$FT$7 -> HN57 | HO19: ="HO"&$FT$7 -> HO57 | HP19: ="HP"&$FT$7 -> HP57 | HQ19: ="HQ"&$FT$7 -> HQ57 | HR19: ="HR"&$FT$7 -> HR57 | HS19: =(HN21+HP21-HQ21)/HP21 -> 0.72026786 | HU19: Lähtötiedot | IA19: Laskentatiedot | IX19: ="IX"&$FT$7 -> IX57 | JF19: ="JF"&$FT$7 -> JF57 | JG19: ="JG"&$FT$7 -> JG57 | JH19: ="JH"&$FT$7 -> JH57 | JI19: ="JI"&$FT$7 -> JI57 | JJ19: ="JJ"&$FT$7 -> JJ57 | JK19: ="JK"&$FT$7 -> JK57 | JL19: ="JL"&$FT$7 -> JL57 | JM19: ="JM"&$FT$7 -> JM57 | JN19: ="JN"&$FT$7 -> JN57 | JO19: ="JO"&$FT$7 -> JO57 | JP19: ="JP"&$FT$7 -> JP57 | JQ19: ="JQ"&$FT$7 -> JQ57 | JR19: ="JR"&$FT$7 -> JR57 | JS19: ="JS"&$FT$7 -> JS57 | JT19: ="JT"&$FT$7 -> JT57 | JU19: =(JP21+JR21-JS21)/JR21 -> 0.87423628 | JW19: Lähtötiedot | KC19: Laskentatiedot | KK19: =MAX(KH24,KK17) -> 0 | KQ19: =1.2*$GA$14*(KG19-B19) -> 0 | KZ19: ="KZ"&$FT$7 -> KZ57 | LH19: ="LH"&$FT$7 -> LH57 | LI19: ="LI"&$FT$7 -> LI57 | LJ19: ="LJ"&$FT$7 -> LJ57 | LK19: ="LK"&$FT$7 -> LK57 | LL19: ="LL"&$FT$7 -> LL57 | LM19: ="LM"&$FT$7 -> LM57 | LN19: ="LN"&$FT$7 -> LN57 | LO19: ="LO"&$FT$7 -> LO57 | LP19: ="LP"&$FT$7 -> LP57 | LQ19: ="LQ"&$FT$7 -> LQ57 | LR19: ="LR"&$FT$7 -> LR57 | LS19: ="LS"&$FT$7 -> LS57 | LT19: ="LT"&$FT$7 -> LT57 | LU19: ="LU"&$FT$7 -> LU57 | LV19: ="LV"&$FT$7 -> LV57 | LW19: =(LR21+LT21-LU21)/LT21 -> 0.87423628 | LY19: Lähtötiedot | LZ19: ="LZ"&$FT$7 -> LZ57 | ME19: Laskentatiedot | NA19: ="NA"&$FT$7 -> NA57 | NI19: ="NI"&$FT$7 -> NI57 | NJ19: ="NJ"&$FT$7 -> NJ57 | NK19: ="NK"&$FT$7 -> NK57 | NL19: ="NL"&$FT$7 -> NL57 | NM19: ="NM"&$FT$7 -> NM57 | NN19: ="NN"&$FT$7 -> NN57 | NO19: ="NO"&$FT$7 -> NO57 | NP19: ="NP"&$FT$7 -> NP57 | NQ19: ="NQ"&$FT$7 -> NQ57 | NR19: ="NR"&$FT$7 -> NR57 | NS19: ="NS"&$FT$7 -> NS57 | NT19: ="NT"&$FT$7 -> NT57 | NU19: ="NU"&$FT$7 -> NU57 | NV19: ="NV"&$FT$7 -> NV57 | NW19: ="NW"&$FT$7 -> NW57 | NX19: =(NS21+NU21-NV21)/NU21 -> 0.72107451
F20: Vaipan ominais-lämpöhäviö Hvaippa+vuotoilma, W | H20: Vaipan ominais-lämpöhäviö Hvaippa+vuotoilma, W | J20: Tp on poistoilman lämpötila | K20: Tx on poistoilman lämpötila PILP:n höyrystimen jälkeen | L20: Tz on poistoilman lämpötila LTO:n jälkeen | M20: Tu on ulkoilman lämpötila ennen LTO:a | N20: Ty on tuloilman lämpötila LTO:n jälkeen | O20: Tt on tuloilman lämpötila PILP:n lauhduttimen jälkeen | P20: Tt2 on tuloilman lämpötila jälkilämmityksen jälkeen | Q20: Ttkompr on tuloilman lämpötila PILP:n lauhduttimen jälkeen | R20: Lauhduttimen tod. energia | S20: Netto-lämmön-tarve | T20: Tuloilman lämpötila bruttolämmöntarpeen mukaan | U20: Tuloilman lämpötila nettolämmöntarpeen mukaan | V20: Tuloilman jälkilämmitysteho | W20: Muu lämmitys | X20: Netto-lämmön-tarve | Y20: Brutto-lämmön-tarve | Z20: IV-brutto | AA20: hyödynnetyt lämpökuormat | AB20: Qlämmitys, koko lämmönatarve - hyödynnetyt lämpökuormat, joka voidaan kattaa PILP:llä | AC20: Muu lämmitys (LKV, varaaja, muu vakio-lämmön-tarve | AD20: Kompr. tod. teho | AE20: Höyrystimen tod. teho | AF20: Lauhduttimen tod. teho | AG20: LTO:n teho, kW | AH20: PILP:n lauhduttimen ja LTO:n teho, kW | AI20: Käyttöveden lämmitysteho, kW | AJ20: Varaajan lämpöhäviöteho, kW | AK20: Muu lämpöhäviöteho, kW | AL20: Qlkv, käyttöveden lämmityksen nettotehon-tarve | AM20: LKV-varaajan häviöt | AN20: Vakioteho ympäri vuoden, esimerkiksi järjestelmän lämpöhäviö ympäristöön | AP20: Käyttövesi ja sen lämpöhäviö, kW | AQ20: Käyttövesi, sen lämpöhäviö ja muu lämpöhäviö, kW | AR20: PILP:n lauhduttimen, LTO:n ja tuloilman jälkilämmityksen teho, kW | BO20: Qlkv, käyttöveden lämmityksen energia | BP20: LKV-varaajan häviöenergia | BQ20: Vakioenergia ympäri vuoden, esimerkiksi järjestelmän lämpöhäviö ympäristöön | CA20: Läpäisykerroin (g x Fläpäisy) | CB20: ='PILP-laskin'!$D$30*'PILP-laskin'!$E$30 -> 0.36 | CC20: ='PILP-laskin'!$D$31*'PILP-laskin'!$E$31 -> 0 | CD20: ='PILP-laskin'!$D$32*'PILP-laskin'!$E$32 -> 0.3115 | CE20: ='PILP-laskin'!$D$33*'PILP-laskin'!$E$33 -> 0 | CF20: ='PILP-laskin'!$D$34*'PILP-laskin'!$E$34 -> 0.285 | CG20: ='PILP-laskin'!$D$35*'PILP-laskin'!$E$35 -> 0 | CH20: ='PILP-laskin'!$D$36*'PILP-laskin'!$E$36 -> 0.3115 | CI20: ='PILP-laskin'!$D$37*'PILP-laskin'!$E$37 -> 0 | CN20: Aur.kuorma keskimäärin, W | CO20: Lämpö-kuormat yhteensä | FT20: Poistoilma-lämpöpumpun lämpökerroin | FU20: Kompr. maksimiteho, W | FV20: Höyrystimen maksimiteho, W | FW20: Lauhduttimen maksimiteho, W | FY20: Poistoilma-lämpöpumpun lämpökerroin | FZ20: Kompr. teho, W | GA20: Höyrystimen teho, W | GB20: Lauhduttimen teho, W | GC20: Annettu lämpötilahyötysuhde | GD20: Tp on poistoilman lämpötila | GE20: Tx on poistoilman lämpötila PILP:n höyrystimen jälkeen | GF20: Tz on poistoilman lämpötila LTO:n jälkeen | GG20: Tu on ulkoilman lämpötila ennen LTO:a | GH20: Ty on tuloilman lämpötila LTO:n jälkeen | GI20: Tt on tuloilman lämpötila PILP:n lauhduttimen jälkeen | GJ20: Tt2 on tuloilman lämpötila jälkilämmityksen jälkeen | GK20: Tx,min rajoittaa PILP:n höyrystimen jälkeistä lämpötilaa rajoitusarvon ja ulkolämpötilan mukaan. Rajoitusarvo riippuu laitteen ominaisuuksista ja jäätymissuojauksesta. Ulkolämpötilan alle ei voi tasauslaskennassa jäähdyttää, koska ulkoilmalämpöpumpun tuottoa ei lasketa mukaan. Päivitetty TF9=1, niin saa jäähdyttää alle ulkoilman lämpötilan. | GL20: LTO:n teho | GM20: IV:n teho brutto | GN20: Tuloilman jälkilämmitysteho | GO20: IV:n teho netto tiloissa | GP20: Vaipan ominais-lämpöhäviö Hvaippa+vuotoilma, W | GQ20: lämpökuormat | GR20: Lämpöhäviöteho huoneessa (vaippa + ilmanvaihto huoneessa = rakennusosat + vuotoilma + tuloilma tilassa + korvausilma) | GS20: Lämpö-kuormien lämpö-energian hyödyntä-misaste, ηlämpö, kaava (8.13 tai 8.14) | GT20: hyödynnetyt lämpökuormat | GU20: =($AN$21=1)*AN24+($AL$21=1)*AL24+($AM$21=1)*AM24 | GV20: Qlämmitys | GW20: Lauhduttimen lämmön tarpeella rajoitettu teho, W | GX20: Höyrystimen lämmön tarpeella rajoitettu teho, W | GY20: Kompr. raj teho, lauhdutintehon mukaan W | GZ20: Kompr. raj. teho, höyrystintehon mukaan W | HA20: Kompr. tod. teho, W | HB20: Höyrystimen tod. teho, W | HC20: Lauhduttimen tod. teho, W | HD20: Qkompr. | HE20: Qhöyryst. | HF20: Qlauhd. | HG20: Muu kuin PILP-lämmitys | HH20: Tuloilman jälkilämmitys | HI20: hyödynnetyt lämpökuormat | HJ20: Qlämmitys | HK20: Muu kuin PILP-lämmitys | HL20: Brutto-lämmön-tarve | HM20: Tuloilman lämpeneminen LTO:n jälkeen | HN20: Qhöyrystin, jossa ei ole ulkoilmasta otettu lämpöä | HP20: Qilman-vaihto, brutto, lämmön-tarve yhteensä | HQ20: Qilman-vaihto, netto, LTO ja maalämpö vähennetty | HR20: LTO | HU20: Poistoilma-lämpöpumpun lämpökerroin | HV20: Kompr. maksimiteho, W | HW20: Höyrystimen maksimiteho, W | HX20: Lauhduttimen maksimiteho, W | HZ20: Poistoilma-lämpöpumpun lämpökerroin | IA20: Kompr. maksimiteho, W | IB20: Höyrystimen maksimiteho, W | IC20: Lauhduttimen maksimiteho, W | ID20: Annettu lämpötilahyötysuhde | IE20: Tp om poistoilman lämpötila | IF20: Tu on ulkoilman lämpötila ennen LTO:a | IG20: Tz on poistoilman lämpötila LTO:n jälkeen | IH20: Ty on tuloilman lämpötila LTO:n jälkeen | II20: Tj on jäteilman lämpötila PILP:n höyrystimen jälkeen | IJ20: Tt on tuloilman lämpötila PILP:n lauhduttimen jälkeen | IK20: Tt2 on tuloilman lämpötila jälkilämmityksen jälkeen | IN20: LTO:n teho | IO20: IV:n teho brutto | IP20: Tuloilman jälkilämmitysteho | IQ20: IV:n teho netto tiloissa | IR20: Vaipan ominais-lämpöhäviö Hvaippa+vuotoilma, W | IS20: lämpökuormat | IT20: Lämpöhäviöteho huoneessa (vaippa + ilmanvaihto huoneessa = rakennusosat + vuotoilma + tuloilma tilassa + korvausilma) | IU20: Lämpö-kuormien lämpö-energian hyödyntä-misaste, ηlämpö, kaava (8.13 tai 8.14) | IV20: hyödynnetyt lämpökuormat | IW20: =($AN$21=1)*AN24+($AL$21=1)*AL24+($AM$21=1)*AM24 | IX20: Qlämmitys | IY20: Lauhduttimen lämmön tarpeella rajoitettu teho, W | IZ20: Höyrystimen lämmön tarpeella rajoitettu teho, W | JA20: Kompr. raj teho, lauhdutintehon mukaan W | JB20: Kompr. raj. teho, höyrystintehon mukaan W | JC20: Kompr. tod. teho, W | JD20: Höyrystimen tod. teho, W | JE20: Lauhduttimen tod. teho, W | JF20: Qkompr. | JG20: Qhöyryst. | JH20: Qlauhd. | JI20: Muu kuin PILP-lämmitys | JJ20: Tuloilman jälkilämmitys | JK20: hyödynnetyt lämpökuormat | JL20: Qlämmitys | JM20: Muu kuin PILP-lämmitys | JN20: Brutto-lämmön-tarve | JO20: Tuloilman lämpeneminen LTO:n jälkeen | JP20: Qhöyrystin, jossa ei ole ulkoilmasta otettu lämpöä | JR20: Qilman-vaihto, brutto, lämmön-tarve yhteensä | JS20: Qilman-vaihto, netto, LTO ja maalämpö vähennetty | JT20: LTO | JW20: Poistoilma-lämpöpumpun lämpökerroin | JX20: Kompr. maksimiteho, W | JY20: Höyrystimen maksimiteho, W | JZ20: Lauhduttimen maksimiteho, W | KB20: Poistoilma-lämpöpumpun lämpökerroin | KC20: Kompr. maksimiteho, W | KD20: Höyrystimen maksimiteho, W | KE20: Lauhduttimen maksimiteho, W | KF20: Annettu lämpötilahyötysuhde | KG20: Tp om poistoilman lämpötila | KH20: Tu on ulkoilman lämpötila ennen LTO:a | KI20: Tz on poistoilman lämpötila LTO:n jälkeen | KJ20: Ty on tuloilman lämpötila LTO:n jälkeen | KK20: Tj on jäteilman lämpötila PILP:n höyrystimen jälkeen | KL20: Tt on tuloilman lämpötila PILP:n lauhduttimen jälkeen | KM20: Tt2 on tuloilman lämpötila jälkilämmityksen jälkeen | KP20: LTO:n teho | KQ20: IV:n teho brutto | KR20: Tuloilman jälkilämmitysteho | KS20: IV:n teho netto tiloissa | KT20: Vaipan ominais-lämpöhäviö Hvaippa+vuotoilma, W | KU20: lämpökuormat | KV20: Lämpöhäviöteho huoneessa (vaippa + ilmanvaihto huoneessa = rakennusosat + vuotoilma + tuloilma tilassa + korvausilma) | KW20: Lämpö-kuormien lämpö-energian hyödyntä-misaste, ηlämpö, kaava (8.13 tai 8.14) | KX20: hyödynnetyt lämpökuormat | KY20: =($AN$21=1)*AN24+($AL$21=1)*AL24+($AM$21=1)*AM24 | KZ20: Qlämmitys | LA20: Lauhduttimen lämmön tarpeella rajoitettu teho, W | LB20: Höyrystimen lämmön tarpeella rajoitettu teho, W | LC20: Kompr. raj teho, lauhdutintehon mukaan W | LD20: Kompr. raj. teho, höyrystintehon mukaan W | LE20: Kompr. tod. teho, W | LF20: Höyrystimen tod. teho, W | LG20: Lauhduttimen tod. teho, W | LH20: Qkompr. | LI20: Qhöyryst. | LJ20: Qlauhd. | LK20: Muu kuin PILP-lämmitys | LL20: Tuloilman jälkilämmitys | LM20: hyödynnetyt lämpökuormat | LN20: Qlämmitys | LO20: Muu kuin PILP-lämmitys | LP20: Brutto-lämmön-tarve | LQ20: Tuloilman lämpeneminen LTO:n jälkeen | LR20: Qhöyrystin, jossa ei ole ulkoilmasta otettu lämpöä | LT20: Qilman-vaihto, brutto, lämmön-tarve yhteensä | LU20: Qilman-vaihto, netto, LTO ja maalämpö vähennetty | LV20: LTO | LY20: Poistoilma-lämpöpumpun lämpökerroin | LZ20: Kompr. maksimiteho, W | MA20: Höyrystimen maksimiteho, W | MB20: Lauhduttimen maksimiteho, W | MD20: Poistoilma-lämpöpumpun lämpökerroin | ME20: Kompr. maksimiteho, W | MF20: Höyrystimen maksimiteho, W | MG20: Lauhduttimen maksimiteho, W | MH20: Annettu lämpötilahyötysuhde | MI20: Tp om poistoilman lämpötila | MJ20: Tx on poistoilman lämpötila PILP:n höyrystimen jälkeen | MK20: Tz on poistoilman lämpötila LTO:n jälkeen | ML20: Tu on ulkoilman lämpötila ennen LTO:a | MM20: Ty on tuloilman lämpötila LTO:n jälkeen | MN20: Tt on tuloilman lämpötila PILP:n lauhduttimen jälkeen | MO20: Tt2 on tuloilman lämpötila jälkilämmityksen jälkeen | MP20: Tx,min rajoittaa PILP:n höyrystimen jälkeistä lämpötilaa rajoitusarvon ja ulkolämpötilan mukaan. Rajoitusarvo riippuu laitteen ominaisuuksista ja jäätymissuojauksesta. Ulkolämpötilan alle ei voi tasauslaskennassa jäähdyttää, koska ulkoilmalämpöpumpun tuottoa ei lasketa mukaan. | MQ20: LTO:n teho | MR20: IV:n teho brutto | MS20: Tuloilman jälkilämmitysteho | MT20: IV:n teho netto tiloissa | MU20: Vaipan ominais-lämpöhäviö Hvaippa+vuotoilma, W | MV20: lämpökuormat | MW20: Lämpöhäviöteho huoneessa (vaippa + ilmanvaihto huoneessa = rakennusosat + vuotoilma + tuloilma tilassa + korvausilma) | MX20: Lämpö-kuormien lämpö-energian hyödyntä-misaste, ηlämpö, kaava (8.13 tai 8.14) | MY20: hyödynnetyt lämpökuormat | MZ20: =($AN$21=1)*AN24+($AL$21=1)*AL24+($AM$21=1)*AM24 | NA20: Qlämmitys | NB20: Lauhduttimen lämmön tarpeella rajoitettu teho, W | NC20: Höyrystimen lämmön tarpeella rajoitettu teho, W | ND20: Kompr. raj teho, lauhdutintehon mukaan W | NE20: Kompr. raj. teho, höyrystintehon mukaan W | NF20: Kompr. tod. teho, W | NG20: Höyrystimen tod. teho, W | NH20: Lauhduttimen tod. teho, W | NI20: Qkompr. | NJ20: Qhöyryst. | NK20: Qlauhd. | NL20: Muu kuin PILP-lämmitys | NM20: Tuloilman jälkilämmitys | NN20: hyödynnetyt lämpökuormat | NO20: Qlämmitys | NP20: Muu kuin PILP-lämmitys | NQ20: Brutto-lämmön-tarve | NR20: Tuloilman lämpeneminen LTO:n jälkeen | NS20: Qhöyrystin, jossa ei ole ulkoilmasta otettu lämpöä | NT20: Brutto-lämmön-tarve | NU20: Qilman-vaihto, brutto, lämmön-tarve yhteensä | NV20: Qilman-vaihto, netto, LTO ja maalämpö vähennetty | NW20: LTO
C21: =0*0.2 -> 0 | F21: ='PILP-laskin'!C21 -> 88.2 | J21: ='PILP-laskin'!$C$55 -> 21 | K21: =IF(($FX$3=1),GE21,IF(($HY$3=1),IG21,IF(($KA$3=1),KI21,IF(($MC$3=1),MJ21,"Ei järjestelmää")))) -> Höyrystin poistoilmassa ennen LTO:a ja lauhdutin varaajassa | AL21: =1*('PILP-laskin'!C42>0)*(BO14=2) -> 1 | AM21: =1*('PILP-laskin'!C43>0)*(BO14=2) -> 1 | AN21: =1*('PILP-laskin'!C22>0) -> 0 | BO21: =SUM(BO24:INDIRECT(BO19))*AL21 -> 3714.8545 | BP21: =SUM(BP24:INDIRECT(BP19))*AM21 -> 368.2363 | BQ21: =SUM(BQ24:INDIRECT(BQ19))*AN21 -> 0 | CA21: Ikkunapinta-ala, m² | CB21: ='PILP-laskin'!$C$30 -> 5 | CC21: ='PILP-laskin'!$C$31 -> 0 | CD21: ='PILP-laskin'!$C$32 -> 5 | CE21: ='PILP-laskin'!$C$33 -> 0 | CF21: ='PILP-laskin'!$C$34 -> 10 | CG21: ='PILP-laskin'!$C$35 -> 0 | CH21: ='PILP-laskin'!$C$36 -> 5 | CI21: ='PILP-laskin'!$C$37 -> 0 | CL21: Lämpökuormat | CN21: =CN22/($A$80*(MAX($CB$12,10))/24)*1000 -> 340.94749 | CO21: Qlämpökuorma | FT21: =MAX('PILP-laskin'!$C$46,1E-50) -> 2.5 | FU21: ='PILP-laskin'!$C$47 -> 350 | GC21: ='PILP-laskin'!$C$53 -> 0.56785714 | GD21: ='PILP-laskin'!$C$55 -> 21 | GE21: =IF(GC21>0,"Höyrystin poistoilmassa ennen LTO:a ja lauhdutin tuloilmassa","Höyrystin poistoilmassa ja lauhdutin tuloilmassa") -> Höyrystin poistoilmassa ennen LTO:a ja lauhdutin tuloilmassa | GM21: =1.2*$GA$14*(GD21-GG21) -> 1486.8 | GN21: =1.2*$GA$15*(GJ21-GI21) -> 0 | GR21: Qlämpöhäviö | GU21: Qmuu lämmitys | GV21: =SUM(GV24:INDIRECT(GV19)) -> 112838.59 | GX21: Tp-Tx | HA21: iter | HB21: iter | HC21: iter | HD21: =SUM(HD24:INDIRECT(HD19)) -> 2186.3993 | HE21: =SUM(HE24:INDIRECT(HE19)) -> 3279.599 | HF21: =SUM(HF24:INDIRECT(HF19)) -> 5465.9983 | HG21: =SUM(HG24:INDIRECT(HG19)) -> 83318.045 | HH21: =SUM(HH24:INDIRECT(HH19)) -> 36.692 | HI21: =SUM(HI24:INDIRECT(HI19)) -> 5491.3126 | HJ21: =SUM(HJ24:INDIRECT(HJ19)) -> 15304.233 | HK21: =SUM(HK24:INDIRECT(HK19)) -> 9838.2351 | ... HN21: =SUM(HN24:INDIRECT(HN19)) -> 3279.599 | HO21: =HP21-HR17-HR16 -> 2463.2018 | HP21: =SUM(HP24:INDIRECT(HP19)) -> 8805.573 | HQ21: =SUM(HQ24:INDIRECT(HQ19)) -> 5742.8007 | HR21: =HP21-HQ21 -> 3062.7723 | HU21: =MAX('PILP-laskin'!$C$46,1E-50) -> 2.5 | HV21: ='PILP-laskin'!$C$47 -> 350 | ID21: ='PILP-laskin'!$C$53 -> 0.56785714 | IE21: ='PILP-laskin'!$C$55 -> 21 | IG21: =IF(ID21>0,"Höyrystin poistoilmassa LTO:n jälkeen ja lauhdutin tuloilmassa","Höyrystin poistoilmassa ja lauhdutin tuloilmassa") -> Höyrystin poistoilmassa LTO:n jälkeen ja lauhdutin tuloilmassa | IO21: =1.2*$GA$14*(IE21-IF21) -> 1486.8 | IP21: =MAX(1.2*$GA$15*($IM$17-IJ21),0) -> 954 | IQ21: =IO21-IN21-IP21 -> 532.8 | IT21: Qlämpöhäviö | IW21: Qmuu lämmitys | IX21: =SUM(IX24:INDIRECT(IX19)) -> 101004.16 | IZ21: Tp-Tx | JC21: iter | JD21: iter | JE21: iter | JF21: =SUM(JF24:INDIRECT(JF19)) -> 1804.2577 | JG21: =SUM(JG24:INDIRECT(JG19)) -> 2706.3865 | JH21: =SUM(JH24:INDIRECT(JH19)) -> 4510.6441 | JI21: =SUM(JI24:INDIRECT(JI19)) -> 83930.237 | JJ21: =SUM(JJ24:INDIRECT(JJ19)) -> 151.2521 | JK21: =SUM(JK24:INDIRECT(JK19)) -> 5423.7609 | JL21: =SUM(JL24:INDIRECT(JL19)) -> 13442.793 | JM21: =SUM(JM24:INDIRECT(JM19)) -> 8932.1484 | ... JP21: =SUM(JP24:INDIRECT(JP19)) -> 2706.3865 | JQ21: =JR21-JT17-JT16 -> 1107.4216 | JR21: =SUM(JR24:INDIRECT(JR19)) -> 8805.573 | JS21: =SUM(JS24:INDIRECT(JS19)) -> 3813.8081 | JT21: =JR21-JS21 -> 4991.7649 | JW21: =MAX('PILP-laskin'!$C$46,1E-50) -> 2.5 | JX21: ='PILP-laskin'!$C$47 -> 350 | KF21: ='PILP-laskin'!$C$53 -> 0.56785714 | KG21: ='PILP-laskin'!$C$55 -> 21 | KI21: =IF(KF21>0,"Höyrystin poistoilmassa LTO:n jälkeen ja lauhdutin varaajassa","Höyrystin poistoilmassa ja lauhdutin varaajassa") -> Höyrystin poistoilmassa LTO:n jälkeen ja lauhdutin varaajassa | KQ21: =1.2*$GA$14*(KG21-KH21) -> 1486.8 | KV21: Qlämpöhäviö | KY21: Qmuu lämmitys | KZ21: =SUM(KZ24:INDIRECT(KZ19)) -> 101004.16 | LB21: Tp-Tx | LE21: iter | LF21: iter | LG21: iter | LH21: =SUM(LH24:INDIRECT(LH19)) -> 1804.2577 | LI21: =SUM(LI24:INDIRECT(LI19)) -> 2706.3865 | LJ21: =SUM(LJ24:INDIRECT(LJ19)) -> 4510.6441 | LK21: =SUM(LK24:INDIRECT(LK19)) -> 83930.237 | LL21: =SUM(LL24:INDIRECT(LL19)) -> 685.6588 | LM21: =SUM(LM24:INDIRECT(LM19)) -> 5423.7609 | LN21: =SUM(LN24:INDIRECT(LN19)) -> 13442.793 | LO21: =SUM(LO24:INDIRECT(LO19)) -> 8932.1484 | ... LR21: =SUM(LR24:INDIRECT(LR19)) -> 2706.3865 | LS21: =LT21-LV17-LV16 -> 1107.4216 | LT21: =SUM(LT24:INDIRECT(LT19)) -> 8805.573 | LU21: =SUM(LU24:INDIRECT(LU19)) -> 3813.8081 | LV21: =LT21-LU21 -> 4991.7649 | LY21: =MAX('PILP-laskin'!$C$46,1E-50) -> 2.5 | LZ21: ='PILP-laskin'!$C$47 -> 350 | MH21: ='PILP-laskin'!$C$53 -> 0.56785714 | MI21: ='PILP-laskin'!$C$55 -> 21 | MJ21: =IF(MH21>0,"Höyrystin poistoilmassa ennen LTO:a ja lauhdutin varaajassa","Höyrystin poistoilmassa ja lauhdutin varaajassa") -> Höyrystin poistoilmassa ennen LTO:a ja lauhdutin varaajassa | MR21: =1.2*$GA$14*(MI21-ML21) -> 1486.8 | MW21: Qlämpöhäviö | MZ21: Qmuu lämmitys | NA21: =SUM(NA24:INDIRECT(NA19)) -> 112930.52 | NC21: Tp-Tx | NF21: iter | NG21: iter | NH21: iter | NI21: =SUM(NI24:INDIRECT(NI19)) -> 2197.3572 | NJ21: =SUM(NJ24:INDIRECT(NJ19)) -> 3296.0357 | NK21: =SUM(NK24:INDIRECT(NK19)) -> 5493.3929 | NL21: =SUM(NL24:INDIRECT(NL19)) -> 83318.045 | NM21: =SUM(NM24:INDIRECT(NM19)) -> 2443.0325 | NN21: =SUM(NN24:INDIRECT(NN19)) -> 5473.2518 | NO21: =SUM(NO24:INDIRECT(NO19)) -> 15331.628 | NP21: =SUM(NP24:INDIRECT(NP19)) -> 9838.2351 | ... NS21: =SUM(NS24:INDIRECT(NS19)) -> 3296.0357 | NT21: =NU21-NW17-NW16 -> 2456.0988 | NU21: =SUM(NU24:INDIRECT(NU19)) -> 8805.573 | NV21: =SUM(NV24:INDIRECT(NV19)) -> 5752.1345 | NW21: =NU21-NV21 -> 3053.4385
A22: Pysyvyys | B22: Ulkolämpötila | C22: Ulkoilman lämpötila esilämmityksen jälkeen | D22: Qaur, Wh/m² | E22: Qaur, W/m² | F22: H, W | G22: Jakso | H22: H, kW | J22: Poistoilman lämpötila | K22: Poistoilman lämpötila PILP:n höyrystimen jälkeen | L22: Poistoilman lämpötila LTO:n jälkeen | M22: Ulkoilman lämpötila | N22: Tuloilman lämpötila LTO:n jälkeen | O22: Tuloilman lämpötila PILP:n lauhduttimen jälkeen | P22: Tuloilman lämpötila jälkilämmityksen jälkeen | Q22: Tuloilman lämpötila PILP:n kompressorin jälkeen | R22: PILP:n lauhduttimen teho, kW | S22: Nettolämmöntarve (hyödynnetyt lämpökuormat vähennetty), kW | T22: Tuloilman lämpötila bruttolämmöntarpeen mukaan | U22: Tuloilman lämpötila nettolämmöntarpeen mukaan | V22: Tuloilman jälkilämmitysteho, kW | W22: Muu lämmitys, kW | X22: Nettolämmöntarve (hyödynnetyt lämpökuormat vähennetty), kW | Y22: Bruttolämmöntarve, kW | AC22: Muu lämmitys | AD22: PILP:n kompressorin sähköteho, kW | AE22: PILP:n höyrystimen teho, kW | AF22: PILP:n lauhduttimen teho, kW | AG22: LTO:n teho, kW | AH22: PILP:n lauhduttimen ja LTO:n teho, kW | AI22: Käyttöveden lämmitysteho, kW | AJ22: Varaajan lämpöhäviöteho, kW | AK22: Muu lämpöhäviöteho, kW | AL22: Käyttöveden lämmityksen nettotehontarve, W | AM22: Varaajan lämpöhäviöteho, W | AN22: Muu lämpöhäviöteho (vakioteho koko vuoden), W | AP22: Käyttövesi ja sen lämpöhäviö, kW | AQ22: Käyttövesi, sen lämpöhäviö ja muu lämpöhäviö, kW | AR22: PILP:n lauhduttimen, LTO:n ja tuloilman jälkilämmityksen teho, kW | BO22: Qlkv | BP22: Qjärjestelmä | BQ22: Qvakioenergia | CA22: Auringon lämpökuormat ikkunoiden läpi, W | CB22: P | CC22: Ko | CD22: I | CE22: Ka | CF22: E | CG22: Lo | CH22: L | CI22: Lu | CJ22: Aur.kuorma | CL22: Muu kuorma | CM22: Yhteensä | CN22: =SUM(CN24:INDIRECT(CN19)) -> 2156.4929 | FX22: Jakso | FZ22: paste | GA22: paste | GB22: paste | GC22: ηp | GD22: Tp | GE22: Tx | GF22: Tz | GG22: Tu | GH22: Ty | GI22: Tt | GJ22: Tt2 | GK22: Tx,min | GP22: =$F22 | GQ22: =$CO22 | GU22: =$AO24-$AJ24-$AK24 | GV22: =GR22-GT22+GN22+GU22 -> #VALUE! | HA22: 0.9 | HG22: =(GP22+GU22+GM22-GL22-GT22-HC22-GN22) -> #VALUE! | HM22: =MAX(1.2*$GA$15*($IM$17-GD22)-GL22-GA22,0) -> #VALUE! | HN22: Qhöyrystin4 | HO22: B | HP22: Qilmanvaihto, tarve yhteensä | HQ22: Qilmanvaihto, netto | HR22: Qlämmitys, lisäteho | HU22: ='PILP-laskin'!$C$46+0*(0.0419*EW22+ 2.1194) -> 2.5 | HY22: Jakso | IA22: paste | IB22: paste | IC22: paste | ID22: ηp | IE22: Tp | IF22: Tu | IG22: Tz | IH22: Ty | II22: Tj | IJ22: Tt | IK22: Tt2 | IL22: Tz,min | IM22: Tj,min | IN22: =IJ57-IH57 -> 7.6168576 | IP22: =MAX(1.2*$GA$15*($IM$17-IF22)-IN22-IC22,0) -> #VALUE! | IQ22: =IO22-IN22 -> -7.6168576 | IR22: =F22 | IS22: =CO22 | IW22: =$AO24-$AJ24-$AK24 | IX22: =IT22-IV22+IP22+IW22 -> #VALUE! | IY22: =MIN(HX22,IX22) -> #VALUE! | IZ22: =MIN(1.2*$GA$14*(IG22-II22),HW22) -> #VALUE! | JA22: =IY22/HZ22 -> #VALUE! | JB22: =IZ22/(HZ22-1) -> #VALUE! | JC22: 1 | JI22: =(IR22+IW22+IO22-IN22-IV22-JE22-IP22) -> #VALUE! | JM22: =JI22/1000*$FX22 -> #VALUE! | JO22: =MAX(1.2*$GA$15*($IM$17-IF22)-IN22-IC22,0) -> #VALUE! | JP22: Qhöyrystin4 | JQ22: B | JR22: Qilmanvaihto, tarve yhteensä | JS22: Qilmanvaihto, netto | JT22: Qlämmitys, lisäteho | JW22: ='PILP-laskin'!$C$46+0*(0.0419*GY22+ 2.1194) -> 2.5 | KA22: Jakso | KC22: paste | KD22: paste | KE22: paste | KF22: ηp | KG22: Tp | KH22: Tu | KI22: Tz | KJ22: Ty | KK22: Tj | KL22: Tt | KM22: Tt2 | KN22: Tz,min | KO22: Tj,min | KT22: =F22 | KU22: =CO22 | KY22: =$AO24-$AJ24-$AK24 | KZ22: =KV22-KX22+KR22+KY22 -> #VALUE! | LE22: 1 | LK22: =(KT22+KY22+KQ22-KP22-KX22-LG22-KR22) -> #VALUE! | LN22: =KZ22/1000*$KA22 -> #VALUE! | LO22: =LK22/1000*$FX22 -> #VALUE! | LQ22: =MAX(1.2*$GA$15*($IM$17-KH22)-KP22-KE22,0) -> #VALUE! | LR22: Qhöyrystin4 | LS22: B | LT22: Qilmanvaihto, tarve yhteensä | LU22: Qilmanvaihto, netto | LV22: Qlämmitys, lisäteho | LY22: ='PILP-laskin'!$C$46+0*(0.0419*JB22+ 2.1194) -> #VALUE! | MC22: Jakso | ME22: paste | MF22: paste | MG22: paste | MH22: ηp | MI22: Tp | MJ22: Tx | MK22: Tz | ML22: Tu | MM22: Ty | MN22: Tt | MO22: Tt2 | MP22: Tx,min | MU22: =$F22 | MV22: =$CO22 | MZ22: =$AO24-$AJ24-$AK24 | NA22: =MW22-MY22+MS22+MZ22 -> #VALUE! | NF22: 1 | NL22: =(MU22+MZ22+MR22-MQ22-MY22-NH22-MS22) -> #VALUE! | NP22: =NL22/1000*$FX22 -> #VALUE! | NR22: =MAX(1.2*$GA$15*($IM$17-MI22)-MQ22-MF22,0) -> #VALUE! | NS22: Qhöyrystin4 | NT22: B | NU22: Qilmanvaihto, tarve yhteensä | NV22: Qilmanvaihto, netto | NW22: Qlämmitys, lisäteho
G23: h | I23: °Ch | K23: Tx, Tj, PILP | L23: Tz, LTO | M23: Ulkoilman lämpötila | N23: Ty, LTO | O23: Tt, PILP | P23: Tt2, LÄM | Q23: Tt, Kompr | R23: kWh | S23: kWh | T23: Tt,brutto | U23: Tt, netto | V23: kW | W23: kW | X23: kW | Y23: kW | Z23: kW | AA23: kW | AB23: kW | AC23: kW | AD23: kW | AE23: kW | AF23: kW | AG23: kW | AH23: kW | AI23: kW | AJ23: kW | AK23: kW | AL23: W | AM23: W | AN23: W | AP23: kW | AQ23: kW | AR23: kW | BO23: kWh | BP23: kWh | BQ23: kWh | CA23: Suuntauksen muuntokerroin (talvikuukaudet) | CB23: 0.50944528 | CC23: 0.52383808 | CD23: 0.68815592 | CE23: 1.0482759 | CF23: 1.2509745 | CG23: 1.0488756 | CH23: 0.68905547 | CI23: 0.52473763 | CJ23: W | CK23: W (käyttöaika) | CM23: W (käyttöaika) | CN23: kWh | CO23: W | FU23: W | FV23: 0 | FW23: W | FX23: h | FZ23: W | GA23: 122735.99 | GB23: W | GE23: PILP | GF23: LTO | GG23: =$C23 | GH23: LTO | GI23: PILP | GJ23: LÄM | GK23: PILP | GL23: W | GM23: W | GN23: W | GO23: W | GP23: W | GQ23: W | GR23: W | GT23: W | GU23: W | GV23: W | GW23: W | GX23: W | GY23: W | GZ23: W | HA23: W | HB23: =HN21+HQ21+GV21+FT21*FU21+GH17*GI17 -> 122735.99 | HC23: W | HD23: kWh | HE23: kWh | HF23: kWh | HG23: W | HH23: kWh | HI23: kWh | HJ23: kWh | HK23: kWh | HL23: kWh | HM23: W | HN23: kWh | HP23: kWh | HQ23: kWh | HR23: kWh | HV23: W | HW23: 0 | HX23: W | HY23: h | IA23: W | IB23: 108399.36 | IC23: W | IF23: =C23 | IG23: LTO | IH23: LTO | II23: PILP | IJ23: PILP | IK23: LÄM | IL23: LTO | IM23: PILP | IN23: W | IO23: W | IP23: W | IQ23: W | IR23: W | IS23: W | IT23: W | IV23: W | IW23: W | IX23: W | IY23: W | IZ23: W | JA23: W | JB23: W | JC23: W | JD23: =JP21+JS21+IX21+HU21*HV21+II17*IJ17 -> 108399.36 | JE23: W | JF23: kWh | JG23: kWh | JH23: kWh | JI23: W | JJ23: kWh | JK23: kWh | JL23: kWh | JM23: kWh | JN23: kWh | JO23: W | JP23: kWh | JR23: kWh | JS23: kWh | JT23: kWh | JX23: W | JY23: 0 | JZ23: W | KA23: h | KC23: W | KD23: 108399.36 | KE23: W | KH23: =C23 | KI23: LTO | KJ23: LTO | KK23: PILP | KL23: PILP | KM23: LÄM | KN23: LTO | KO23: PILP | KP23: W | KQ23: W | KR23: W | KS23: W | KT23: W | KU23: W | KV23: W | KX23: W | KY23: W | KZ23: W | LA23: W | LB23: W | LC23: W | LD23: W | LE23: W | LF23: =LR21+LU21+KZ21+JW21*JX21+KK17*KL17 -> 108399.36 | LG23: W | LH23: kWh | LI23: kWh | LJ23: kWh | LK23: W | LL23: kWh | LM23: kWh | LN23: kWh | LO23: kWh | LP23: kWh | LQ23: W | LR23: kWh | LT23: kWh | LU23: kWh | LV23: kWh | LZ23: W | MA23: 0 | MB23: W | MC23: h | ME23: W | MF23: 122853.69 | MG23: W | MJ23: PILP | MK23: LTO | ML23: =$C23 | MM23: LTO | MN23: PILP | MO23: LÄM | MP23: PILP | MQ23: W | MR23: W | MS23: W | MT23: W | MU23: W | MV23: W | MW23: W | MY23: W | MZ23: W | NA23: W | NB23: W | NC23: W | ND23: W | NE23: W | NF23: W | NG23: =NS21+NV21+NA21+LY21*LZ21+MM17*MN17 -> 122853.69 | NH23: W | NI23: kWh | NJ23: kWh | NK23: kWh | NL23: W | NM23: kWh | NN23: kWh | NO23: kWh | NP23: kWh | NQ23: kWh | NR23: W | NS23: kWh | NT23: W | NU23: kWh | NV23: kWh | NW23: kWh
A24: 0 | B24: =B25 -> -20.5 | C24: =MAX($C$21*($C$19-B24)+B24,B24) -> -20.5 | F24: =$F$21*(J24-B24) -> 3660.3 | G24: =(A24-A23)/100*8760 -> 0 | H24: =F24/1000 -> 3.6603 | I24: =G24*(J24-B24) -> 0 | J24: =$FX$3*GD24+$HY$3*IE24+$KA$3*KG24+$MC$3*MI24 -> 21 | K24: =$FX$3*GE24+$HY$3*II24+$KA$3*KK24+$MC$3*MJ24 -> 13.584746 | L24: =$FX$3*GF24+$HY$3*IG24+$KA$3*KI24+$MC$3*MK24 -> 0 | M24: =$FX$3*GG24+$HY$3*IF24+$KA$3*KH24+$MC$3*ML24 -> -20.5 | N24: =$FX$3*GH24+$HY$3*IH24+$KA$3*KJ24+$MC$3*MM24 -> -5.3773585 | O24: =$FX$3*GI24+$HY$3*IJ24+$KA$3*KL24+$MC$3*MN24 -> -5.3773585 | P24: =$FX$3*GJ24+$HY$3*IK24+$KA$3*KM24+$MC$3*MO24 -> 15 | Q24: =N24+AD24*1000/(1.2*$GA$15) -> 0.12578616 | R24: =AF24*G24 -> 0 | S24: =X24*G24 -> 0 | T24: =M24+Y24*1000/(1.2*$GA$15) -> 93.400125 | U24: =M24+X24*1000/(1.2*$GA$15) -> 85.07937 | V24: =($FX$3*GN24+$HY$3*IP24+$KA$3*KR24+$MC$3*MS24)/(1000) -> 1.296 | W24: =Y24-AG24-AA24-AF24 -> 4.8780479 | X24: =MAX((Y24-AA24),AB24) -> 6.7148479 | Y24: =H24+Z24+AC24 -> 7.2440479 | Z24: =($FX$3*GM24+$HY$3*IO24+$KA$3*KQ24+$MC$3*MR24)/(1000) -> 2.9382 | AA24: =($FX$3*GT24+$HY$3*IV24+$KA$3*KX24+$MC$3*MY24)/(1000) -> 0.5292 | AB24: =($FX$3*GV24+$HY$3*IX24+$KA$3*KZ24+$MC$3*NA24)/(1000) -> 5.7530479 | AC24: =($FX$3*GU24+$HY$3*IW24+$KA$3*KY24+$MC$3*MZ24)/(1000) -> 0.64554795 | AD24: =($FX$3*HA24+$HY$3*JC24+$KA$3*LE24+$MC$3*NF24)/(1000) -> 0.35 | AE24: =($FX$3*HB24+$HY$3*JD24+$KA$3*LF24+$MC$3*NG24)/(1000) -> 0.525 | AF24: =($FX$3*HC24+$HY$3*JE24+$KA$3*LG24+$MC$3*NH24)/(1000) -> 0.875 | AG24: =($FX$3*GL24+$HY$3*IN24+$KA$3*KP24+$MC$3*MQ24)/(1000) -> 0.9618 | AH24: =AG24+AF24 -> 1.8368 | AI24: =AL24/1000*$AL$21 -> 0.58732877 | AJ24: =AM24/1000*$AM$21 -> 0.058219178 | AK24: =AN24/1000*$AN$21 -> 0 | AL24: =$AL$18 -> 587.32877 | AM24: =$AN$18 -> 58.219178 | AN24: =$AN$19 -> 0 | AP24: =AI24+AJ24 -> 0.64554795 | AQ24: =AP24+AK24 -> 0.64554795 | AR24: =AH24+V24 -> 3.1328 | BO24: =AL24/1000*$G24 -> 0 | BP24: =AM24/1000*$G24 -> 0 | BQ24: =AN24/1000*$G24 -> 0 | CB24: =CB$23*$E24*CB$21*CB$20 -> 0 | CC24: =CC$23*$E24*CC$21*CC$20 -> 0 | CD24: =CD$23*$E24*CD$21*CD$20 -> 0 | CE24: =CE$23*$E24*CE$21*CE$20 -> 0 | CF24: =CF$23*$E24*CF$21*CF$20 -> 0 | CG24: =CG$23*$E24*CG$21*CG$20 -> 0 | CH24: =CH$23*$E24*CH$21*CH$20 -> 0 | CI24: =CI$23*$E24*CI$21*CI$20 -> 0 | CJ24: =SUM(CB24:CI24) -> 0 | CK24: =CJ24*24/(MAX($CB$12,10)) -> 0 | CL24: ='PILP-laskin'!C27*$CB$11/$CB$10 -> 529.2 | CM24: =CK24+CL24 -> 529.2 | CN24: =CJ24*G24/1000 -> 0 | CO24: =CM24 -> 529.2 | FT24: =FT21 -> 2.5 | FU24: =FU21 -> 350 | FV24: =FU24*(FT24-1+1E-50) -> 525 | FW24: =FT24*FU24 -> 875 | FX24: 0 | FY24: =FT24 -> 2.5 | FZ24: 350 | GA24: 525 | GB24: 875 | GC24: =$GC$21 -> 0.56785714 | GD24: =MAX($GD$21,GG24) -> 21 | GE24: =MAX(GD24-GA24/(1.2*$GA$14),GK24) -> 13.584746 | GF24: =MAX(GE24-GC24*(GE24-GG24),$GI$17) -> 0 | GG24: =$C24 -> -20.5 | GH24: =MIN(GG24+$GA$14/$GA$15*(GE24-GF24),$GJ$17) -> -5.3773585 | GI24: =GH24+GB24/(1.2*$GA$15) -> 8.3805031 | GJ24: =MAX(GI24,$GL$17) -> 15 | GK24: =($FT$9=1)*$GH$17+($FT$9=0)*MAX($GH$17,GG24) -> 0 | GL24: =1.2*$GA$14*(GE24-GF24) -> 961.8 | GM24: =1.2*$GA$14*(GD24-B24) -> 2938.2 | GN24: =1.2*$GA$15*(GJ24-GI24) -> 421 | GO24: =GM24-GL24-GN24 -> 1555.4 | GP24: =$F24 -> 3660.3 | GQ24: =$CO24 -> 529.2 | GR24: =GP24+GO24 -> 5215.7 | GS24: =MIN(1/(GQ24/(GR24+1E-50)+1E-50),1) -> 1 | GT24: =GS24*GQ24 -> 529.2 | GU24: =($AN$21=1)*AN24+($AL$21=1)*AL24+($AM$21=1)*AM24 -> 645.54795 | GV24: =MAX(GM24+GP24+GU24-GT24-GL24,1.2*$GA$15*($GL$17-GH24)) -> 5753.0479 | GW24: =MIN(FW24,GV24) -> 875 | GX24: =MIN(1.2*$GA$14*(GD24-GK24),FV24) -> 525 | GY24: =GW24/FY24 -> 350 | GZ24: =GX24/(FY24-1+1E-50) -> 350 | HA24: =HA$22*MIN(GY24:GZ24)+(1-HA$22)*FZ24 -> 350 | HB24: =HA24*(FY24-1) -> 525 | HC24: =HA24*FY24 -> 875 | HD24: =HA24/1000*$FX24 -> 0 | HE24: =HB24/1000*$FX24 -> 0 | HF24: =HC24/1000*$FX24 -> 0 | HG24: =(GV24-HC24) -> 4878.0479 | HH24: =GN24/1000*$FX24 -> 0 | HI24: =GT24/1000*$FX24 -> 0 | HJ24: =GV24/1000*$FX24 -> 0 | HK24: =(HG24>0)*HG24/1000*$FX24 -> 0 | HL24: =(GP24+GM24+GU24)/1000*$FX24 -> 0 | HM24: =MAX(1.2*$GA$15*(GJ24-GG24)-GL24,0) -> 1296 | HN24: =HB24/1000*$FX24 -> 0 | HP24: =GM24/1000*$FX24 -> 0 | HQ24: =(GM24-GL24)/1000*$FX24 -> 0 | HU24: =$HU$21 -> 2.5 | HV24: =$HV$21 -> 350 | HW24: =HV24*(HU24-1+1E-50) -> 525 | HX24: =HU24*HV24 -> 875 | HY24: 0 | HZ24: =HU24 -> 2.5 | IA24: 0 | IB24: 0 | IC24: 0 | ID24: =$ID$21 -> 0.56785714 | IE24: =MAX($IE$21,IF24) -> 21 | IF24: =$C24 -> -20.5 | IG24: =MAX(IE24-ID24*(IE24-IF24),IL24) -> 0 | IH24: =IF24+$GA$14/$GA$15*(IE24-IG24) -> 2.8773585 | II24: =MAX(IG24-IA24*(HZ24-1)/(1.2*$GA$14),IM24) -> 0 | IJ24: =IH24+HZ24*IA24/(1.2*$GA$15) -> 2.8773585 | IK24: =MAX(IJ24,$IM$17) -> 15 | IL24: =$IJ$17 -> 0 | IM24: =($FT$9=1)*$II$17+($FT$9=0)*MAX($II$17,IF24) -> 0 | IN24: =1.2*$GA$14*(IE24-IG24) -> 1486.8 | IO24: =1.2*$GA$14*(IE24-B24) -> 2938.2 | IP24: =MAX(1.2*$GA$15*($IM$17-IJ24),0) -> 771 | IQ24: =IO24-IN24-IP24 -> 680.4 | IR24: =$F24 -> 3660.3 | IS24: =$CO24 -> 529.2 | IT24: =IR24+IQ24 -> 4340.7 | IU24: =MIN(1/(IS24/(IT24+1E-50)+1E-50),1) -> 1 | IV24: =IU24*IS24 -> 529.2 | IW24: =($AN$21=1)*AN24+($AL$21=1)*AL24+($AM$21=1)*AM24 -> 645.54795 | IX24: =MAX(IO24+IR24+IW24-IV24-IN24,1.2*$GA$15*($IM$17-IH24)) -> 5228.0479 | IY24: =MIN(HX24,IX24) -> 875 | IZ24: =MIN(1.2*$GA$14*(IG24-IM24),HW24) -> 0 | JA24: =IY24/HZ24 -> 350 | JB24: =IZ24/(HZ24-1+1E-50) -> 0 | JC24: =JC$22*MIN(JA24:JB24)+(1-JC$22)*IA24 -> 0 | JD24: =JC24*(HZ24-1) -> 0 | JE24: =JC24*HZ24 -> 0 | JF24: =JC24/1000*$HY24 -> 0 | JG24: =JD24/1000*$HY24 -> 0 | JH24: =JE24/1000*$HY24 -> 0 | JI24: =(IX24-JE24) -> 5228.0479 | JJ24: =IP24/1000*$HY24 -> 0 | JK24: =IV24/1000*$HY24 -> 0 | JL24: =IX24/1000*$HY24 -> 0 | JM24: =(JI24>0)*JI24/1000*$HY24 -> 0 | JN24: =(IR24+IO24+IW24)/1000*$HY24 -> 0 | JO24: =MAX(1.2*$GA$15*($IM$17-IF24)-IN24,0) -> 771 | JP24: =JD24/1000*$HY24 -> 0 | JR24: =IO24/1000*$HY24 -> 0 | JS24: =(IO24-IN24)/1000*$HY24 -> 0 | JW24: =$HU$21 -> 2.5 | JX24: =$HV$21 -> 350 | JY24: =JX24*(JW24-1+1E-50) -> 525 | JZ24: =JW24*JX24 -> 875 | KA24: 0 | KB24: =JW24 -> 2.5 | KC24: 0 | KD24: 0 | KE24: 0 | KF24: =$ID$21 -> 0.56785714 | KG24: =MAX($KG$21,KH24) -> 21 | KH24: =$C24 -> -20.5 | KI24: =MAX(KG24-KF24*(KG24-KH24),KN24) -> 0 | KJ24: =KH24+$GA$14/$GA$15*(KG24-KI24) -> 2.8773585 | KK24: =MAX(KI24-KC24*(KB24-1)/(1.2*$GA$14),KO24) -> 0 | KL24: =KJ24+0*(KJ24+KB24*KC24/(1.2*$GA$15)) -> 2.8773585 | KM24: =MAX(KL24,$IM$17) -> 15 | KN24: =$IJ$17 -> 0 | KO24: =($FT$9=1)*$KK$17+($FT$9=0)*MAX($KK$17,KH24) -> 0 | KP24: =1.2*$GA$14*(KG24-KI24) -> 1486.8 | KQ24: =1.2*$GA$14*(KG24-B24) -> 2938.2 | KR24: =1.2*$GA$15*(KM24-KL24) -> 771 | KS24: =KQ24-KP24-KR24 -> 680.4 | KT24: =$F24 -> 3660.3 | KU24: =$CO24 -> 529.2 | KV24: =KT24+KS24 -> 4340.7 | KW24: =MIN(1/(KU24/(KV24+1E-50)+1E-50),1) -> 1 | KX24: =KW24*KU24 -> 529.2 | KY24: =($AN$21=1)*AN24+($AL$21=1)*AL24+($AM$21=1)*AM24 -> 645.54795 | KZ24: =MAX(KQ24+KT24+KY24-KX24-KP24,1.2*$GA$15*($KO$17-KJ24)) -> 5228.0479 | LA24: =MIN(JZ24,KZ24-$KP$17*KR24) -> 875 | LB24: =MIN(1.2*$GA$14*(KI24-KO24),JY24) -> 0 | LC24: =LA24/KB24 -> 350 | LD24: =LB24/(KB24-1+1E-50) -> 0 | LE24: =LE$22*MIN(LC24:LD24)+(1-LE$22)*KC24 -> 0 | LF24: =LE24*(KB24-1) -> 0 | LG24: =LE24*KB24 -> 0 | LH24: =LE24/1000*$KA24 -> 0 | LI24: =LF24/1000*$KA24 -> 0 | LJ24: =LG24/1000*$KA24 -> 0 | LK24: =(KZ24-LG24) -> 5228.0479 | LL24: =KR24/1000*$KA24 -> 0 | LM24: =KX24/1000*$KA24 -> 0 | LN24: =KZ24/1000*$KA24 -> 0 | LO24: =(LK24>0)*LK24/1000*$KA24 -> 0 | LP24: =(KT24+KQ24+KY24)/1000*$KA24 -> 0 | LQ24: =MAX(1.2*$GA$15*($KO$17-KH24)-KP24,0) -> 771 | LR24: =LF24/1000*$KA24 -> 0 | LT24: =KQ24/1000*$KA24 -> 0 | LU24: =(KQ24-KP24)/1000*$KA24 -> 0 | LY24: =$LY$21 -> 2.5 | LZ24: =$LZ$21 -> 350 | MA24: =LZ24*(LY24-1+1E-50) -> 525 | MB24: =LY24*LZ24 -> 875 | MC24: 0 | MD24: =LY24 -> 2.5 | ME24: 350 | MF24: 525 | MG24: 875 | MH24: =$MH$21 -> 0.56785714 | MI24: =MAX($MI$21,ML24) -> 21 | MJ24: =MAX(MI24-MF24/(1.2*$GA$14),MP24) -> 13.584746 | MK24: =MAX(MJ24-MH24*(MJ24-ML24),$MN$17) -> 0 | ML24: =$C24 -> -20.5 | MM24: =MIN(ML24+$GA$14/$GA$15*(MJ24-MK24),$MO$17) -> -5.3773585 | MN24: =MM24+0*(MM24+MG24/(1.2*$GA$15)) -> -5.3773585 | MO24: =MAX(MN24,$MQ$17) -> 15 | MP24: =($FT$9=1)*$MM$17+($FT$9=0)*MAX($MM$17,ML24) -> 0 | MQ24: =1.2*$GA$14*(MJ24-MK24) -> 961.8 | MR24: =1.2*$GA$14*(MI24-B24) -> 2938.2 | MS24: =1.2*$GA$15*(MO24-MN24) -> 1296 | MT24: =MR24-MQ24-MS24 -> 680.4 | MU24: =$F24 -> 3660.3 | MV24: =$CO24 -> 529.2 | MW24: =MU24+MT24 -> 4340.7 | MX24: =MIN(1/(MV24/(MW24+1E-50)+1E-50),1) -> 1 | MY24: =MX24*MV24 -> 529.2 | MZ24: =($AN$21=1)*AN24+($AL$21=1)*AL24+($AM$21=1)*AM24 -> 645.54795 | NA24: =MAX(MR24+MU24+MZ24-MY24-MQ24,1.2*$GA$15*($MQ$17-MM24)) -> 5753.0479 | NB24: =MIN(MB24,NA24-$MR$17*MS24) -> 875 | NC24: =MIN(1.2*$GA$14*(MI24-MP24),MA24) -> 525 | ND24: =NB24/MD24 -> 350 | NE24: =NC24/(MD24-1+1E-50) -> 350 | NF24: =NF$22*MIN(ND24:NE24)+(1-NF$22)*ME24 -> 350 | NG24: =NF24*(MD24-1) -> 525 | NH24: =NF24*MD24 -> 875 | NI24: =NF24/1000*$MC24 -> 0 | NJ24: =NG24/1000*$MC24 -> 0 | NK24: =NH24/1000*$MC24 -> 0 | NL24: =(NA24-NH24) -> 4878.0479 | NM24: =MS24/1000*$MC24 -> 0 | NN24: =MY24/1000*$MC24 -> 0 | NO24: =NA24/1000*$MC24 -> 0 | NP24: =(NL24>0)*NL24/1000*$MC24 -> 0 | NQ24: =(MU24+MR24+MZ24)/1000*$MC24 -> 0 | NR24: =MAX(1.2*$GA$15*($MQ$17-ML24)-MQ24,0) -> 1296 | NS24: =NG24/1000*$MC24 -> 0 | NT24: =(MU24+MR24+MZ24) -> 7244.0479 | NU24: =MR24/1000*$MC24 -> 0 | NV24: =(MR24-MQ24)/1000*$MC24 -> 0
