Workbook
Name Energialaji_1: Laskenta!$B$2:$B$20
Name Energialaji_2: Laskenta!$C$3:$C$20
Name Energialaji_3: Laskenta!$D$3:$D$20

Sheet Laskuri
C1: TOIMENPITEEN TALOUDELLINEN KANNATTAVUUS
B4: HANKKEEN KUVAUS:
B5: PÄIVÄMÄÄRÄ/TEKIJÄ:
B6: LASKENTA-ARVOT
B7: Tarkasteluaika (max 30 vuotta) | E7: a
B8: Reaalinen laskentakorko, %
B10: TOIMENPITEEN SÄÄSTÖVAIKUTUKSET
B11: Energialaji 1 | C11: Energian säästö | E11: MWh/a
C12: Yksikkö hinta | E12: €/MWh
C13: Energian hinnan nousu, % | E13: /a
B14: Energialaji 2 | C14: Energian säästö | E14: MWh/a
C15: Yksikkö hinta | E15: €/MWh
C16: Energian hinnan nousu, % | E16: /a
B17: Energialaji 3 | C17: Energian säästö | E17: MWh/a
C18: Yksikkö hinta | E18: €/MWh
C19: Energian hinnan nousu, % | E19: /a
B20: Vesi | C20: Säästö | E20: m³/a
C21: Hinta | E21: €/m³
C22: Veden hinnan nousu, % | E22: /a
B23: Muut kuin energiaan liittyvät säästöt vuositasolla | E23: €/a
B25: TOIMENPITEEN KUSTANNUKSET
B26: Investoinnin suuruus | E26: €
B27: Huolto- ja korjauskustannukset vuosittain | E27: €/a
B29: Kertaluonteinen huolto- ja korjauskustannukset | E29: €/a
B30: Huolto- ja korjauskustannuksen toteutusvuosi | E30: a
B32: TALOUDELLISET TUNNUSLUVUT LASKENNAN TULOKSENA
B33: Energia- ja vesikustannusten sekä muiden kustannusten nettosäästöt vuodessa | D33: =D11*D12+D14*D15+D17*D18+D20*D21+D23 -> 0 | E33: €/a
B34: Toimenpiteen nettosäästö vuodessa | D34: =D11*D12+D14*D15+D17*D18+D20*D21+D23-D27 -> 0 | E34: €/a
B35: Suora takaisinmaksuaika | D35: =D26/D34 -> #DIV/0! | E35: a
B36: Nettonykyarvo | D36: =VLOOKUP($D$7,Laskenta!$H:$N,7,0) -> 0 | E36: €
B37: Sisäinen korkokanta | D37: =IRR(OFFSET(Laskenta!K3,0,0,D7+1,1),0) -> #NUM!
B39: NETTONYKYARVON KUVAAJA:

Sheet Laskenta
B2: Energialaji 1 | C2: Energialaji 2 | D2: Energialaji 3 | E2: Kulutuksen yksikkö | F2: Kustannusten yksikkö | H2: Vuosi | I2: Investoinnit vuosittain € | J2: Säästöt vuodessa € | K2: Nettosäästö € | L2: Diskonttaustekijä | M2: Diskontattu säästö € | N2: NPV | O2: 0 | P2: Feikki X akseli
B3: Energialaji 1 | C3: Energialaji 2 | D3: Energialaji 3 | E3: - | F3: - | H3: 0 | I3: =Laskuri!D26 -> 0 | J3: 0 | K3: =J3-I3 -> 0 | L3: =1/(1+Laskuri!$D$8)^Laskenta!H3 -> 1 | M3: =L3*J3-I3 -> 0 | N3: =M3 -> 0 | O3: 0 | P3: #N/A | T3: =MAX(IMABS(MIN(N3:N103)),IMABS(MAX(N3:N103))) -> 0
B4: Kaukolämpö | C4: Kaukolämpö | D4: Kaukolämpö | E4: MWh/a | F4: €/MWh | H4: 1 | I4: =IF(H4=Laskuri!$D$30,Laskuri!$D$29,0) -> 0 | J4: =Laskuri!$D$11*Laskuri!$D$12*(1+Laskuri!$D$13)^Laskenta!H4+Laskuri!$D$14*Laskuri!$D$15*(1+Laskuri!$D$16)^Laskenta!H4+Laskuri!$D$17*Laskuri!$D$18*(1+Laskuri!$D$19)^H4+Laskuri!$D$20*Laskuri!$D$21*(1+Laskuri!$D$22)^Laskenta!H4+Laskuri!$D$23-Laskuri!$D$27 -> 0 | K4: =J4-I4 -> 0 | L4: =1/(1+Laskuri!$D$8)^Laskenta!H4 -> 1 | M4: =L4*J4-I4 -> 0 | N4: =N3+M4 -> 0 | O4: 0 | P4: #N/A
B5: Höyry | C5: Höyry | D5: Höyry | E5: MWh/a | F5: €/MWh | H5: 2 | I5: =IF(H5=Laskuri!$D$30,Laskuri!$D$29,0) -> 0 | J5: =Laskuri!$D$11*Laskuri!$D$12*(1+Laskuri!$D$13)^Laskenta!H5+Laskuri!$D$14*Laskuri!$D$15*(1+Laskuri!$D$16)^Laskenta!H5+Laskuri!$D$17*Laskuri!$D$18*(1+Laskuri!$D$19)^H5+Laskuri!$D$20*Laskuri!$D$21*(1+Laskuri!$D$22)^Laskenta!H5+Laskuri!$D$23-Laskuri!$D$27 -> 0 | K5: =J5-I5 -> 0 | L5: =1/(1+Laskuri!$D$8)^Laskenta!H5 -> 1 | M5: =L5*J5-I5 -> 0 | N5: =N4+M5 -> 0 | O5: 0 | P5: #N/A
B6: Sähkö | C6: Sähkö | D6: Sähkö | E6: MWh/a | F6: €/MWh | H6: 3 | I6: =IF(H6=Laskuri!$D$30,Laskuri!$D$29,0) -> 0 | J6: =Laskuri!$D$11*Laskuri!$D$12*(1+Laskuri!$D$13)^Laskenta!H6+Laskuri!$D$14*Laskuri!$D$15*(1+Laskuri!$D$16)^Laskenta!H6+Laskuri!$D$17*Laskuri!$D$18*(1+Laskuri!$D$19)^H6+Laskuri!$D$20*Laskuri!$D$21*(1+Laskuri!$D$22)^Laskenta!H6+Laskuri!$D$23-Laskuri!$D$27 -> 0 | K6: =J6-I6 -> 0 | L6: =1/(1+Laskuri!$D$8)^Laskenta!H6 -> 1 | M6: =L6*J6-I6 -> 0 | N6: =N5+M6 -> 0 | O6: 0 | P6: #N/A
B7: Raskas polttoöljy | C7: Raskas polttoöljy | D7: Raskas polttoöljy | E7: MWh/a | F7: €/MWh | H7: 4 | I7: =IF(H7=Laskuri!$D$30,Laskuri!$D$29,0) -> 0 | J7: =Laskuri!$D$11*Laskuri!$D$12*(1+Laskuri!$D$13)^Laskenta!H7+Laskuri!$D$14*Laskuri!$D$15*(1+Laskuri!$D$16)^Laskenta!H7+Laskuri!$D$17*Laskuri!$D$18*(1+Laskuri!$D$19)^H7+Laskuri!$D$20*Laskuri!$D$21*(1+Laskuri!$D$22)^Laskenta!H7+Laskuri!$D$23-Laskuri!$D$27 -> 0 | K7: =J7-I7 -> 0 | L7: =1/(1+Laskuri!$D$8)^Laskenta!H7 -> 1 | M7: =L7*J7-I7 -> 0 | N7: =N6+M7 -> 0 | O7: 0 | P7: #N/A
B8: Kevyt polttoöljy | C8: Kevyt polttoöljy | D8: Kevyt polttoöljy | E8: MWh/a | F8: €/MWh | H8: 5 | I8: =IF(H8=Laskuri!$D$30,Laskuri!$D$29,0) -> 0 | J8: =Laskuri!$D$11*Laskuri!$D$12*(1+Laskuri!$D$13)^Laskenta!H8+Laskuri!$D$14*Laskuri!$D$15*(1+Laskuri!$D$16)^Laskenta!H8+Laskuri!$D$17*Laskuri!$D$18*(1+Laskuri!$D$19)^H8+Laskuri!$D$20*Laskuri!$D$21*(1+Laskuri!$D$22)^Laskenta!H8+Laskuri!$D$23-Laskuri!$D$27 -> 0 | K8: =J8-I8 -> 0 | L8: =1/(1+Laskuri!$D$8)^Laskenta!H8 -> 1 | M8: =L8*J8-I8 -> 0 | N8: =N7+M8 -> 0 | O8: 0 | P8: #N/A
B9: Maakaasu | C9: Maakaasu | D9: Maakaasu | E9: MWh/a | F9: €/MWh | H9: 6 | I9: =IF(H9=Laskuri!$D$30,Laskuri!$D$29,0) -> 0 | J9: =Laskuri!$D$11*Laskuri!$D$12*(1+Laskuri!$D$13)^Laskenta!H9+Laskuri!$D$14*Laskuri!$D$15*(1+Laskuri!$D$16)^Laskenta!H9+Laskuri!$D$17*Laskuri!$D$18*(1+Laskuri!$D$19)^H9+Laskuri!$D$20*Laskuri!$D$21*(1+Laskuri!$D$22)^Laskenta!H9+Laskuri!$D$23-Laskuri!$D$27 -> 0 | K9: =J9-I9 -> 0 | L9: =1/(1+Laskuri!$D$8)^Laskenta!H9 -> 1 | M9: =L9*J9-I9 -> 0 | N9: =N8+M9 -> 0 | O9: 0 | P9: #N/A
B10: Nestekaasu | C10: Nestekaasu | D10: Nestekaasu | E10: MWh/a | F10: €/MWh | H10: 7 | I10: =IF(H10=Laskuri!$D$30,Laskuri!$D$29,0) -> 0 | J10: =Laskuri!$D$11*Laskuri!$D$12*(1+Laskuri!$D$13)^Laskenta!H10+Laskuri!$D$14*Laskuri!$D$15*(1+Laskuri!$D$16)^Laskenta!H10+Laskuri!$D$17*Laskuri!$D$18*(1+Laskuri!$D$19)^H10+Laskuri!$D$20*Laskuri!$D$21*(1+Laskuri!$D$22)^Laskenta!H10+Laskuri!$D$23-Laskuri!$D$27 -> 0 | K10: =J10-I10 -> 0 | L10: =1/(1+Laskuri!$D$8)^Laskenta!H10 -> 1 | M10: =L10*J10-I10 -> 0 | N10: =N9+M10 -> 0 | O10: 0 | P10: #N/A
B11: Turve | C11: Turve | D11: Turve | E11: MWh/a | F11: €/MWh | H11: 8 | I11: =IF(H11=Laskuri!$D$30,Laskuri!$D$29,0) -> 0 | J11: =Laskuri!$D$11*Laskuri!$D$12*(1+Laskuri!$D$13)^Laskenta!H11+Laskuri!$D$14*Laskuri!$D$15*(1+Laskuri!$D$16)^Laskenta!H11+Laskuri!$D$17*Laskuri!$D$18*(1+Laskuri!$D$19)^H11+Laskuri!$D$20*Laskuri!$D$21*(1+Laskuri!$D$22)^Laskenta!H11+Laskuri!$D$23-Laskuri!$D$27 -> 0 | K11: =J11-I11 -> 0 | L11: =1/(1+Laskuri!$D$8)^Laskenta!H11 -> 1 | M11: =L11*J11-I11 -> 0 | N11: =N10+M11 -> 0 | O11: 0 | P11: #N/A
B12: Kivihiili | C12: Kivihiili | D12: Kivihiili | E12: MWh/a | F12: €/MWh | H12: 9 | I12: =IF(H12=Laskuri!$D$30,Laskuri!$D$29,0) -> 0 | J12: =Laskuri!$D$11*Laskuri!$D$12*(1+Laskuri!$D$13)^Laskenta!H12+Laskuri!$D$14*Laskuri!$D$15*(1+Laskuri!$D$16)^Laskenta!H12+Laskuri!$D$17*Laskuri!$D$18*(1+Laskuri!$D$19)^H12+Laskuri!$D$20*Laskuri!$D$21*(1+Laskuri!$D$22)^Laskenta!H12+Laskuri!$D$23-Laskuri!$D$27 -> 0 | K12: =J12-I12 -> 0 | L12: =1/(1+Laskuri!$D$8)^Laskenta!H12 -> 1 | M12: =L12*J12-I12 -> 0 | N12: =N11+M12 -> 0 | O12: 0 | P12: #N/A
B13: Koksi | C13: Koksi | D13: Koksi | E13: MWh/a | F13: €/MWh | H13: 10 | I13: =IF(H13=Laskuri!$D$30,Laskuri!$D$29,0) -> 0 | J13: =Laskuri!$D$11*Laskuri!$D$12*(1+Laskuri!$D$13)^Laskenta!H13+Laskuri!$D$14*Laskuri!$D$15*(1+Laskuri!$D$16)^Laskenta!H13+Laskuri!$D$17*Laskuri!$D$18*(1+Laskuri!$D$19)^H13+Laskuri!$D$20*Laskuri!$D$21*(1+Laskuri!$D$22)^Laskenta!H13+Laskuri!$D$23-Laskuri!$D$27 -> 0 | K13: =J13-I13 -> 0 | L13: =1/(1+Laskuri!$D$8)^Laskenta!H13 -> 1 | M13: =L13*J13-I13 -> 0 | N13: =N12+M13 -> 0 | O13: 0 | P13: #N/A
B14: Prosessikaasu | C14: Prosessikaasu | D14: Prosessikaasu | E14: MWh/a | F14: €/MWh | H14: 11 | I14: =IF(H14=Laskuri!$D$30,Laskuri!$D$29,0) -> 0 | J14: =Laskuri!$D$11*Laskuri!$D$12*(1+Laskuri!$D$13)^Laskenta!H14+Laskuri!$D$14*Laskuri!$D$15*(1+Laskuri!$D$16)^Laskenta!H14+Laskuri!$D$17*Laskuri!$D$18*(1+Laskuri!$D$19)^H14+Laskuri!$D$20*Laskuri!$D$21*(1+Laskuri!$D$22)^Laskenta!H14+Laskuri!$D$23-Laskuri!$D$27 -> 0 | K14: =J14-I14 -> 0 | L14: =1/(1+Laskuri!$D$8)^Laskenta!H14 -> 1 | M14: =L14*J14-I14 -> 0 | N14: =N13+M14 -> 0 | O14: 0 | P14: #N/A
B15: PuuHake | C15: PuuHake | D15: PuuHake | E15: MWh/a | F15: €/MWh | H15: 12 | I15: =IF(H15=Laskuri!$D$30,Laskuri!$D$29,0) -> 0 | J15: =Laskuri!$D$11*Laskuri!$D$12*(1+Laskuri!$D$13)^Laskenta!H15+Laskuri!$D$14*Laskuri!$D$15*(1+Laskuri!$D$16)^Laskenta!H15+Laskuri!$D$17*Laskuri!$D$18*(1+Laskuri!$D$19)^H15+Laskuri!$D$20*Laskuri!$D$21*(1+Laskuri!$D$22)^Laskenta!H15+Laskuri!$D$23-Laskuri!$D$27 -> 0 | K15: =J15-I15 -> 0 | L15: =1/(1+Laskuri!$D$8)^Laskenta!H15 -> 1 | M15: =L15*J15-I15 -> 0 | N15: =N14+M15 -> 0 | O15: 0 | P15: #N/A
... B20: Kaukojäähdytys | C20: Kaukojäähdytys | D20: Kaukojäähdytys | E20: MWh/a | F20: €/MWh | H20: 17 | I20: =IF(H20=Laskuri!$D$30,Laskuri!$D$29,0) -> 0 | J20: =Laskuri!$D$11*Laskuri!$D$12*(1+Laskuri!$D$13)^Laskenta!H20+Laskuri!$D$14*Laskuri!$D$15*(1+Laskuri!$D$16)^Laskenta!H20+Laskuri!$D$17*Laskuri!$D$18*(1+Laskuri!$D$19)^H20+Laskuri!$D$20*Laskuri!$D$21*(1+Laskuri!$D$22)^Laskenta!H20+Laskuri!$D$23-Laskuri!$D$27 -> 0 | K20: =J20-I20 -> 0 | L20: =1/(1+Laskuri!$D$8)^Laskenta!H20 -> 1 | M20: =L20*J20-I20 -> 0 | N20: =N19+M20 -> 0 | O20: 0 | P20: #N/A
H21: 18 | I21: =IF(H21=Laskuri!$D$30,Laskuri!$D$29,0) -> 0 | J21: =Laskuri!$D$11*Laskuri!$D$12*(1+Laskuri!$D$13)^Laskenta!H21+Laskuri!$D$14*Laskuri!$D$15*(1+Laskuri!$D$16)^Laskenta!H21+Laskuri!$D$17*Laskuri!$D$18*(1+Laskuri!$D$19)^H21+Laskuri!$D$20*Laskuri!$D$21*(1+Laskuri!$D$22)^Laskenta!H21+Laskuri!$D$23-Laskuri!$D$27 -> 0 | K21: =J21-I21 -> 0 | L21: =1/(1+Laskuri!$D$8)^Laskenta!H21 -> 1 | M21: =L21*J21-I21 -> 0 | N21: =N20+M21 -> 0 | O21: 0 | P21: #N/A
H22: 19 | I22: =IF(H22=Laskuri!$D$30,Laskuri!$D$29,0) -> 0 | J22: =Laskuri!$D$11*Laskuri!$D$12*(1+Laskuri!$D$13)^Laskenta!H22+Laskuri!$D$14*Laskuri!$D$15*(1+Laskuri!$D$16)^Laskenta!H22+Laskuri!$D$17*Laskuri!$D$18*(1+Laskuri!$D$19)^H22+Laskuri!$D$20*Laskuri!$D$21*(1+Laskuri!$D$22)^Laskenta!H22+Laskuri!$D$23-Laskuri!$D$27 -> 0 | K22: =J22-I22 -> 0 | L22: =1/(1+Laskuri!$D$8)^Laskenta!H22 -> 1 | M22: =L22*J22-I22 -> 0 | N22: =N21+M22 -> 0 | O22: 0 | P22: #N/A
B23: Vesi | E23: m³/a | F23: €/m³ | H23: 20 | I23: =IF(H23=Laskuri!$D$30,Laskuri!$D$29,0) -> 0 | J23: =Laskuri!$D$11*Laskuri!$D$12*(1+Laskuri!$D$13)^Laskenta!H23+Laskuri!$D$14*Laskuri!$D$15*(1+Laskuri!$D$16)^Laskenta!H23+Laskuri!$D$17*Laskuri!$D$18*(1+Laskuri!$D$19)^H23+Laskuri!$D$20*Laskuri!$D$21*(1+Laskuri!$D$22)^Laskenta!H23+Laskuri!$D$23-Laskuri!$D$27 -> 0 | K23: =J23-I23 -> 0 | L23: =1/(1+Laskuri!$D$8)^Laskenta!H23 -> 1 | M23: =L23*J23-I23 -> 0 | N23: =N22+M23 -> 0 | O23: 0 | P23: #N/A
H24: 21 | I24: =IF(H24=Laskuri!$D$30,Laskuri!$D$29,0) -> 0 | J24: =Laskuri!$D$11*Laskuri!$D$12*(1+Laskuri!$D$13)^Laskenta!H24+Laskuri!$D$14*Laskuri!$D$15*(1+Laskuri!$D$16)^Laskenta!H24+Laskuri!$D$17*Laskuri!$D$18*(1+Laskuri!$D$19)^H24+Laskuri!$D$20*Laskuri!$D$21*(1+Laskuri!$D$22)^Laskenta!H24+Laskuri!$D$23-Laskuri!$D$27 -> 0 | K24: =J24-I24 -> 0 | L24: =1/(1+Laskuri!$D$8)^Laskenta!H24 -> 1 | M24: =L24*J24-I24 -> 0 | N24: =N23+M24 -> 0 | O24: 0 | P24: #N/A
H25: 22 | I25: =IF(H25=Laskuri!$D$30,Laskuri!$D$29,0) -> 0 | J25: =Laskuri!$D$11*Laskuri!$D$12*(1+Laskuri!$D$13)^Laskenta!H25+Laskuri!$D$14*Laskuri!$D$15*(1+Laskuri!$D$16)^Laskenta!H25+Laskuri!$D$17*Laskuri!$D$18*(1+Laskuri!$D$19)^H25+Laskuri!$D$20*Laskuri!$D$21*(1+Laskuri!$D$22)^Laskenta!H25+Laskuri!$D$23-Laskuri!$D$27 -> 0 | K25: =J25-I25 -> 0 | L25: =1/(1+Laskuri!$D$8)^Laskenta!H25 -> 1 | M25: =L25*J25-I25 -> 0 | N25: =N24+M25 -> 0 | O25: 0 | P25: #N/A
H26: 23 | I26: =IF(H26=Laskuri!$D$30,Laskuri!$D$29,0) -> 0 | J26: =Laskuri!$D$11*Laskuri!$D$12*(1+Laskuri!$D$13)^Laskenta!H26+Laskuri!$D$14*Laskuri!$D$15*(1+Laskuri!$D$16)^Laskenta!H26+Laskuri!$D$17*Laskuri!$D$18*(1+Laskuri!$D$19)^H26+Laskuri!$D$20*Laskuri!$D$21*(1+Laskuri!$D$22)^Laskenta!H26+Laskuri!$D$23-Laskuri!$D$27 -> 0 | K26: =J26-I26 -> 0 | L26: =1/(1+Laskuri!$D$8)^Laskenta!H26 -> 1 | M26: =L26*J26-I26 -> 0 | N26: =N25+M26 -> 0 | O26: 0 | P26: #N/A
H27: 24 | I27: =IF(H27=Laskuri!$D$30,Laskuri!$D$29,0) -> 0 | J27: =Laskuri!$D$11*Laskuri!$D$12*(1+Laskuri!$D$13)^Laskenta!H27+Laskuri!$D$14*Laskuri!$D$15*(1+Laskuri!$D$16)^Laskenta!H27+Laskuri!$D$17*Laskuri!$D$18*(1+Laskuri!$D$19)^H27+Laskuri!$D$20*Laskuri!$D$21*(1+Laskuri!$D$22)^Laskenta!H27+Laskuri!$D$23-Laskuri!$D$27 -> 0 | K27: =J27-I27 -> 0 | L27: =1/(1+Laskuri!$D$8)^Laskenta!H27 -> 1 | M27: =L27*J27-I27 -> 0 | N27: =N26+M27 -> 0 | O27: 0 | P27: #N/A
H28: 25 | I28: =IF(H28=Laskuri!$D$30,Laskuri!$D$29,0) -> 0 | J28: =Laskuri!$D$11*Laskuri!$D$12*(1+Laskuri!$D$13)^Laskenta!H28+Laskuri!$D$14*Laskuri!$D$15*(1+Laskuri!$D$16)^Laskenta!H28+Laskuri!$D$17*Laskuri!$D$18*(1+Laskuri!$D$19)^H28+Laskuri!$D$20*Laskuri!$D$21*(1+Laskuri!$D$22)^Laskenta!H28+Laskuri!$D$23-Laskuri!$D$27 -> 0 | K28: =J28-I28 -> 0 | L28: =1/(1+Laskuri!$D$8)^Laskenta!H28 -> 1 | M28: =L28*J28-I28 -> 0 | N28: =N27+M28 -> 0 | O28: 0 | P28: #N/A
H29: 26 | I29: =IF(H29=Laskuri!$D$30,Laskuri!$D$29,0) -> 0 | J29: =Laskuri!$D$11*Laskuri!$D$12*(1+Laskuri!$D$13)^Laskenta!H29+Laskuri!$D$14*Laskuri!$D$15*(1+Laskuri!$D$16)^Laskenta!H29+Laskuri!$D$17*Laskuri!$D$18*(1+Laskuri!$D$19)^H29+Laskuri!$D$20*Laskuri!$D$21*(1+Laskuri!$D$22)^Laskenta!H29+Laskuri!$D$23-Laskuri!$D$27 -> 0 | K29: =J29-I29 -> 0 | L29: =1/(1+Laskuri!$D$8)^Laskenta!H29 -> 1 | M29: =L29*J29-I29 -> 0 | N29: =N28+M29 -> 0 | O29: 0 | P29: #N/A
H30: 27 | I30: =IF(H30=Laskuri!$D$30,Laskuri!$D$29,0) -> 0 | J30: =Laskuri!$D$11*Laskuri!$D$12*(1+Laskuri!$D$13)^Laskenta!H30+Laskuri!$D$14*Laskuri!$D$15*(1+Laskuri!$D$16)^Laskenta!H30+Laskuri!$D$17*Laskuri!$D$18*(1+Laskuri!$D$19)^H30+Laskuri!$D$20*Laskuri!$D$21*(1+Laskuri!$D$22)^Laskenta!H30+Laskuri!$D$23-Laskuri!$D$27 -> 0 | K30: =J30-I30 -> 0 | L30: =1/(1+Laskuri!$D$8)^Laskenta!H30 -> 1 | M30: =L30*J30-I30 -> 0 | N30: =N29+M30 -> 0 | O30: 0 | P30: #N/A
H31: 28 | I31: =IF(H31=Laskuri!$D$30,Laskuri!$D$29,0) -> 0 | J31: =Laskuri!$D$11*Laskuri!$D$12*(1+Laskuri!$D$13)^Laskenta!H31+Laskuri!$D$14*Laskuri!$D$15*(1+Laskuri!$D$16)^Laskenta!H31+Laskuri!$D$17*Laskuri!$D$18*(1+Laskuri!$D$19)^H31+Laskuri!$D$20*Laskuri!$D$21*(1+Laskuri!$D$22)^Laskenta!H31+Laskuri!$D$23-Laskuri!$D$27 -> 0 | K31: =J31-I31 -> 0 | L31: =1/(1+Laskuri!$D$8)^Laskenta!H31 -> 1 | M31: =L31*J31-I31 -> 0 | N31: =N30+M31 -> 0 | O31: 0 | P31: #N/A
H32: 29 | I32: =IF(H32=Laskuri!$D$30,Laskuri!$D$29,0) -> 0 | J32: =Laskuri!$D$11*Laskuri!$D$12*(1+Laskuri!$D$13)^Laskenta!H32+Laskuri!$D$14*Laskuri!$D$15*(1+Laskuri!$D$16)^Laskenta!H32+Laskuri!$D$17*Laskuri!$D$18*(1+Laskuri!$D$19)^H32+Laskuri!$D$20*Laskuri!$D$21*(1+Laskuri!$D$22)^Laskenta!H32+Laskuri!$D$23-Laskuri!$D$27 -> 0 | K32: =J32-I32 -> 0 | L32: =1/(1+Laskuri!$D$8)^Laskenta!H32 -> 1 | M32: =L32*J32-I32 -> 0 | N32: =N31+M32 -> 0 | O32: 0 | P32: #N/A
H33: 30 | I33: =IF(H33=Laskuri!$D$30,Laskuri!$D$29,0) -> 0 | J33: =Laskuri!$D$11*Laskuri!$D$12*(1+Laskuri!$D$13)^Laskenta!H33+Laskuri!$D$14*Laskuri!$D$15*(1+Laskuri!$D$16)^Laskenta!H33+Laskuri!$D$17*Laskuri!$D$18*(1+Laskuri!$D$19)^H33+Laskuri!$D$20*Laskuri!$D$21*(1+Laskuri!$D$22)^Laskenta!H33+Laskuri!$D$23-Laskuri!$D$27 -> 0 | K33: =J33-I33 -> 0 | L33: =1/(1+Laskuri!$D$8)^Laskenta!H33 -> 1 | M33: =L33*J33-I33 -> 0 | N33: =N32+M33 -> 0 | O33: 0 | P33: #N/A
H34: 31 | I34: =IF(H34=Laskuri!$D$30,Laskuri!$D$29,0) -> 0 | J34: =Laskuri!$D$11*Laskuri!$D$12*(1+Laskuri!$D$13)^Laskenta!H34+Laskuri!$D$14*Laskuri!$D$15*(1+Laskuri!$D$16)^Laskenta!H34+Laskuri!$D$17*Laskuri!$D$18*(1+Laskuri!$D$19)^H34+Laskuri!$D$20*Laskuri!$D$21*(1+Laskuri!$D$22)^Laskenta!H34+Laskuri!$D$23-Laskuri!$D$27 -> 0 | K34: =J34-I34 -> 0 | L34: =1/(1+Laskuri!$D$8)^Laskenta!H34 -> 1 | M34: =L34*J34-I34 -> 0 | N34: =N33+M34 -> 0 | O34: 0 | P34: #N/A
H35: 32 | I35: =IF(H35=Laskuri!$D$30,Laskuri!$D$29,0) -> 0 | J35: =Laskuri!$D$11*Laskuri!$D$12*(1+Laskuri!$D$13)^Laskenta!H35+Laskuri!$D$14*Laskuri!$D$15*(1+Laskuri!$D$16)^Laskenta!H35+Laskuri!$D$17*Laskuri!$D$18*(1+Laskuri!$D$19)^H35+Laskuri!$D$20*Laskuri!$D$21*(1+Laskuri!$D$22)^Laskenta!H35+Laskuri!$D$23-Laskuri!$D$27 -> 0 | K35: =J35-I35 -> 0 | L35: =1/(1+Laskuri!$D$8)^Laskenta!H35 -> 1 | M35: =L35*J35-I35 -> 0 | N35: =N34+M35 -> 0 | O35: 0 | P35: #N/A
... H103: 100 | I103: =IF(H103=Laskuri!$D$30,Laskuri!$D$29,0) -> 0 | J103: =Laskuri!$D$11*Laskuri!$D$12*(1+Laskuri!$D$13)^Laskenta!H103+Laskuri!$D$14*Laskuri!$D$15*(1+Laskuri!$D$16)^Laskenta!H103+Laskuri!$D$17*Laskuri!$D$18*(1+Laskuri!$D$19)^H103+Laskuri!$D$20*Laskuri!$D$21*(1+Laskuri!$D$22)^Laskenta!H103+Laskuri!$D$23-Laskuri!$D$27 -> 0 | K103: =J103-I103 -> 0 | L103: =1/(1+Laskuri!$D$8)^Laskenta!H103 -> 1 | M103: =L103*J103-I103 -> 0 | N103: =N102+M103 -> 0 | O103: 0 | P103: #N/A
